View In:
ArcGIS JavaScript
ArcGIS Online Map Viewer
ArcGIS Earth
Service Description: This study aimed to inform state land management by conducting a suitability analysis on land in Delaware that may have the potential for future marsh migration under different sea level rise scenarios. This study was conducted through a simplistic elevation-based GIS model that incorporated elevation, the Delaware 2 ft, 4 ft, and 7 ft SLR scenarios, soil, slope, land use/land cover (LULC), and distance to tidal wetlands. The model excluded areas of impervious surface, incompatible LULC, open water, as well as the current extent of tidal wetland areas. This model did not incorporate data on accretion, erosion, or hydrodynamic water flow. The final layer includes five categories: areas receiving a score of zero are existing tidal wetlands or open water for marsh migration, scores between one and three are least suitable for migration, four to six are less suitable, seven to nine are suitable, and ten to twelve are highly suitable.
Name: Environmental/DE_MarshMigration_4ft_SLR
Description: This study aimed to inform state land management by conducting a suitability analysis on land in Delaware that may have the potential for future marsh migration under different sea level rise scenarios. This study was conducted through a simplistic elevation-based GIS model that incorporated elevation, the Delaware 2 ft, 4 ft, and 7 ft SLR scenarios, soil, slope, land use/land cover (LULC), and distance to tidal wetlands. The model excluded areas of impervious surface, incompatible LULC, open water, as well as the current extent of tidal wetland areas. This model did not incorporate data on accretion, erosion, or hydrodynamic water flow. The final layer includes five categories: areas receiving a score of zero are existing tidal wetlands or open water for marsh migration, scores between one and three are least suitable for migration, four to six are less suitable, seven to nine are suitable, and ten to twelve are highly suitable.
Single Fused Map Cache: false
Extent:
XMin: -8435890.435115496
YMin: 4643324.990729111
XMax: -8353990.435115496
YMax: 4838194.990729111
Spatial Reference: 102100
(3857)
LatestVCSWkid(0)
Initial Extent:
XMin: -8435890.435115496
YMin: 4643324.990729111
XMax: -8353990.435115496
YMax: 4838194.990729111
Spatial Reference: 102100
(3857)
LatestVCSWkid(0)
Full Extent:
XMin: -8435890.435115496
YMin: 4643324.990729111
XMax: -8353990.435115496
YMax: 4838194.990729111
Spatial Reference: 102100
(3857)
LatestVCSWkid(0)
Pixel Size X: 10.0
Pixel Size Y: 10.0
Band Count: 1
Pixel Type: U8
RasterFunction Infos: {"rasterFunctionInfos": [
{
"name": "MarshMigration Categories",
"description": "Symbology for the marsh migration suitability categories.",
"help": "Use this raster function template to change the colors used for the marsh migration suitability categories."
},
{
"name": "None",
"description": "Make a Raster or Raster Dataset into a Function Raster Dataset.",
"help": ""
}
]}
Mensuration Capabilities: Basic
Inspection Capabilities:
Has Histograms: true
Has Colormap: false
Has Multi Dimensions : false
Rendering Rule:
Min Scale: 0
Max Scale: 0
Copyright Text:
Service Data Type: esriImageServiceDataTypeGeneric
Min Values: 0
Max Values: 12
Mean Values: 2.0469948949663186
Standard Deviation Values: 4.037355235701104
Object ID Field:
Fields:
None
Default Mosaic Method: Center
Allowed Mosaic Methods:
SortField:
SortValue: null
Mosaic Operator: First
Default Compression Quality: 75
Default Resampling Method: Bilinear
Max Record Count: null
Max Image Height: 4100
Max Image Width: 15000
Max Download Image Count: null
Max Mosaic Image Count: null
Allow Raster Function: true
Allow Copy: true
Allow Analysis: true
Allow Compute TiePoints: false
Supports Statistics: false
Supports Advanced Queries: false
Use StandardizedQueries: true
Raster Type Infos:
Name: Raster Dataset
Description: Supports all ArcGIS Raster Datasets
Help:
Has Raster Attribute Table: true
Edit Fields Info: null
Ownership Based AccessControl For Rasters: null
Child Resources:
Info
Raster Attribute Table
Histograms
Statistics
Key Properties
Legend
Raster Function Infos
Supported Operations:
Export Image
Identify
Measure
Compute Histograms
Compute Statistics Histograms
Get Samples
Compute Class Statistics
Query Boundary
Compute Pixel Location
Compute Angles
Validate
Project