{ "currentVersion": 11.3, "serviceDescription": "
This study aimed to inform state land management by conducting a suitability analysis on land in Delaware that may have the potential for future marsh migration under different sea level rise scenarios. This study was conducted through a simplistic elevation-based GIS model that incorporated elevation, the Delaware 2 ft, 4 ft, and 7 ft SLR scenarios, soil, slope, land use/land cover (LULC), and distance to tidal wetlands. The model excluded areas of impervious surface, incompatible LULC, open water, as well as the current extent of tidal wetland areas. This model did not incorporate data on accretion, erosion, or hydrodynamic water flow. The final layer includes five categories: areas receiving a score of zero are existing tidal wetlands or open water for marsh migration, scores between one and three are least suitable for migration, four to six are less suitable, seven to nine are suitable, and ten to twelve are highly suitable. <\/SPAN><\/P><\/DIV><\/DIV><\/DIV>",
"name": "Environmental/DE_MarshMigration_4ft_SLR",
"description": " This study aimed to inform state land management by conducting a suitability analysis on land in Delaware that may have the potential for future marsh migration under different sea level rise scenarios. This study was conducted through a simplistic elevation-based GIS model that incorporated elevation, the Delaware 2 ft, 4 ft, and 7 ft SLR scenarios, soil, slope, land use/land cover (LULC), and distance to tidal wetlands. The model excluded areas of impervious surface, incompatible LULC, open water, as well as the current extent of tidal wetland areas. This model did not incorporate data on accretion, erosion, or hydrodynamic water flow. The final layer includes five categories: areas receiving a score of zero are existing tidal wetlands or open water for marsh migration, scores between one and three are least suitable for migration, four to six are less suitable, seven to nine are suitable, and ten to twelve are highly suitable. <\/SPAN><\/P><\/DIV><\/DIV><\/DIV>",
"extent": {
"xmin": -8435890.435115496,
"ymin": 4643324.990729111,
"xmax": -8353990.435115496,
"ymax": 4838194.990729111,
"spatialReference": {
"wkid": 102100,
"latestWkid": 3857
}
},
"initialExtent": {
"xmin": -8435890.435115496,
"ymin": 4643324.990729111,
"xmax": -8353990.435115496,
"ymax": 4838194.990729111,
"spatialReference": {
"wkid": 102100,
"latestWkid": 3857
}
},
"fullExtent": {
"xmin": -8435890.435115496,
"ymin": 4643324.990729111,
"xmax": -8353990.435115496,
"ymax": 4838194.990729111,
"spatialReference": {
"wkid": 102100,
"latestWkid": 3857
}
},
"sortableFields": "",
"bandCount": 1,
"pixelType": "U8",
"minValues": [
0
],
"maxValues": [
12
],
"meanValues": [
2.0469948949663186
],
"stdvValues": [
4.037355235701104
],
"hasMultidimensions": false,
"pixelSizeX": 10,
"pixelSizeY": 10,
"meanPixelSize": 10,
"datasetFormat": "FGDBR",
"uncompressedSize": 159598530,
"blockWidth": 128,
"blockHeight": 128,
"compressionType": "LZ77",
"bandNames": [
"Band_1"
],
"allowCopy": true,
"allowAnalysis": true,
"itemAccess": false,
"inspectionCapabilities": "",
"minPixelSize": 0,
"maxPixelSize": 0,
"copyrightText": "",
"serviceDataType": "esriImageServiceDataTypeGeneric",
"serviceSourceType": "esriImageServiceSourceTypeDataset",
"objectIdField": "",
"fields": [],
"capabilities": "Image,Metadata,Pixels,Mensuration",
"defaultMosaicMethod": "Center",
"allowedMosaicMethods": "",
"sortField": "",
"sortValue": null,
"sortAscending": true,
"mosaicOperator": "First",
"defaultCompressionQuality": 75,
"defaultResamplingMethod": "Bilinear",
"maxImageHeight": 4100,
"maxImageWidth": 15000,
"allowRasterFunction": true,
"rasterFunctionInfos": [
{
"name": "MarshMigration Categories",
"description": "Symbology for the marsh migration suitability categories.",
"help": "Use this raster function template to change the colors used for the marsh migration suitability categories."
},
{
"name": "None",
"description": "Make a Raster or Raster Dataset into a Function Raster Dataset.",
"help": ""
}
],
"rasterTypeInfos": [
{
"name": "Raster Dataset",
"description": "Supports all ArcGIS Raster Datasets",
"help": ""
}
],
"mensurationCapabilities": "Basic",
"hasHistograms": true,
"hasColormap": false,
"hasRasterAttributeTable": true,
"minScale": 0,
"maxScale": 0,
"exportTilesAllowed": false,
"supportsStatistics": false,
"supportsAdvancedQueries": false,
"editFieldsInfo": null,
"ownershipBasedAccessControlForRasters": null,
"allowComputeTiePoints": false,
"useStandardizedQueries": true,
"advancedQueryCapabilities": {
"useStandardizedQueries": true,
"supportsStatistics": false,
"supportsOrderBy": false,
"supportsDistinct": false,
"supportsPagination": false
},
"spatialReference": {
"wkid": 102100,
"latestWkid": 3857
}
}