View In:
ArcGIS JavaScript
ArcGIS Online Map Viewer
ArcGIS Earth
Service Description: The graduated flood risk maps were developed for 10-, 20-, 50-, 100-, and 500-year return periods. MBI performed spatial extent extrapolation and boundary delineation for return periods higher than 1 percent of the annual exceedance probability (AEP) for the current conditions and for all return periods for two SLR scenarios. Our team estimated wave heights in the extended floodplains using the total water level and still water elevation data and developed depth grids to quantify spatial flood depths for the five return periods of interest. This work was completed in February of 2025.
Name: Environmental/DE_FutureFloodRisk_All
Description: The graduated flood risk maps were developed for 10-, 20-, 50-, 100-, and 500-year return periods. MBI performed spatial extent extrapolation and boundary delineation for return periods higher than 1 percent of the annual exceedance probability (AEP) for the current conditions and for all return periods for two SLR scenarios. Our team estimated wave heights in the extended floodplains using the total water level and still water elevation data and developed depth grids to quantify spatial flood depths for the five return periods of interest. This work was completed in February of 2025.
Single Fused Map Cache: false
Extent:
XMin: -8436802.275672376
YMin: 4643349.205111309
XMax: -8354379.923491982
YMax: 4842654.89292437
Spatial Reference: 102100
(3857)
LatestVCSWkid(0)
Initial Extent:
XMin: -8436802.275672376
YMin: 4643349.205111309
XMax: -8354379.923491982
YMax: 4842654.89292437
Spatial Reference: 102100
(3857)
LatestVCSWkid(0)
Full Extent:
XMin: -8436802.275672376
YMin: 4643349.205111309
XMax: -8354379.923491982
YMax: 4842654.89292437
Spatial Reference: 102100
(3857)
LatestVCSWkid(0)
Pixel Size X: 10.00028538951642
Pixel Size Y: 10.000285389516371
Band Count: 1
Pixel Type: F32
RasterFunction Infos: {"rasterFunctionInfos": [{
"name": "None",
"description": "",
"help": ""
}]}
Mensuration Capabilities: Basic
Inspection Capabilities:
Has Histograms: true
Has Colormap: false
Has Multi Dimensions : false
Rendering Rule:
Min Scale: 0
Max Scale: 0
Copyright Text: DNREC Shoreline and Waterway Management Section, Michael Baker International
Service Data Type: esriImageServiceDataTypeGeneric
Min Values: 3.921875085216015
Max Values: 9.978124771732837
Mean Values: 7.7458479191748815
Standard Deviation Values: 1.4719289485903753
Object ID Field: OBJECTID
Fields:
-
OBJECTID
(
type: esriFieldTypeOID, alias: OBJECTID
)
-
Shape
(
type: esriFieldTypeGeometry, alias: Shape
)
-
Name
(
type: esriFieldTypeString, alias: Name, length: 200
)
-
MinPS
(
type: esriFieldTypeDouble, alias: MinPS
)
-
MaxPS
(
type: esriFieldTypeDouble, alias: MaxPS
)
-
LowPS
(
type: esriFieldTypeDouble, alias: LowPS
)
-
HighPS
(
type: esriFieldTypeDouble, alias: HighPS
)
-
Category
(
type: esriFieldTypeInteger, alias: Category
, Coded Values:
[0: Unknown]
, [1: Primary]
, [2: Overview]
, ...6 more...
)
-
Tag
(
type: esriFieldTypeString, alias: Tag, length: 100
)
-
GroupName
(
type: esriFieldTypeString, alias: GroupName, length: 100
)
-
ProductName
(
type: esriFieldTypeString, alias: ProductName, length: 100
)
-
CenterX
(
type: esriFieldTypeDouble, alias: CenterX
)
-
CenterY
(
type: esriFieldTypeDouble, alias: CenterY
)
-
ZOrder
(
type: esriFieldTypeInteger, alias: ZOrder
)
-
Sea_Level_Condition
(
type: esriFieldTypeString, alias: Sea_Level_Condition, length: 35
, Coded Values:
[000: Baseline]
, [171: Estimate End of Century]
, [072: Estimated Mid Century]
)
-
Return_Period
(
type: esriFieldTypeString, alias: Return_Period, length: 10
, Coded Values:
[10: 10 Year]
, [20: 20 Year]
, [50: 50 Year]
, ...2 more...
)
-
Surge_Category
(
type: esriFieldTypeString, alias: Surge_Category, length: 10
, Coded Values:
[SWEL: Storm Surge Only]
, [TWEL: Storm Surge plus wave crest]
, [DIFF: TWEL minus SWEL]
, ...1 more...
)
-
Condition_Time_Period
(
type: esriFieldTypeDateOnly, alias: Condition_Time_Period
)
-
Return_Time_Period
(
type: esriFieldTypeDateOnly, alias: Return_Time_Period
)
-
Shape_Length
(
type: esriFieldTypeDouble, alias: Shape_Length
)
-
Shape_Area
(
type: esriFieldTypeDouble, alias: Shape_Area
)
Default Mosaic Method: Northwest
Allowed Mosaic Methods: NorthWest,Center,LockRaster,ByAttribute,Nadir,Viewpoint,Seamline,None
SortField:
SortValue: null
Mosaic Operator: First
Default Compression Quality: 75
Default Resampling Method: Bilinear
Max Record Count: 1000
Max Image Height: 4100
Max Image Width: 15000
Max Download Image Count: 20
Max Mosaic Image Count: 20
Allow Raster Function: true
Allow Copy: true
Allow Analysis: true
Allow Compute TiePoints: false
Supports Statistics: true
Supports Advanced Queries: true
Use StandardizedQueries: true
Raster Type Infos:
Name: Raster Dataset
Description: Supports all ArcGIS Raster Datasets
Help:
Has Raster Attribute Table: false
Edit Fields Info: null
Ownership Based AccessControl For Rasters: null
Child Resources:
Info
Histograms
Statistics
Key Properties
Legend
Raster Function Infos
Supported Operations:
Export Image
Query
Identify
Measure
Compute Histograms
Compute Statistics Histograms
Get Samples
Compute Class Statistics
Query GPS Info
Find Images
Image to Map
Map to Image
Measure from Image
Image to Map Multiray
Query Boundary
Compute Pixel Location
Compute Angles
Validate
Project