{ "currentVersion": 11.3, "serviceDescription": "
The graduated flood risk maps were developed for 10-, 20-, 50-, 100-, and 500-year return periods. MBI performed spatial extent extrapolation and boundary delineation for return periods higher than 1 percent of the annual exceedance probability (AEP) for the current conditions and for all return periods for two SLR scenarios. Our team estimated wave heights in the extended floodplains using the total water level and still water elevation data and developed depth grids to quantify spatial flood depths for the five return periods of interest. This work was completed in February of 2025.<\/SPAN><\/P><\/DIV><\/DIV><\/DIV>",
"name": "Environmental/DE_FutureFloodRisk_All",
"description": " The graduated flood risk maps were developed for 10-, 20-, 50-, 100-, and 500-year return periods. MBI performed spatial extent extrapolation and boundary delineation for return periods higher than 1 percent of the annual exceedance probability (AEP) for the current conditions and for all return periods for two SLR scenarios. Our team estimated wave heights in the extended floodplains using the total water level and still water elevation data and developed depth grids to quantify spatial flood depths for the five return periods of interest. This work was completed in February of 2025.<\/SPAN><\/P><\/DIV><\/DIV><\/DIV>",
"extent": {
"xmin": -8436802.275672376,
"ymin": 4643349.205111309,
"xmax": -8354379.923491982,
"ymax": 4842654.89292437,
"spatialReference": {
"wkid": 102100,
"latestWkid": 3857
}
},
"initialExtent": {
"xmin": -8436802.275672376,
"ymin": 4643349.205111309,
"xmax": -8354379.923491982,
"ymax": 4842654.89292437,
"spatialReference": {
"wkid": 102100,
"latestWkid": 3857
}
},
"fullExtent": {
"xmin": -8436802.275672376,
"ymin": 4643349.205111309,
"xmax": -8354379.923491982,
"ymax": 4842654.89292437,
"spatialReference": {
"wkid": 102100,
"latestWkid": 3857
}
},
"sortableFields": "MinPS,MaxPS,LowPS,HighPS,CenterX,CenterY,ZOrder,Shape_Length,Shape_Area",
"bandCount": 1,
"pixelType": "F32",
"minValues": [
3.921875085216015
],
"maxValues": [
9.978124771732837
],
"meanValues": [
7.7458479191748815
],
"stdvValues": [
1.4719289485903753
],
"hasMultidimensions": false,
"pixelSizeX": 10.00028538951642,
"pixelSizeY": 10.000285389516371,
"meanPixelSize": 10.000285389516396,
"datasetFormat": "AMD",
"uncompressedSize": 657052240,
"blockWidth": 2048,
"blockHeight": 256,
"compressionType": "None",
"bandNames": [
"Band_1"
],
"allowCopy": true,
"allowAnalysis": true,
"itemAccess": false,
"inspectionCapabilities": "",
"minPixelSize": 0,
"maxPixelSize": 0,
"copyrightText": "DNREC Shoreline and Waterway Management Section, Michael Baker International",
"serviceDataType": "esriImageServiceDataTypeGeneric",
"serviceSourceType": "esriImageServiceSourceTypeMosaicDataset",
"objectIdField": "OBJECTID",
"fields": [
{
"name": "OBJECTID",
"type": "esriFieldTypeOID",
"alias": "OBJECTID",
"domain": null
},
{
"name": "Shape",
"type": "esriFieldTypeGeometry",
"alias": "Shape",
"domain": null
},
{
"name": "Name",
"type": "esriFieldTypeString",
"alias": "Name",
"domain": null,
"length": 200
},
{
"name": "MinPS",
"type": "esriFieldTypeDouble",
"alias": "MinPS",
"domain": null
},
{
"name": "MaxPS",
"type": "esriFieldTypeDouble",
"alias": "MaxPS",
"domain": null
},
{
"name": "LowPS",
"type": "esriFieldTypeDouble",
"alias": "LowPS",
"domain": null
},
{
"name": "HighPS",
"type": "esriFieldTypeDouble",
"alias": "HighPS",
"domain": null
},
{
"name": "Category",
"type": "esriFieldTypeInteger",
"alias": "Category",
"domain": {
"type": "codedValue",
"name": "MosaicCatalogItemCategoryDomain",
"description": "Catalog item categories.",
"codedValues": [
{
"name": "Unknown",
"code": 0
},
{
"name": "Primary",
"code": 1
},
{
"name": "Overview",
"code": 2
},
{
"name": "Unprocessed Overview",
"code": 3
},
{
"name": "Partial Overview",
"code": 4
},
{
"name": "Inactive",
"code": 5
},
{
"name": "Uploaded",
"code": 253
},
{
"name": "Incomplete",
"code": 254
},
{
"name": "Custom",
"code": 255
}
],
"mergePolicy": "esriMPTDefaultValue",
"splitPolicy": "esriSPTDefaultValue"
}
},
{
"name": "Tag",
"type": "esriFieldTypeString",
"alias": "Tag",
"domain": null,
"length": 100
},
{
"name": "GroupName",
"type": "esriFieldTypeString",
"alias": "GroupName",
"domain": null,
"length": 100
},
{
"name": "ProductName",
"type": "esriFieldTypeString",
"alias": "ProductName",
"domain": null,
"length": 100
},
{
"name": "CenterX",
"type": "esriFieldTypeDouble",
"alias": "CenterX",
"domain": null
},
{
"name": "CenterY",
"type": "esriFieldTypeDouble",
"alias": "CenterY",
"domain": null
},
{
"name": "ZOrder",
"type": "esriFieldTypeInteger",
"alias": "ZOrder",
"domain": null
},
{
"name": "Sea_Level_Condition",
"type": "esriFieldTypeString",
"alias": "Sea_Level_Condition",
"domain": {
"type": "codedValue",
"name": "Sea_Level_Condition_Domain",
"description": "Sea level Condition options",
"codedValues": [
{
"name": "Baseline",
"code": "000"
},
{
"name": "Estimate End of Century",
"code": "171"
},
{
"name": "Estimated Mid Century",
"code": "072"
}
],
"mergePolicy": "esriMPTDefaultValue",
"splitPolicy": "esriSPTDefaultValue"
},
"length": 35
},
{
"name": "Return_Period",
"type": "esriFieldTypeString",
"alias": "Return_Period",
"domain": {
"type": "codedValue",
"name": "Return_Period_Domain",
"description": "Return period options",
"codedValues": [
{
"name": "10 Year",
"code": "10"
},
{
"name": "20 Year",
"code": "20"
},
{
"name": "50 Year",
"code": "50"
},
{
"name": "100 Year",
"code": "100"
},
{
"name": "500 Year",
"code": "500"
}
],
"mergePolicy": "esriMPTDefaultValue",
"splitPolicy": "esriSPTDefaultValue"
},
"length": 10
},
{
"name": "Surge_Category",
"type": "esriFieldTypeString",
"alias": "Surge_Category",
"domain": {
"type": "codedValue",
"name": "Surge_CategoryDomain",
"description": "Storm surge category",
"codedValues": [
{
"name": "Storm Surge Only",
"code": "SWEL"
},
{
"name": "Storm Surge plus wave crest",
"code": "TWEL"
},
{
"name": "TWEL minus SWEL",
"code": "DIFF"
},
{
"name": "TWEL-SWEL >= 2.1",
"code": "MASK"
}
],
"mergePolicy": "esriMPTDefaultValue",
"splitPolicy": "esriSPTDefaultValue"
},
"length": 10
},
{
"name": "Condition_Time_Period",
"type": "esriFieldTypeDateOnly",
"alias": "Condition_Time_Period",
"domain": null
},
{
"name": "Return_Time_Period",
"type": "esriFieldTypeDateOnly",
"alias": "Return_Time_Period",
"domain": null
},
{
"name": "Shape_Length",
"type": "esriFieldTypeDouble",
"alias": "Shape_Length",
"domain": null
},
{
"name": "Shape_Area",
"type": "esriFieldTypeDouble",
"alias": "Shape_Area",
"domain": null
}
],
"capabilities": "Image,Metadata,Mensuration,Catalog",
"defaultMosaicMethod": "Northwest",
"allowedMosaicMethods": "NorthWest,Center,LockRaster,ByAttribute,Nadir,Viewpoint,Seamline,None",
"sortField": "",
"sortValue": null,
"sortAscending": true,
"mosaicOperator": "First",
"maxDownloadSizeLimit": 2048,
"defaultCompressionQuality": 75,
"defaultResamplingMethod": "Bilinear",
"maxImageHeight": 4100,
"maxImageWidth": 15000,
"maxRecordCount": 1000,
"maxDownloadImageCount": 20,
"maxMosaicImageCount": 20,
"allowRasterFunction": true,
"rasterFunctionInfos": [
{
"name": "None",
"description": "",
"help": ""
}
],
"rasterTypeInfos": [
{
"name": "Raster Dataset",
"description": "Supports all ArcGIS Raster Datasets",
"help": ""
}
],
"mensurationCapabilities": "Basic",
"hasHistograms": true,
"hasColormap": false,
"hasRasterAttributeTable": false,
"minScale": 0,
"maxScale": 0,
"exportTilesAllowed": false,
"supportsStatistics": true,
"supportsAdvancedQueries": true,
"editFieldsInfo": null,
"ownershipBasedAccessControlForRasters": null,
"allowComputeTiePoints": false,
"useStandardizedQueries": true,
"advancedQueryCapabilities": {
"useStandardizedQueries": true,
"supportsStatistics": true,
"supportsOrderBy": true,
"supportsDistinct": true,
"supportsPagination": true
},
"spatialReference": {
"wkid": 102100,
"latestWkid": 3857
}
}