View In:
ArcGIS JavaScript
ArcGIS Online Map Viewer
ArcGIS Earth
Service Description: Product: These lidar data are processed Quality Level 1 (QL1) Bare-Earth DEM files, formatted to 2238 individual 1700 m x 1700 m tiles at 0.5 meter resolution. Geographic Extent: The state of Delaware. Dataset Description: The Delaware 2023 Lidar project called for the Planning, Acquisition, processing and derivative products of lidar data to be collected at a nominal pulse spacing (NPS) of 0.35 meters for QL1 data. Project specifications are based on the U.S. Geological Survey National Geospatial Program Base Lidar Specification 2023, revision A. The data was developed based on a horizontal projection/datum of NAD83 (2011), State Plane Delaware FIPS 0700, meters and vertical datum of NAVD88 (GEOID18), meters. Lidar data was delivered as processed Classified LAS 1.4 files, formatted to 2238 individual 1700 m x 1700 m tiles and as tiled bare earth DEMs; all tiled to the 1700 m x 1700 m schema. Ground Conditions: Lidar was collected in the spring 2023, while no snow was on the ground and waterways were at low tide. In order to post process the lidar data to meet task order specifications and meet ASPRS vertical accuracy guidelines, a total of 197 checkpoints were used to calibrate the lidar to known ground locations established throughout the project area. A total of 110 Non-Vegetated Vertical Accuracy (NVA) points were used. A total of 87 Vegetated Vertical Accuracy (VVA) points were used. These checkpoints were not used to calibrate or post process the data.
Name: Elevation_SP/DE_Lidar_DEM_2023
Description: Product: These lidar data are processed Quality Level 1 (QL1) Bare-Earth DEM files, formatted to 2238 individual 1700 m x 1700 m tiles at 0.5 meter resolution. Geographic Extent: The state of Delaware. Dataset Description: The Delaware 2023 Lidar project called for the Planning, Acquisition, processing and derivative products of lidar data to be collected at a nominal pulse spacing (NPS) of 0.35 meters for QL1 data. Project specifications are based on the U.S. Geological Survey National Geospatial Program Base Lidar Specification 2023, revision A. The data was developed based on a horizontal projection/datum of NAD83 (2011), State Plane Delaware FIPS 0700, meters and vertical datum of NAVD88 (GEOID18), meters. Lidar data was delivered as processed Classified LAS 1.4 files, formatted to 2238 individual 1700 m x 1700 m tiles and as tiled bare earth DEMs; all tiled to the 1700 m x 1700 m schema. Ground Conditions: Lidar was collected in the spring 2023, while no snow was on the ground and waterways were at low tide. In order to post process the lidar data to meet task order specifications and meet ASPRS vertical accuracy guidelines, a total of 197 checkpoints were used to calibrate the lidar to known ground locations established throughout the project area. A total of 110 Non-Vegetated Vertical Accuracy (NVA) points were used. A total of 87 Vegetated Vertical Accuracy (VVA) points were used. These checkpoints were not used to calibrate or post process the data.
Single Fused Map Cache: false
Extent:
XMin: 164900.0
YMin: 49300.0
XMax: 232900.0
YMax: 205700.0
Spatial Reference: 103017
(6435)
VCSWkid(5703)
LatestVCSWkid(5703)
Initial Extent:
XMin: 164900.0
YMin: 49300.0
XMax: 232900.0
YMax: 205700.0
Spatial Reference: 103017
(6435)
VCSWkid(5703)
LatestVCSWkid(5703)
Full Extent:
XMin: 164900.0
YMin: 49300.0
XMax: 232900.0
YMax: 205700.0
Spatial Reference: 103017
(6435)
VCSWkid(5703)
LatestVCSWkid(5703)
Pixel Size X: 0.5
Pixel Size Y: 0.5
Band Count: 1
Pixel Type: F32
RasterFunction Infos: {"rasterFunctionInfos": [
{
"name": "None",
"description": "Make a Raster or Raster Dataset into a Function Raster Dataset.",
"help": ""
},
{
"name": "Lidar DEM Aspect",
"description": "A raster function template for viewing the Aspect of Delaware's Lidar DEM.",
"help": "Shows which direction a pixel is facing, where 0 is due north and angles increase clockwise to 360."
},
{
"name": "Lidar DEM Hillshade",
"description": "A raster function template for viewing the Hillshade of Delaware's Lidar DEM.",
"help": "Creates a 3D representation of the surface, with the sun's relative position taken into account for shading the image."
},
{
"name": "Lidar DEM Shaded Relief",
"description": "A raster function template to view Shaded Relief of Delaware's Lidar DEM.",
"help": "Creates a multiband, color coded, 3D representation of the surface, with the sun's relative position taken into account for shading the image."
},
{
"name": "Lidar DEM Slope",
"description": "A raster function template for viewing Slope derived from Delaware's Lidar DEM.",
"help": "Apply this template to the Lidar DEM to see the Slope, which shows the rate of change from one pixel value to its neighbors."
},
{
"name": "Lidar DEM Spectrum (Dynamic)",
"description": "A raster function template for viewing Delaware's Lidar DEM.",
"help": "Dynamic symbology for viewing details of Delaware's elevation."
},
{
"name": "Lidar DEM Spectrum (Static)",
"description": "A raster function template for viewing Delaware's Lidar DEM.",
"help": "Static symbology for viewing details of Delaware's elevation."
}
]}
Mensuration Capabilities: None
Inspection Capabilities:
Has Histograms: false
Has Colormap: false
Has Multi Dimensions : false
Rendering Rule:
Min Scale: 0
Max Scale: 0
Copyright Text: SAM, U.S. Geological Survey
Service Data Type: esriImageServiceDataTypeGeneric
Min Values: -2.0474534034729004
Max Values: 137.62225341796875
Mean Values: 13.933708777749615
Standard Deviation Values: 17.70522634177173
Object ID Field: OBJECTID
Fields:
-
OBJECTID
(
type: esriFieldTypeOID, alias: OBJECTID
)
-
Shape
(
type: esriFieldTypeGeometry, alias: Shape
)
-
Name
(
type: esriFieldTypeString, alias: Name, length: 200
)
-
MinPS
(
type: esriFieldTypeDouble, alias: MinPS
)
-
MaxPS
(
type: esriFieldTypeDouble, alias: MaxPS
)
-
LowPS
(
type: esriFieldTypeDouble, alias: LowPS
)
-
HighPS
(
type: esriFieldTypeDouble, alias: HighPS
)
-
Category
(
type: esriFieldTypeInteger, alias: Category
, Coded Values:
[0: Unknown]
, [1: Primary]
, [2: Overview]
, ...6 more...
)
-
Tag
(
type: esriFieldTypeString, alias: Tag, length: 100
)
-
GroupName
(
type: esriFieldTypeString, alias: GroupName, length: 100
)
-
ProductName
(
type: esriFieldTypeString, alias: ProductName, length: 100
)
-
CenterX
(
type: esriFieldTypeDouble, alias: CenterX
)
-
CenterY
(
type: esriFieldTypeDouble, alias: CenterY
)
-
ZOrder
(
type: esriFieldTypeInteger, alias: ZOrder
)
-
Shape_Length
(
type: esriFieldTypeDouble, alias: Shape_Length
)
-
Shape_Area
(
type: esriFieldTypeDouble, alias: Shape_Area
)
Default Mosaic Method: Northwest
Allowed Mosaic Methods: NorthWest,Center,LockRaster,ByAttribute,Nadir,Viewpoint,Seamline,None
SortField:
SortValue: null
Mosaic Operator: First
Default Compression Quality: 75
Default Resampling Method: Bilinear
Max Record Count: 1000
Max Image Height: 4100
Max Image Width: 15000
Max Download Image Count: 20
Max Mosaic Image Count: 20
Allow Raster Function: true
Allow Copy: true
Allow Analysis: true
Allow Compute TiePoints: false
Supports Statistics: true
Supports Advanced Queries: true
Use StandardizedQueries: true
Raster Type Infos:
Name: Raster Dataset
Description: Supports all ArcGIS Raster Datasets
Help:
Has Raster Attribute Table: false
Edit Fields Info: null
Ownership Based AccessControl For Rasters: null
Child Resources:
Info
Statistics
Key Properties
Legend
Raster Function Infos
Supported Operations:
Export Image
Query
Identify
Compute Histograms
Compute Statistics Histograms
Get Samples
Compute Class Statistics
Query GPS Info
Find Images
Image to Map
Map to Image
Measure from Image
Image to Map Multiray
Query Boundary
Compute Pixel Location
Compute Angles
Validate
Project