{ "currentVersion": 11.3, "serviceDescription": "
Product: These lidar data are processed Quality Level 1 (QL1) Bare-Earth DEM files, formatted to 2238 individual 1700 m x 1700 m tiles at 0.5 meter resolution. Geographic Extent: The state of Delaware. Dataset Description: The Delaware 2023 Lidar project called for the Planning, Acquisition, processing and derivative products of lidar data to be collected at a nominal pulse spacing (NPS) of 0.35 meters for QL1 data. Project specifications are based on the U.S. Geological Survey National Geospatial Program Base Lidar Specification 2023, revision A. The data was developed based on a horizontal projection/datum of NAD83 (2011), State Plane Delaware FIPS 0700, meters and vertical datum of NAVD88 (GEOID18), meters. Lidar data was delivered as processed Classified LAS 1.4 files, formatted to 2238 individual 1700 m x 1700 m tiles and as tiled bare earth DEMs; all tiled to the 1700 m x 1700 m schema. Ground Conditions: Lidar was collected in the spring 2023, while no snow was on the ground and waterways were at low tide. In order to post process the lidar data to meet task order specifications and meet ASPRS vertical accuracy guidelines, a total of 197 checkpoints were used to calibrate the lidar to known ground locations established throughout the project area. A total of 110 Non-Vegetated Vertical Accuracy (NVA) points were used. A total of 87 Vegetated Vertical Accuracy (VVA) points were used. These checkpoints were not used to calibrate or post process the data.<\/SPAN><\/P><\/DIV><\/DIV><\/DIV>",
"name": "Elevation_SP/DE_Lidar_DEM_2023",
"description": " Product: These lidar data are processed Quality Level 1 (QL1) Bare-Earth DEM files, formatted to 2238 individual 1700 m x 1700 m tiles at 0.5 meter resolution. Geographic Extent: The state of Delaware. Dataset Description: The Delaware 2023 Lidar project called for the Planning, Acquisition, processing and derivative products of lidar data to be collected at a nominal pulse spacing (NPS) of 0.35 meters for QL1 data. Project specifications are based on the U.S. Geological Survey National Geospatial Program Base Lidar Specification 2023, revision A. The data was developed based on a horizontal projection/datum of NAD83 (2011), State Plane Delaware FIPS 0700, meters and vertical datum of NAVD88 (GEOID18), meters. Lidar data was delivered as processed Classified LAS 1.4 files, formatted to 2238 individual 1700 m x 1700 m tiles and as tiled bare earth DEMs; all tiled to the 1700 m x 1700 m schema. Ground Conditions: Lidar was collected in the spring 2023, while no snow was on the ground and waterways were at low tide. In order to post process the lidar data to meet task order specifications and meet ASPRS vertical accuracy guidelines, a total of 197 checkpoints were used to calibrate the lidar to known ground locations established throughout the project area. A total of 110 Non-Vegetated Vertical Accuracy (NVA) points were used. A total of 87 Vegetated Vertical Accuracy (VVA) points were used. These checkpoints were not used to calibrate or post process the data.<\/SPAN><\/P><\/DIV><\/DIV><\/DIV>",
"extent": {
"xmin": 164900,
"ymin": 49300,
"xmax": 232900,
"ymax": 205700,
"spatialReference": {
"wkid": 103017,
"latestWkid": 6435,
"vcsWkid": 5703,
"latestVcsWkid": 5703
}
},
"initialExtent": {
"xmin": 164900,
"ymin": 49300,
"xmax": 232900,
"ymax": 205700,
"spatialReference": {
"wkid": 103017,
"latestWkid": 6435,
"vcsWkid": 5703,
"latestVcsWkid": 5703
}
},
"fullExtent": {
"xmin": 164900,
"ymin": 49300,
"xmax": 232900,
"ymax": 205700,
"spatialReference": {
"wkid": 103017,
"latestWkid": 6435,
"vcsWkid": 5703,
"latestVcsWkid": 5703
}
},
"sortableFields": "MinPS,MaxPS,LowPS,HighPS,CenterX,CenterY,ZOrder,Shape_Length,Shape_Area",
"heightModelInfo": {
"heightModel": "gravity_related_height",
"vertCRS": "NAVD_1988",
"heightUnit": "meter"
},
"bandCount": 1,
"pixelType": "F32",
"minValues": [
-2.0474534034729004
],
"maxValues": [
137.62225341796875
],
"meanValues": [
13.933708777749615
],
"stdvValues": [
17.70522634177173
],
"hasMultidimensions": false,
"pixelSizeX": 0.5,
"pixelSizeY": 0.5,
"meanPixelSize": 0.5,
"datasetFormat": "AMD",
"uncompressedSize": 170163200000,
"blockWidth": 2048,
"blockHeight": 256,
"compressionType": "None",
"bandNames": [
"Band_1"
],
"allowCopy": true,
"allowAnalysis": true,
"itemAccess": false,
"inspectionCapabilities": "",
"minPixelSize": 0,
"maxPixelSize": 0,
"copyrightText": "SAM, U.S. Geological Survey",
"serviceDataType": "esriImageServiceDataTypeGeneric",
"serviceSourceType": "esriImageServiceSourceTypeMosaicDataset",
"objectIdField": "OBJECTID",
"fields": [
{
"name": "OBJECTID",
"type": "esriFieldTypeOID",
"alias": "OBJECTID",
"domain": null
},
{
"name": "Shape",
"type": "esriFieldTypeGeometry",
"alias": "Shape",
"domain": null
},
{
"name": "Name",
"type": "esriFieldTypeString",
"alias": "Name",
"domain": null,
"length": 200
},
{
"name": "MinPS",
"type": "esriFieldTypeDouble",
"alias": "MinPS",
"domain": null
},
{
"name": "MaxPS",
"type": "esriFieldTypeDouble",
"alias": "MaxPS",
"domain": null
},
{
"name": "LowPS",
"type": "esriFieldTypeDouble",
"alias": "LowPS",
"domain": null
},
{
"name": "HighPS",
"type": "esriFieldTypeDouble",
"alias": "HighPS",
"domain": null
},
{
"name": "Category",
"type": "esriFieldTypeInteger",
"alias": "Category",
"domain": {
"type": "codedValue",
"name": "MosaicCatalogItemCategoryDomain",
"description": "Catalog item categories.",
"codedValues": [
{
"name": "Unknown",
"code": 0
},
{
"name": "Primary",
"code": 1
},
{
"name": "Overview",
"code": 2
},
{
"name": "Unprocessed Overview",
"code": 3
},
{
"name": "Partial Overview",
"code": 4
},
{
"name": "Inactive",
"code": 5
},
{
"name": "Uploaded",
"code": 253
},
{
"name": "Incomplete",
"code": 254
},
{
"name": "Custom",
"code": 255
}
],
"mergePolicy": "esriMPTDefaultValue",
"splitPolicy": "esriSPTDefaultValue"
}
},
{
"name": "Tag",
"type": "esriFieldTypeString",
"alias": "Tag",
"domain": null,
"length": 100
},
{
"name": "GroupName",
"type": "esriFieldTypeString",
"alias": "GroupName",
"domain": null,
"length": 100
},
{
"name": "ProductName",
"type": "esriFieldTypeString",
"alias": "ProductName",
"domain": null,
"length": 100
},
{
"name": "CenterX",
"type": "esriFieldTypeDouble",
"alias": "CenterX",
"domain": null
},
{
"name": "CenterY",
"type": "esriFieldTypeDouble",
"alias": "CenterY",
"domain": null
},
{
"name": "ZOrder",
"type": "esriFieldTypeInteger",
"alias": "ZOrder",
"domain": null
},
{
"name": "Shape_Length",
"type": "esriFieldTypeDouble",
"alias": "Shape_Length",
"domain": null
},
{
"name": "Shape_Area",
"type": "esriFieldTypeDouble",
"alias": "Shape_Area",
"domain": null
}
],
"capabilities": "Image,Metadata,Pixels,Catalog",
"defaultMosaicMethod": "Northwest",
"allowedMosaicMethods": "NorthWest,Center,LockRaster,ByAttribute,Nadir,Viewpoint,Seamline,None",
"sortField": "",
"sortValue": null,
"sortAscending": true,
"mosaicOperator": "First",
"maxDownloadSizeLimit": 2048,
"defaultCompressionQuality": 75,
"defaultResamplingMethod": "Bilinear",
"maxImageHeight": 4100,
"maxImageWidth": 15000,
"maxRecordCount": 1000,
"maxDownloadImageCount": 20,
"maxMosaicImageCount": 20,
"allowRasterFunction": true,
"rasterFunctionInfos": [
{
"name": "None",
"description": "Make a Raster or Raster Dataset into a Function Raster Dataset.",
"help": ""
},
{
"name": "Lidar DEM Aspect",
"description": "A raster function template for viewing the Aspect of Delaware's Lidar DEM.",
"help": "Shows which direction a pixel is facing, where 0 is due north and angles increase clockwise to 360."
},
{
"name": "Lidar DEM Hillshade",
"description": "A raster function template for viewing the Hillshade of Delaware's Lidar DEM.",
"help": "Creates a 3D representation of the surface, with the sun's relative position taken into account for shading the image."
},
{
"name": "Lidar DEM Shaded Relief",
"description": "A raster function template to view Shaded Relief of Delaware's Lidar DEM.",
"help": "Creates a multiband, color coded, 3D representation of the surface, with the sun's relative position taken into account for shading the image."
},
{
"name": "Lidar DEM Slope",
"description": "A raster function template for viewing Slope derived from Delaware's Lidar DEM.",
"help": "Apply this template to the Lidar DEM to see the Slope, which shows the rate of change from one pixel value to its neighbors."
},
{
"name": "Lidar DEM Spectrum (Dynamic)",
"description": "A raster function template for viewing Delaware's Lidar DEM.",
"help": "Dynamic symbology for viewing details of Delaware's elevation."
},
{
"name": "Lidar DEM Spectrum (Static)",
"description": "A raster function template for viewing Delaware's Lidar DEM.",
"help": "Static symbology for viewing details of Delaware's elevation."
}
],
"rasterTypeInfos": [
{
"name": "Raster Dataset",
"description": "Supports all ArcGIS Raster Datasets",
"help": ""
}
],
"mensurationCapabilities": "None",
"hasHistograms": false,
"hasColormap": false,
"hasRasterAttributeTable": false,
"minScale": 0,
"maxScale": 0,
"exportTilesAllowed": false,
"supportsStatistics": true,
"supportsAdvancedQueries": true,
"editFieldsInfo": null,
"ownershipBasedAccessControlForRasters": null,
"allowComputeTiePoints": false,
"useStandardizedQueries": true,
"advancedQueryCapabilities": {
"useStandardizedQueries": true,
"supportsStatistics": true,
"supportsOrderBy": true,
"supportsDistinct": true,
"supportsPagination": true
},
"spatialReference": {
"wkid": 103017,
"latestWkid": 6435,
"vcsWkid": 5703,
"latestVcsWkid": 5703
}
}