View In:
ArcGIS JavaScript
ArcGIS Online Map Viewer
ArcGIS Earth
Service Description: This metadata record describes the 0.25-foot pixel resolution digital orthoimagery produced for Delaware Parks by the Sanborn Map Company. The orthoimagery provided is 4-band (R, G, B, NIR), 8-bit per pixel and delivered as uncompressed TIFF/TFW tiles and compressed SID/SDW (20:1) tiles. The data was collected on March 18 and March 21, 2022 at an altitude of 1250 meters (AGL) using an UltraCam Eagle M3 camera and complies with the ASPRS Class 1 accuracy standards, at 1" = 50'. This orthoimagery is published in Delaware State Plane, NAD 83 (2011), U.S. Survey Feet.
Name: DE_Imagery_SP/DE_Imagery_2022_Parks_HR
Description: This metadata record describes the 0.25-foot pixel resolution digital orthoimagery produced for Delaware Parks by the Sanborn Map Company. The orthoimagery provided is 4-band (R, G, B, NIR), 8-bit per pixel and delivered as uncompressed TIFF/TFW tiles and compressed SID/SDW (20:1) tiles. The data was collected on March 18 and March 21, 2022 at an altitude of 1250 meters (AGL) using an UltraCam Eagle M3 camera and complies with the ASPRS Class 1 accuracy standards, at 1" = 50'. This orthoimagery is published in Delaware State Plane, NAD 83 (2011), U.S. Survey Feet.
Single Fused Map Cache: true
Tile Info:
- Height: 256
- Width: 256
- DPI: 96
-
Levels of Detail: 16
- Format: MIXED
- Compression Quality: 65.0
- LERC Error: NaN
- Origin: X: -5423100.0
Y: 5794600.0
- Spatial Reference: 26957
(26957)
LatestVCSWkid(0)
Storage Info:
- Storage Format: esriMapCacheStorageModeCompactV2
- Packet Size: 128
Extent:
XMin: 168199.95260000043
YMin: 51699.979800000205
XMax: 232800.0026000002
YMax: 203000.02979999967
Spatial Reference: 26957
(26957)
LatestVCSWkid(0)
Initial Extent:
XMin: 168199.95260000043
YMin: 51699.979800000205
XMax: 232800.0026000002
YMax: 203000.02979999967
Spatial Reference: 26957
(26957)
LatestVCSWkid(0)
Full Extent:
XMin: 168199.95260000043
YMin: 51699.979800000205
XMax: 232800.0026000002
YMax: 203000.02979999967
Spatial Reference: 26957
(26957)
LatestVCSWkid(0)
Pixel Size X: 0.07499999999999975
Pixel Size Y: 0.07499999999999973
Band Count: 4
Pixel Type: U8
RasterFunction Infos: {"rasterFunctionInfos": [
{
"name": "None",
"description": "Make a Raster or Raster Dataset into a Function Raster Dataset.",
"help": ""
},
{
"name": "Infrared",
"description": "A raster function template.",
"help": ""
}
]}
Mensuration Capabilities: None
Inspection Capabilities:
Has Histograms: true
Has Colormap: false
Has Multi Dimensions : false
Rendering Rule:
Min Scale: 8000000
Max Scale: 500
Copyright Text: State of Delaware, Sanborn Map Co., Inc.
Service Data Type: esriImageServiceDataTypeProcessed
Min Values: 2, 5, 0, 0
Max Values: 255, 255, 255, 255
Mean Values: 109.48773444337365, 108.4706435379218, 102.00067514240887, 155.26382789784842
Standard Deviation Values: 51.3146367967091, 43.50933103105311, 39.72881510848353, 67.17280569190329
Object ID Field: OBJECTID
Fields:
-
OBJECTID
(
type: esriFieldTypeOID, alias: OBJECTID
)
-
Shape
(
type: esriFieldTypeGeometry, alias: Shape
)
-
Name
(
type: esriFieldTypeString, alias: Name, length: 200
)
-
MinPS
(
type: esriFieldTypeDouble, alias: MinPS
)
-
MaxPS
(
type: esriFieldTypeDouble, alias: MaxPS
)
-
LowPS
(
type: esriFieldTypeDouble, alias: LowPS
)
-
HighPS
(
type: esriFieldTypeDouble, alias: HighPS
)
-
Category
(
type: esriFieldTypeInteger, alias: Category
, Coded Values:
[0: Unknown]
, [1: Primary]
, [2: Overview]
, ...6 more...
)
-
Tag
(
type: esriFieldTypeString, alias: Tag, length: 100
)
-
GroupName
(
type: esriFieldTypeString, alias: GroupName, length: 100
)
-
ProductName
(
type: esriFieldTypeString, alias: ProductName, length: 100
)
-
CenterX
(
type: esriFieldTypeDouble, alias: CenterX
)
-
CenterY
(
type: esriFieldTypeDouble, alias: CenterY
)
-
ZOrder
(
type: esriFieldTypeInteger, alias: ZOrder
)
-
Shape_Length
(
type: esriFieldTypeDouble, alias: Shape_Length
)
-
Shape_Area
(
type: esriFieldTypeDouble, alias: Shape_Area
)
Default Mosaic Method: ByAttribute
Allowed Mosaic Methods: ByAttribute,NorthWest,Center,LockRaster,Nadir,Viewpoint,Seamline,None
SortField: LowPS
SortValue:
Mosaic Operator: First
Default Compression Quality: 75
Default Resampling Method: Bilinear
Max Record Count: 1000
Max Image Height: 500000
Max Image Width: 500000
Max Download Image Count: 20
Max Mosaic Image Count: 2000
Allow Raster Function: true
Allow Copy: true
Allow Analysis: true
Allow Compute TiePoints: false
Supports Statistics: true
Supports Advanced Queries: true
Use StandardizedQueries: true
Raster Type Infos:
Name: Raster Dataset
Description: Supports all ArcGIS Raster Datasets
Help:
Has Raster Attribute Table: false
Edit Fields Info: null
Ownership Based AccessControl For Rasters: null
Child Resources:
Info
Histograms
Statistics
Key Properties
Legend
Raster Function Infos
Supported Operations:
Export Image
Query
Identify
Download Rasters
Get Image Url
Compute Histograms
Compute Statistics Histograms
Get Samples
Compute Class Statistics
Query GPS Info
Find Images
Image to Map
Map to Image
Measure from Image
Image to Map Multiray
Query Boundary
Compute Pixel Location
Compute Angles
Validate
Project