{ "currentVersion": 11.3, "serviceDescription": "
This metadata record describes the 0.25-foot pixel resolution digital orthoimagery produced for Delaware Parks by the Sanborn Map Company. The orthoimagery provided is 4-band (R, G, B, NIR), 8-bit per pixel and delivered as uncompressed TIFF/TFW tiles and compressed SID/SDW (20:1) tiles. The data was collected on March 18 and March 21, 2022 at an altitude of 1250 meters (AGL) using an UltraCam Eagle M3 camera and complies with the ASPRS Class 1 accuracy standards, at 1\" = 50'. This orthoimagery is published in Delaware State Plane, NAD 83 (2011), U.S. Survey Feet.<\/SPAN><\/P><\/DIV><\/DIV><\/DIV>",
"name": "DE_Imagery_SP/DE_Imagery_2022_Parks_HR",
"description": " This metadata record describes the 0.25-foot pixel resolution digital orthoimagery produced for Delaware Parks by the Sanborn Map Company. The orthoimagery provided is 4-band (R, G, B, NIR), 8-bit per pixel and delivered as uncompressed TIFF/TFW tiles and compressed SID/SDW (20:1) tiles. The data was collected on March 18 and March 21, 2022 at an altitude of 1250 meters (AGL) using an UltraCam Eagle M3 camera and complies with the ASPRS Class 1 accuracy standards, at 1\" = 50'. This orthoimagery is published in Delaware State Plane, NAD 83 (2011), U.S. Survey Feet.<\/SPAN><\/P><\/DIV><\/DIV><\/DIV>",
"extent": {
"xmin": 168199.95260000043,
"ymin": 51699.979800000205,
"xmax": 232800.0026000002,
"ymax": 203000.02979999967,
"spatialReference": {
"wkid": 26957,
"latestWkid": 26957
}
},
"initialExtent": {
"xmin": 168199.95260000043,
"ymin": 51699.979800000205,
"xmax": 232800.0026000002,
"ymax": 203000.02979999967,
"spatialReference": {
"wkid": 26957,
"latestWkid": 26957
}
},
"fullExtent": {
"xmin": 168199.95260000043,
"ymin": 51699.979800000205,
"xmax": 232800.0026000002,
"ymax": 203000.02979999967,
"spatialReference": {
"wkid": 26957,
"latestWkid": 26957
}
},
"sortableFields": "MinPS,MaxPS,LowPS,HighPS,CenterX,CenterY,ZOrder,Shape_Length,Shape_Area",
"bandCount": 4,
"pixelType": "U8",
"minValues": [
2,
5,
0,
0
],
"maxValues": [
255,
255,
255,
255
],
"meanValues": [
109.48773444337365,
108.4706435379218,
102.00067514240887,
155.26382789784842
],
"stdvValues": [
51.3146367967091,
43.50933103105311,
39.72881510848353,
67.17280569190329
],
"hasMultidimensions": false,
"pixelSizeX": 0.07499999999999975,
"pixelSizeY": 0.07499999999999973,
"meanPixelSize": 0.07499999999999973,
"datasetFormat": "AMD",
"uncompressedSize": 6950393454224,
"blockWidth": 2048,
"blockHeight": 256,
"compressionType": "None",
"bandNames": [
"Red",
"Green",
"Blue",
"Infrared"
],
"allowCopy": true,
"allowAnalysis": true,
"itemAccess": false,
"inspectionCapabilities": "",
"minPixelSize": 0.13229193125052918,
"maxPixelSize": 2116.670900008467,
"copyrightText": "State of Delaware, Sanborn Map Co., Inc.",
"serviceDataType": "esriImageServiceDataTypeProcessed",
"serviceSourceType": "esriImageServiceSourceTypeMosaicDataset",
"objectIdField": "OBJECTID",
"fields": [
{
"name": "OBJECTID",
"type": "esriFieldTypeOID",
"alias": "OBJECTID",
"domain": null
},
{
"name": "Shape",
"type": "esriFieldTypeGeometry",
"alias": "Shape",
"domain": null
},
{
"name": "Name",
"type": "esriFieldTypeString",
"alias": "Name",
"domain": null,
"length": 200
},
{
"name": "MinPS",
"type": "esriFieldTypeDouble",
"alias": "MinPS",
"domain": null
},
{
"name": "MaxPS",
"type": "esriFieldTypeDouble",
"alias": "MaxPS",
"domain": null
},
{
"name": "LowPS",
"type": "esriFieldTypeDouble",
"alias": "LowPS",
"domain": null
},
{
"name": "HighPS",
"type": "esriFieldTypeDouble",
"alias": "HighPS",
"domain": null
},
{
"name": "Category",
"type": "esriFieldTypeInteger",
"alias": "Category",
"domain": {
"type": "codedValue",
"name": "MosaicCatalogItemCategoryDomain",
"description": "Catalog item categories.",
"codedValues": [
{
"name": "Unknown",
"code": 0
},
{
"name": "Primary",
"code": 1
},
{
"name": "Overview",
"code": 2
},
{
"name": "Unprocessed Overview",
"code": 3
},
{
"name": "Partial Overview",
"code": 4
},
{
"name": "Inactive",
"code": 5
},
{
"name": "Uploaded",
"code": 253
},
{
"name": "Incomplete",
"code": 254
},
{
"name": "Custom",
"code": 255
}
],
"mergePolicy": "esriMPTDefaultValue",
"splitPolicy": "esriSPTDefaultValue"
}
},
{
"name": "Tag",
"type": "esriFieldTypeString",
"alias": "Tag",
"domain": null,
"length": 100
},
{
"name": "GroupName",
"type": "esriFieldTypeString",
"alias": "GroupName",
"domain": null,
"length": 100
},
{
"name": "ProductName",
"type": "esriFieldTypeString",
"alias": "ProductName",
"domain": null,
"length": 100
},
{
"name": "CenterX",
"type": "esriFieldTypeDouble",
"alias": "CenterX",
"domain": null
},
{
"name": "CenterY",
"type": "esriFieldTypeDouble",
"alias": "CenterY",
"domain": null
},
{
"name": "ZOrder",
"type": "esriFieldTypeInteger",
"alias": "ZOrder",
"domain": null
},
{
"name": "Shape_Length",
"type": "esriFieldTypeDouble",
"alias": "Shape_Length",
"domain": null
},
{
"name": "Shape_Area",
"type": "esriFieldTypeDouble",
"alias": "Shape_Area",
"domain": null
}
],
"capabilities": "Image,Metadata,Pixels,Catalog,Download",
"defaultMosaicMethod": "ByAttribute",
"allowedMosaicMethods": "ByAttribute,NorthWest,Center,LockRaster,Nadir,Viewpoint,Seamline,None",
"sortField": "LowPS",
"sortValue": "",
"sortAscending": true,
"mosaicOperator": "First",
"maxDownloadSizeLimit": 2048,
"defaultCompressionQuality": 75,
"defaultResamplingMethod": "Bilinear",
"maxImageHeight": 500000,
"maxImageWidth": 500000,
"maxRecordCount": 1000,
"maxDownloadImageCount": 20,
"maxMosaicImageCount": 2000,
"singleFusedMapCache": true,
"tileInfo": {
"rows": 256,
"cols": 256,
"dpi": 96,
"format": "MIXED",
"compressionQuality": 65,
"origin": {
"x": -5423100,
"y": 5794600
},
"spatialReference": {
"wkid": 26957,
"latestWkid": 26957
},
"lods": [
{
"level": 0,
"resolution": 2116.670900008467,
"scale": 8000000
},
{
"level": 1,
"resolution": 1058.3354500042335,
"scale": 4000000
},
{
"level": 2,
"resolution": 529.1677250021168,
"scale": 2000000
},
{
"level": 3,
"resolution": 264.5838625010584,
"scale": 1000000
},
{
"level": 4,
"resolution": 132.2919312505292,
"scale": 500000
},
{
"level": 5,
"resolution": 66.1459656252646,
"scale": 250000
},
{
"level": 6,
"resolution": 33.0729828126323,
"scale": 125000
},
{
"level": 7,
"resolution": 16.933367200067735,
"scale": 64000
},
{
"level": 8,
"resolution": 8.466683600033868,
"scale": 32000
},
{
"level": 9,
"resolution": 4.233341800016934,
"scale": 16000
},
{
"level": 10,
"resolution": 2.116670900008467,
"scale": 8000
},
{
"level": 11,
"resolution": 1.0583354500042335,
"scale": 4000
},
{
"level": 12,
"resolution": 0.5291677250021167,
"scale": 2000
},
{
"level": 13,
"resolution": 0.26458386250105836,
"scale": 1000
},
{
"level": 14,
"resolution": 0.13229193125052918,
"scale": 500
},
{
"level": 15,
"resolution": 0.06614596562526459,
"scale": 250
}
]
},
"storageInfo": {
"storageFormat": "esriMapCacheStorageModeCompactV2",
"packetSize": 128
},
"cacheType": "Map",
"allowRasterFunction": true,
"rasterFunctionInfos": [
{
"name": "None",
"description": "Make a Raster or Raster Dataset into a Function Raster Dataset.",
"help": ""
},
{
"name": "Infrared",
"description": "A raster function template.",
"help": ""
}
],
"rasterTypeInfos": [
{
"name": "Raster Dataset",
"description": "Supports all ArcGIS Raster Datasets",
"help": ""
}
],
"mensurationCapabilities": "None",
"hasHistograms": true,
"hasColormap": false,
"hasRasterAttributeTable": false,
"minScale": 8000000,
"maxScale": 500,
"exportTilesAllowed": false,
"supportsStatistics": true,
"supportsAdvancedQueries": true,
"editFieldsInfo": null,
"ownershipBasedAccessControlForRasters": null,
"allowComputeTiePoints": false,
"useStandardizedQueries": true,
"advancedQueryCapabilities": {
"useStandardizedQueries": true,
"supportsStatistics": true,
"supportsOrderBy": true,
"supportsDistinct": true,
"supportsPagination": true
},
"spatialReference": {
"wkid": 26957,
"latestWkid": 26957
}
}