View In:
ArcGIS JavaScript
ArcGIS Online Map Viewer
ArcGIS Earth
Service Description: This digital product contains gridded estimates of water-table (wt) elevation under wet conditions for Delaware. This work is the final component of a larger effort to provide estimates of water-table elevations and depths to water for the Coastal Plain portion of Delaware. Mapping was supported by the Delaware Department of Natural Resources and Environmental Control and the Delaware Geological Survey. These grids were produced with the same multiple linear regression (MLR) method as Andres and Martin (2005). Briefly, this method consists of: identifying dry, normal, and wet periods from long-term observation well data (Nc45-01, Ng11-01, Qe44-01); estimating a minimum water table (Sepulveda, 2002) by fitting a localized polynomial surface to elevations of surface water features (e.g., streams, swamps, and marshes); and computing a second variable in the regression from water levels observed in wells. A separate MLR equation was determined for dry, normal, and wet periods, and these equations were used in ArcMap v.9 (ESRI, 2004) to estimate grids of water-table elevations and depths to water. The grids have 30-m horizontal and 1-ft vertical resolutions. In the accompanying digital data, grid world files and ground-water level observation data are in UTM-18N, 1983 projection in meters and elevations are in feet, NAVD 1988. Files are in ESRI, Inc., grid format. These data were combined from DGS Digital Data Products DP05-01, DP05-03, and DP05-04 Digital Water-Table Data for Sussex, Kent, and New Castle counties, Delaware, respectively. REFERENCES CITED Andres, A. S., and Martin, M. J., 2005, Estimation of the water-table surface for the Inland Bays watershed, Delaware: Delaware Geological Survey Report of Investigations No. 68, 20p. ESRI, 2004, ArcMap v. 9, Redlands, California. Sepulveda, N., 2003, A statistical estimator of the spatial distribution of the water-table altitude: Ground Water, vol. 41, p. 66-71.
Name: Geology/DGS_WaterTableElevation_Wet
Description: This digital product contains gridded estimates of water-table (wt) elevation under wet conditions for Delaware. This work is the final component of a larger effort to provide estimates of water-table elevations and depths to water for the Coastal Plain portion of Delaware. Mapping was supported by the Delaware Department of Natural Resources and Environmental Control and the Delaware Geological Survey. These grids were produced with the same multiple linear regression (MLR) method as Andres and Martin (2005). Briefly, this method consists of: identifying dry, normal, and wet periods from long-term observation well data (Nc45-01, Ng11-01, Qe44-01); estimating a minimum water table (Sepulveda, 2002) by fitting a localized polynomial surface to elevations of surface water features (e.g., streams, swamps, and marshes); and computing a second variable in the regression from water levels observed in wells. A separate MLR equation was determined for dry, normal, and wet periods, and these equations were used in ArcMap v.9 (ESRI, 2004) to estimate grids of water-table elevations and depths to water. The grids have 30-m horizontal and 1-ft vertical resolutions. In the accompanying digital data, grid world files and ground-water level observation data are in UTM-18N, 1983 projection in meters and elevations are in feet, NAVD 1988. Files are in ESRI, Inc., grid format. These data were combined from DGS Digital Data Products DP05-01, DP05-03, and DP05-04 Digital Water-Table Data for Sussex, Kent, and New Castle counties, Delaware, respectively. REFERENCES CITED Andres, A. S., and Martin, M. J., 2005, Estimation of the water-table surface for the Inland Bays watershed, Delaware: Delaware Geological Survey Report of Investigations No. 68, 20p. ESRI, 2004, ArcMap v. 9, Redlands, California. Sepulveda, N., 2003, A statistical estimator of the spatial distribution of the water-table altitude: Ground Water, vol. 41, p. 66-71.
Single Fused Map Cache: false
Extent:
XMin: -8436795.4613
YMin: 4643360.8292
XMax: -8354385.4613
YMax: 4842650.8292
Spatial Reference: 102100
(3857)
LatestVCSWkid(0)
Initial Extent:
XMin: -8436795.4613
YMin: 4643360.8292
XMax: -8354385.4613
YMax: 4842650.8292
Spatial Reference: 102100
(3857)
LatestVCSWkid(0)
Full Extent:
XMin: -8436795.4613
YMin: 4643360.8292
XMax: -8354385.4613
YMax: 4842650.8292
Spatial Reference: 102100
(3857)
LatestVCSWkid(0)
Pixel Size X: 30.000000000000338
Pixel Size Y: 30.0
Band Count: 1
Pixel Type: U8
RasterFunction Infos: {"rasterFunctionInfos": [
{
"name": "Water Table Elevation (meters)",
"description": "Use this raster function template to symbolize the water table elevation data in 10 meter increments.",
"help": "This template will change the symbology from black/white to 6 color classes in 10 meter increments."
},
{
"name": "1-Foot Color Style",
"description": "Raster function template for changing the display of the water table elevation to show the elelvation in 1-foot increments.",
"help": "Raster function template to change the symbology to 1-foot intervals."
},
{
"name": "10-Foot Color Style",
"description": "Raster Function Template for changing the symbology of the elevation to 10-foot increments.",
"help": "Use this template to change the symbology to represent the elevation in 10-foot increments."
},
{
"name": "None",
"description": "Make a Raster or Raster Dataset into a Function Raster Dataset.",
"help": ""
}
]}
Mensuration Capabilities: Basic
Inspection Capabilities:
Has Histograms: true
Has Colormap: false
Has Multi Dimensions : false
Rendering Rule:
Min Scale: 0
Max Scale: 0
Copyright Text: Matthew J. Martin and A. Scott Andres
Service Data Type: esriImageServiceDataTypeGeneric
Min Values: 0
Max Values: 210
Mean Values: 31.687523233550422
Standard Deviation Values: 19.92031860317776
Object ID Field:
Fields:
None
Default Mosaic Method: Center
Allowed Mosaic Methods:
SortField:
SortValue: null
Mosaic Operator: First
Default Compression Quality: 75
Default Resampling Method: Bilinear
Max Record Count: null
Max Image Height: 4100
Max Image Width: 15000
Max Download Image Count: null
Max Mosaic Image Count: null
Allow Raster Function: true
Allow Copy: true
Allow Analysis: true
Allow Compute TiePoints: false
Supports Statistics: false
Supports Advanced Queries: false
Use StandardizedQueries: true
Raster Type Infos:
Name: Raster Dataset
Description: Supports all ArcGIS Raster Datasets
Help:
Has Raster Attribute Table: false
Edit Fields Info: null
Ownership Based AccessControl For Rasters: null
Child Resources:
Info
Histograms
Statistics
Key Properties
Legend
Raster Function Infos
Supported Operations:
Export Image
Identify
Measure
Compute Histograms
Compute Statistics Histograms
Get Samples
Compute Class Statistics
Query Boundary
Compute Pixel Location
Compute Angles
Validate
Project