View In:
ArcGIS JavaScript
ArcGIS Online Map Viewer
ArcGIS Earth
Service Description: This digital product contains gridded estimates of the thickness of the unconfined portion of the Columbia aquifer for Sussex County, Delaware. Mapping was supported by the Delaware Department of Natural Resources and Environmental Control and the Delaware Geological Survey. These grids were produced with the methods described in Andres and Klingbeil (2006). Additional analyses of the hydrogeologic framework and grids are also contained in that report. Briefly, the method to determine the thickness of the aquifer includes assessing the thickness of subsurface materials in descriptive and geophysical logs and using computer-based interpolation to estimate thickness across the study area. Separate grids were determined for eastern and western Sussex County and were merged and smoothed to minimize edge effects. The Thickness grids has 30-m horizontal and 1-ft vertical resolutions. REFERENCES CITED Andres, A. S., and Klingbeil, A. D., 2006, Thickness and transmissivity of the unconfined aquifer, eastern Sussex County, Delaware: Delaware Geological Survey Report of Investigations No. 70, 19 p., 1 plate.
Name: Geology/DGS_UnconfinedAquifer_Thick
Description: This digital product contains gridded estimates of the thickness of the unconfined portion of the Columbia aquifer for Sussex County, Delaware. Mapping was supported by the Delaware Department of Natural Resources and Environmental Control and the Delaware Geological Survey. These grids were produced with the methods described in Andres and Klingbeil (2006). Additional analyses of the hydrogeologic framework and grids are also contained in that report. Briefly, the method to determine the thickness of the aquifer includes assessing the thickness of subsurface materials in descriptive and geophysical logs and using computer-based interpolation to estimate thickness across the study area. Separate grids were determined for eastern and western Sussex County and were merged and smoothed to minimize edge effects. The Thickness grids has 30-m horizontal and 1-ft vertical resolutions. REFERENCES CITED Andres, A. S., and Klingbeil, A. D., 2006, Thickness and transmissivity of the unconfined aquifer, eastern Sussex County, Delaware: Delaware Geological Survey Report of Investigations No. 70, 19 p., 1 plate.
Single Fused Map Cache: false
Extent:
XMin: -8429419.1273
YMin: 4643339.3296
XMax: -8354389.1273
YMax: 4716209.3296
Spatial Reference: 102100
(3857)
LatestVCSWkid(0)
Initial Extent:
XMin: -8429419.1273
YMin: 4643339.3296
XMax: -8354389.1273
YMax: 4716209.3296
Spatial Reference: 102100
(3857)
LatestVCSWkid(0)
Full Extent:
XMin: -8429419.1273
YMin: 4643339.3296
XMax: -8354389.1273
YMax: 4716209.3296
Spatial Reference: 102100
(3857)
LatestVCSWkid(0)
Pixel Size X: 30.0
Pixel Size Y: 30.0
Band Count: 1
Pixel Type: S32
RasterFunction Infos: {"rasterFunctionInfos": [
{
"name": "Unconfined Aquifer Thickness",
"description": "Raster Function Template for changing the symbology of the unconfined aquifer thickness to 20-meter increments.",
"help": "Use this template to change the symbology to represent the elevation in 20-meter increments."
},
{
"name": "None",
"description": "Make a Raster or Raster Dataset into a Function Raster Dataset.",
"help": ""
}
]}
Mensuration Capabilities: Basic
Inspection Capabilities:
Has Histograms: true
Has Colormap: false
Has Multi Dimensions : false
Rendering Rule:
Min Scale: 0
Max Scale: 0
Copyright Text:
Service Data Type: esriImageServiceDataTypeGeneric
Min Values: 0
Max Values: 242
Mean Values: 68.1053264852423
Standard Deviation Values: 41.47090965140664
Object ID Field:
Fields:
None
Default Mosaic Method: Center
Allowed Mosaic Methods:
SortField:
SortValue: null
Mosaic Operator: First
Default Compression Quality: 75
Default Resampling Method: Bilinear
Max Record Count: null
Max Image Height: 4100
Max Image Width: 15000
Max Download Image Count: null
Max Mosaic Image Count: null
Allow Raster Function: true
Allow Copy: true
Allow Analysis: true
Allow Compute TiePoints: false
Supports Statistics: false
Supports Advanced Queries: false
Use StandardizedQueries: true
Raster Type Infos:
Name: Raster Dataset
Description: Supports all ArcGIS Raster Datasets
Help:
Has Raster Attribute Table: false
Edit Fields Info: null
Ownership Based AccessControl For Rasters: null
Child Resources:
Info
Histograms
Statistics
Key Properties
Legend
Raster Function Infos
Supported Operations:
Export Image
Identify
Measure
Compute Histograms
Compute Statistics Histograms
Get Samples
Compute Class Statistics
Query Boundary
Compute Pixel Location
Compute Angles
Validate
Project