View In:
ArcGIS JavaScript
ArcGIS Online Map Viewer
ArcGIS Earth
Service Description: Geology/DGS_DepthToWater_Norm
Name: Geology/DGS_DepthToWater_Norm
Description:
Single Fused Map Cache: false
Extent:
XMin: -8436795.4613
YMin: 4643360.8292
XMax: -8354385.4613
YMax: 4842650.8292
Spatial Reference: 102100
(3857)
LatestVCSWkid(0)
Initial Extent:
XMin: -8436795.4613
YMin: 4643360.8292
XMax: -8354385.4613
YMax: 4842650.8292
Spatial Reference: 102100
(3857)
LatestVCSWkid(0)
Full Extent:
XMin: -8436795.4613
YMin: 4643360.8292
XMax: -8354385.4613
YMax: 4842650.8292
Spatial Reference: 102100
(3857)
LatestVCSWkid(0)
Pixel Size X: 30.000000000000338
Pixel Size Y: 30.0
Band Count: 1
Pixel Type: U8
RasterFunction Infos: {"rasterFunctionInfos": [
{
"name": "Depth to Water in Meters",
"description": "This raster template can be used to symbolize the depth to water images.",
"help": ""
},
{
"name": "None",
"description": "",
"help": ""
}
]}
Mensuration Capabilities: Basic
Inspection Capabilities:
Has Histograms: true
Has Colormap: false
Has Multi Dimensions : false
Rendering Rule:
Min Scale: 0
Max Scale: 0
Copyright Text:
Service Data Type: esriImageServiceDataTypeGeneric
Min Values: 0
Max Values: 163
Mean Values: 7.811090369139033
Standard Deviation Values: 6.277970646756479
Object ID Field:
Fields:
None
Default Mosaic Method: Center
Allowed Mosaic Methods:
SortField:
SortValue: null
Mosaic Operator: First
Default Compression Quality: 75
Default Resampling Method: Bilinear
Max Record Count: null
Max Image Height: 4100
Max Image Width: 15000
Max Download Image Count: null
Max Mosaic Image Count: null
Allow Raster Function: true
Allow Copy: true
Allow Analysis: true
Allow Compute TiePoints: false
Supports Statistics: false
Supports Advanced Queries: false
Use StandardizedQueries: true
Raster Type Infos:
Name: Raster Dataset
Description: Supports all ArcGIS Raster Datasets
Help:
Has Raster Attribute Table: false
Edit Fields Info: null
Ownership Based AccessControl For Rasters: null
Child Resources:
Info
Histograms
Statistics
Key Properties
Legend
Raster Function Infos
Supported Operations:
Export Image
Identify
Measure
Compute Histograms
Compute Statistics Histograms
Get Samples
Compute Class Statistics
Query Boundary
Compute Pixel Location
Compute Angles
Validate
Project