View In:
ArcGIS JavaScript
ArcGIS Online Map Viewer
ArcGIS Earth
Service Description: The data were collected to map out the heterogeneity in the enhanced heating in urban settings, known as the urban heat island, in the City of Wilmington and other urban centers in Delaware. The heterogeneous distribution of heat throughout a city due to variations in geography and land-use results in residents facing disparate exposure to heat extremes. The results indicate the areas where the urban heat island is most extreme in this region. It also may assist those providing cooling services, emergency managers, planners and policy makers determine how best to respond to extreme heat.
Name: Environmental/DE_HSM_Morning
Description: The data were collected to map out the heterogeneity in the enhanced heating in urban settings, known as the urban heat island, in the City of Wilmington and other urban centers in Delaware. The heterogeneous distribution of heat throughout a city due to variations in geography and land-use results in residents facing disparate exposure to heat extremes. The results indicate the areas where the urban heat island is most extreme in this region. It also may assist those providing cooling services, emergency managers, planners and policy makers determine how best to respond to extreme heat.
Single Fused Map Cache: false
Extent:
XMin: 446760.0
YMin: 4389230.0
XMax: 463760.0
YMax: 4409400.0
Spatial Reference: 32618
(32618)
LatestVCSWkid(0)
Initial Extent:
XMin: 446760.0
YMin: 4389230.0
XMax: 463760.0
YMax: 4409400.0
Spatial Reference: 32618
(32618)
LatestVCSWkid(0)
Full Extent:
XMin: 446760.0
YMin: 4389230.0
XMax: 463760.0
YMax: 4409400.0
Spatial Reference: 32618
(32618)
LatestVCSWkid(0)
Pixel Size X: 10.0
Pixel Size Y: 10.0
Band Count: 1
Pixel Type: F32
RasterFunction Infos: {"rasterFunctionInfos": [{
"name": "None",
"description": "",
"help": ""
}]}
Mensuration Capabilities: Basic
Inspection Capabilities:
Has Histograms: true
Has Colormap: false
Has Multi Dimensions : false
Rendering Rule:
Min Scale: 0
Max Scale: 0
Copyright Text: DNREC Division of Climate, Coastal, and Energy, Climate Sustainability Program, Gerard J. Mangone Climate Change Science and Policy Hub (U. Delaware), Center for Environmental Monitoring and Analysis (U. Delaware), Delaware Resilience Hub
Service Data Type: esriImageServiceDataTypeGeneric
Min Values: 62.49581527709961
Max Values: 71.5516586303711
Mean Values: 67.47579563293539
Standard Deviation Values: 1.0057579796347742
Object ID Field: OBJECTID
Fields:
-
OBJECTID
(
type: esriFieldTypeOID, alias: OBJECTID
)
-
Shape
(
type: esriFieldTypeGeometry, alias: Shape
)
-
Name
(
type: esriFieldTypeString, alias: Name, length: 200
)
-
MinPS
(
type: esriFieldTypeDouble, alias: MinPS
)
-
MaxPS
(
type: esriFieldTypeDouble, alias: MaxPS
)
-
LowPS
(
type: esriFieldTypeDouble, alias: LowPS
)
-
HighPS
(
type: esriFieldTypeDouble, alias: HighPS
)
-
Category
(
type: esriFieldTypeInteger, alias: Category
, Coded Values:
[0: Unknown]
, [1: Primary]
, [2: Overview]
, ...6 more...
)
-
Tag
(
type: esriFieldTypeString, alias: Tag, length: 100
)
-
GroupName
(
type: esriFieldTypeString, alias: GroupName, length: 100
)
-
ProductName
(
type: esriFieldTypeString, alias: ProductName, length: 100
)
-
CenterX
(
type: esriFieldTypeDouble, alias: CenterX
)
-
CenterY
(
type: esriFieldTypeDouble, alias: CenterY
)
-
ZOrder
(
type: esriFieldTypeInteger, alias: ZOrder
)
-
Shape_Length
(
type: esriFieldTypeDouble, alias: Shape_Length
)
-
Shape_Area
(
type: esriFieldTypeDouble, alias: Shape_Area
)
Default Mosaic Method: Northwest
Allowed Mosaic Methods: NorthWest,Center,LockRaster,ByAttribute,Nadir,Viewpoint,Seamline,None
SortField:
SortValue: null
Mosaic Operator: First
Default Compression Quality: 75
Default Resampling Method: Bilinear
Max Record Count: 1000
Max Image Height: 4100
Max Image Width: 15000
Max Download Image Count: 20
Max Mosaic Image Count: 20
Allow Raster Function: true
Allow Copy: true
Allow Analysis: true
Allow Compute TiePoints: false
Supports Statistics: true
Supports Advanced Queries: true
Use StandardizedQueries: true
Raster Type Infos:
Name: Raster Dataset
Description: Supports all ArcGIS Raster Datasets
Help:
Has Raster Attribute Table: false
Edit Fields Info: null
Ownership Based AccessControl For Rasters: null
Child Resources:
Info
Histograms
Statistics
Key Properties
Legend
Raster Function Infos
Supported Operations:
Export Image
Query
Identify
Measure
Compute Histograms
Compute Statistics Histograms
Get Samples
Compute Class Statistics
Query GPS Info
Find Images
Image to Map
Map to Image
Measure from Image
Image to Map Multiray
Query Boundary
Compute Pixel Location
Compute Angles
Validate
Project