View In:
ArcGIS JavaScript
ArcGIS Online Map Viewer
ArcGIS Earth
Service Description: Elevation_SP/DE_Lidar_DEM
Name: Elevation_SP/DE_Lidar_DEM
Description:
Single Fused Map Cache: false
Extent:
XMin: -8436901.7048
YMin: 4643226.4208
XMax: -8353567.7048
YMax: 4842721.4208
Spatial Reference: 102100
(3857)
VCSWkid(5703)
LatestVCSWkid(5703)
Initial Extent:
XMin: -8436901.7048
YMin: 4643226.4208
XMax: -8353567.7048
YMax: 4842721.4208
Spatial Reference: 102100
(3857)
VCSWkid(5703)
LatestVCSWkid(5703)
Full Extent:
XMin: -8436901.7048
YMin: 4643226.4208
XMax: -8353567.7048
YMax: 4842721.4208
Spatial Reference: 102100
(3857)
VCSWkid(5703)
LatestVCSWkid(5703)
Pixel Size X: 1.0
Pixel Size Y: 1.0
Band Count: 1
Pixel Type: F32
RasterFunction Infos: {"rasterFunctionInfos": [
{
"name": "None",
"description": "Make a Raster or Raster Dataset into a Function Raster Dataset.",
"help": ""
},
{
"name": "Lidar DEM Aspect",
"description": "A raster function template for viewing the Aspect of Delaware's Lidar DEM.",
"help": "Shows which direction a pixel is facing, where 0 is due north and angles increase clockwise to 360."
},
{
"name": "Lidar DEM Hillshade",
"description": "A raster function template for viewing the Hillshade of Delaware's Lidar DEM.",
"help": "Creates a 3D representation of the surface, with the sun's relative position taken into account for shading the image."
},
{
"name": "Lidar DEM Shaded Relief",
"description": "A raster function template to view Shaded Relief of Delaware's Lidar DEM.",
"help": "Creates a multiband, color coded, 3D representation of the surface, with the sun's relative position taken into account for shading the image."
},
{
"name": "Lidar DEM Slope",
"description": "A raster function template for viewing Slope derived from Delaware's Lidar DEM.",
"help": "Apply this template to the Lidar DEM to see the Slope, which shows the rate of change from one pixel value to its neighbors."
},
{
"name": "Lidar DEM Spectrum (Dynamic)",
"description": "A raster function template for viewing Delaware's Lidar DEM.",
"help": "Dynamic symbology for viewing details of Delaware's elevation."
},
{
"name": "Lidar DEM Spectrum (Static)",
"description": "A raster function template for viewing Delaware's Lidar DEM.",
"help": "Static symbology for viewing details of Delaware's elevation."
}
]}
Mensuration Capabilities: None
Inspection Capabilities:
Has Histograms: true
Has Colormap: false
Has Multi Dimensions : false
Rendering Rule:
Min Scale: 0
Max Scale: 0
Copyright Text:
Service Data Type: esriImageServiceDataTypeGeneric
Min Values: -2.285565137863159
Max Values: 137.4993438720703
Mean Values: 13.714876441597019
Standard Deviation Values: 16.497159044588614
Object ID Field: OBJECTID
Fields:
-
OBJECTID
(
type: esriFieldTypeOID, alias: OBJECTID
)
-
Shape
(
type: esriFieldTypeGeometry, alias: Shape
)
-
Name
(
type: esriFieldTypeString, alias: Name, length: 200
)
-
MinPS
(
type: esriFieldTypeDouble, alias: MinPS
)
-
MaxPS
(
type: esriFieldTypeDouble, alias: MaxPS
)
-
LowPS
(
type: esriFieldTypeDouble, alias: LowPS
)
-
HighPS
(
type: esriFieldTypeDouble, alias: HighPS
)
-
Category
(
type: esriFieldTypeInteger, alias: Category
, Coded Values:
[0: Unknown]
, [1: Primary]
, [2: Overview]
, ...6 more...
)
-
Tag
(
type: esriFieldTypeString, alias: Tag, length: 100
)
-
GroupName
(
type: esriFieldTypeString, alias: GroupName, length: 100
)
-
ProductName
(
type: esriFieldTypeString, alias: ProductName, length: 100
)
-
CenterX
(
type: esriFieldTypeDouble, alias: CenterX
)
-
CenterY
(
type: esriFieldTypeDouble, alias: CenterY
)
-
ZOrder
(
type: esriFieldTypeInteger, alias: ZOrder
)
-
Shape_Length
(
type: esriFieldTypeDouble, alias: Shape_Length
)
-
Shape_Area
(
type: esriFieldTypeDouble, alias: Shape_Area
)
Default Mosaic Method: Northwest
Allowed Mosaic Methods: NorthWest,Center,LockRaster,ByAttribute,Nadir,Viewpoint,Seamline,None
SortField:
SortValue: null
Mosaic Operator: First
Default Compression Quality: 75
Default Resampling Method: Bilinear
Max Record Count: 1000
Max Image Height: 4100
Max Image Width: 15000
Max Download Image Count: 20
Max Mosaic Image Count: 20
Allow Raster Function: true
Allow Copy: true
Allow Analysis: true
Allow Compute TiePoints: false
Supports Statistics: true
Supports Advanced Queries: true
Use StandardizedQueries: true
Raster Type Infos:
Name: Raster Dataset
Description: Supports all ArcGIS Raster Datasets
Help:
Has Raster Attribute Table: false
Edit Fields Info: null
Ownership Based AccessControl For Rasters: null
Child Resources:
Info
Histograms
Statistics
Key Properties
Legend
Raster Function Infos
Supported Operations:
Export Image
Query
Identify
Compute Histograms
Compute Statistics Histograms
Get Samples
Compute Class Statistics
Query GPS Info
Find Images
Image to Map
Map to Image
Measure from Image
Image to Map Multiray
Query Boundary
Compute Pixel Location
Compute Angles
Validate
Project