View In:
ArcGIS JavaScript
ArcGIS Online Map Viewer
ArcGIS Earth
Service Description: DNREC/DAQ_Broadkill_Fire
Name: DNREC/DAQ_Broadkill_Fire
Description:
Single Fused Map Cache: false
Extent:
XMin: 1772264.9999999981
YMin: 1947795.0000000037
XMax: 1775804.9999999981
YMax: 1950285.0000000037
Spatial Reference: 5070
(5070)
LatestVCSWkid(0)
Initial Extent:
XMin: 1772264.9999999981
YMin: 1947795.0000000037
XMax: 1775804.9999999981
YMax: 1950285.0000000037
Spatial Reference: 5070
(5070)
LatestVCSWkid(0)
Full Extent:
XMin: 1772264.9999999981
YMin: 1947795.0000000037
XMax: 1775804.9999999981
YMax: 1950285.0000000037
Spatial Reference: 5070
(5070)
LatestVCSWkid(0)
Pixel Size X: 30.0
Pixel Size Y: 30.0
Band Count: 1
Pixel Type: S32
RasterFunction Infos: {"rasterFunctionInfos": [
{
"name": "DAQ_Broadkill_Fire",
"description": "Display style for Broadkill Fire",
"help": "Use this template to display the air quality data using the unique value symbology"
},
{
"name": "None",
"description": "",
"help": ""
}
]}
Mensuration Capabilities: Basic
Inspection Capabilities:
Has Histograms: true
Has Colormap: false
Has Multi Dimensions : false
Rendering Rule:
Min Scale: 0
Max Scale: 0
Copyright Text:
Service Data Type: esriImageServiceDataTypeGeneric
Min Values: 0
Max Values: 1281
Mean Values: 275.57080655194
Standard Deviation Values: 220.74546110866
Object ID Field:
Fields:
None
Default Mosaic Method: Center
Allowed Mosaic Methods:
SortField:
SortValue: null
Mosaic Operator: First
Default Compression Quality: 75
Default Resampling Method: Bilinear
Max Record Count: null
Max Image Height: 4100
Max Image Width: 15000
Max Download Image Count: null
Max Mosaic Image Count: null
Allow Raster Function: true
Allow Copy: true
Allow Analysis: true
Allow Compute TiePoints: false
Supports Statistics: false
Supports Advanced Queries: false
Use StandardizedQueries: true
Raster Type Infos:
Name: Raster Dataset
Description: Supports all ArcGIS Raster Datasets
Help:
Has Raster Attribute Table: true
Edit Fields Info: null
Ownership Based AccessControl For Rasters: null
Child Resources:
Info
Raster Attribute Table
Histograms
Statistics
Key Properties
Legend
Raster Function Infos
Supported Operations:
Export Image
Identify
Measure
Compute Histograms
Compute Statistics Histograms
Get Samples
Compute Class Statistics
Query Boundary
Compute Pixel Location
Compute Angles
Validate
Project