View In:
ArcGIS JavaScript
ArcGIS Online Map Viewer
ArcGIS Earth
Service Description: Resolution: 0.25 Meter
Bands: 4-band: R,G,B,NIR
SanbornDelivered as 2010 tiles.Each tile is 1.7km x 1.7km, 6800x6800 pixels, and 180MB (TIF).SRS: NAD83 HARN Delaware State Plane metersScale: 1:2,400
This dataset contains digital 0.25 meter orthophotos of the State of Delaware at a scale of 1:2,400 in 4-band but are being served as 3-band RGB, 8-bit format from the DataMIL site. The dates for the Orthophotography missions were 3/19, 3/29, 3/30, 4/2, 4/3, 4/10, 4/14, 4/20 all in 2007.
The orthophotos can be used for many purposes including development planning, emergency planning, and other planning or mapping purposes.
ASPRS Class 1. This data has also been produced to be fully compliant with NSSDA Standards for mapping at a scale of 1:2,400. The dates for the Orthophotography missions were 3/19, 3/29, 3/30, 4/2, 4/3, 4/10, 4/14, 4/20 all in 2007.
Name: DE_Imagery_SP/DE_Imagery_2007
Description: Resolution: 0.25 Meter
Bands: 4-band: R,G,B,NIR
SanbornDelivered as 2010 tiles.Each tile is 1.7km x 1.7km, 6800x6800 pixels, and 180MB (TIF).SRS: NAD83 HARN Delaware State Plane metersScale: 1:2,400
This dataset contains digital 0.25 meter orthophotos of the State of Delaware at a scale of 1:2,400 in 4-band but are being served as 3-band RGB, 8-bit format from the DataMIL site. The dates for the Orthophotography missions were 3/19, 3/29, 3/30, 4/2, 4/3, 4/10, 4/14, 4/20 all in 2007.
The orthophotos can be used for many purposes including development planning, emergency planning, and other planning or mapping purposes.
ASPRS Class 1. This data has also been produced to be fully compliant with NSSDA Standards for mapping at a scale of 1:2,400. The dates for the Orthophotography missions were 3/19, 3/29, 3/30, 4/2, 4/3, 4/10, 4/14, 4/20 all in 2007.
Single Fused Map Cache: true
Tile Info:
- Height: 256
- Width: 256
- DPI: 96
-
Levels of Detail: 14
- Format: MIXED
- Compression Quality: 65.0
- LERC Error: NaN
- Origin: X: -5423100.0
Y: 5794600.0
- Spatial Reference: 26957
(26957)
Storage Info:
- Storage Format: esriMapCacheStorageModeCompact
- Packet Size: 128
Extent:
XMin: 166500
YMin: 50000
XMax: 232800
YMax: 204700
Spatial Reference: 26957
(26957)
Initial Extent:
XMin: 166500
YMin: 50000
XMax: 232800
YMax: 204700
Spatial Reference: 26957
(26957)
Full Extent:
XMin: 166500
YMin: 50000
XMax: 232800
YMax: 204700
Spatial Reference: 26957
(26957)
Pixel Size X: 0.25
Pixel Size Y: 0.25
Band Count: 3
Pixel Type: U8
RasterFunction Infos: {"rasterFunctionInfos": [{
"name": "None",
"description": "",
"help": ""
}]}
Mensuration Capabilities: Basic
Has Histograms: true
Has Colormap: false
Has Multi Dimensions : false
Rendering Rule:
Min Scale: 8000000
Max Scale: 1000
Copyright Text: Sanborn Mapping Company
Service Data Type: esriImageServiceDataTypeProcessed
Min Values: 13, 4, 13
Max Values: 255, 255, 255
Mean Values: 142.83636466926927, 139.65075104343643, 135.82981911401552
Standard Deviation Values: 26.376154942722263, 27.511987865955632, 27.874157684150166
Object ID Field: OBJECTID
Fields:
-
OBJECTID
(
type: esriFieldTypeOID, alias: OBJECTID
)
-
Shape
(
type: esriFieldTypeGeometry, alias: Shape
)
-
Name
(
type: esriFieldTypeString, alias: Name, length: 50
)
-
MinPS
(
type: esriFieldTypeDouble, alias: MinPS
)
-
MaxPS
(
type: esriFieldTypeDouble, alias: MaxPS
)
-
LowPS
(
type: esriFieldTypeDouble, alias: LowPS
)
-
HighPS
(
type: esriFieldTypeDouble, alias: HighPS
)
-
Category
(
type: esriFieldTypeInteger, alias: Category
, Coded Values:
[0: Unknown]
, [1: Primary]
, [2: Overview]
, ...6 more...
)
-
Tag
(
type: esriFieldTypeString, alias: Tag, length: 20
)
-
GroupName
(
type: esriFieldTypeString, alias: GroupName, length: 50
)
-
ProductName
(
type: esriFieldTypeString, alias: ProductName, length: 50
)
-
CenterX
(
type: esriFieldTypeDouble, alias: CenterX
)
-
CenterY
(
type: esriFieldTypeDouble, alias: CenterY
)
-
ZOrder
(
type: esriFieldTypeInteger, alias: ZOrder
)
-
Shape_Length
(
type: esriFieldTypeDouble, alias: Shape_Length
)
-
Shape_Area
(
type: esriFieldTypeDouble, alias: Shape_Area
)
Default Mosaic Method: ByAttribute
Allowed Mosaic Methods: ByAttribute,NorthWest,Center,LockRaster,Nadir,Viewpoint,Seamline,None
SortField: LowPS
SortValue: 0
Mosaic Operator: First
Default Compression Quality: 75
Default Resampling Method: Bilinear
Max Record Count: 1000
Max Image Height: 500000
Max Image Width: 500000
Max Download Image Count: 20
Max Mosaic Image Count: 2000
Allow Raster Function: true
Allow Copy: true
Allow Analysis: true
Allow Compute TiePoints: false
Supports Statistics: true
Supports Advanced Queries: true
Use StandardizedQueries: true
Raster Type Infos:
Name: Raster Dataset
Description: Supports all ArcGIS Raster Datasets
Help:
Has Raster Attribute Table: false
Edit Fields Info: null
Ownership Based AccessControl For Rasters: null
Child Resources:
Info
Histograms
Statistics
Key Properties
Legend
Raster Function Infos
Supported Operations:
Export Image
Query
Identify
Measure
Compute Histograms
Compute Statistics Histograms
Get Samples
Compute Class Statistics
Query Boundary
Compute Pixel Location
Compute Angles
Validate
Project