View In:
ArcGIS JavaScript
ArcGIS Online Map Viewer
ArcGIS Earth
Service Description: Resolution: 1.0 Meter
Band: 1-band: Panchromatic
DelDOTDelivered as 172 Quarter-quads.Each tile is 45 MB (TIF).SRS: NAD83 State Plane metersScale: 1:12,000
The State of Delaware contracted with Earth Data (formerly PhotoScience) to update the 1992 1-meter resolution color-IR digital orthophotos series for Delaware with a 1-meter resolution greyscale digital orthophoto series. The state was re-flown in March/April, 1997. The airphotos were digitized and georeferenced to Delaware State Plane coordinates (meters, North American Datum 1983, based on GRS 1980 spheroid). The source data are TIFF-format ~50 MB 8-bit greyscale files for each of the 172 quarter-quads in Delaware.
To disseminate these data on the web, the Spatial Analysis Lab (UD) resampled the 172 DOQ's covering the state to 5-meter resolution without changing projection, using a nearest-neighbor (i.e. center-cell selection) resampling procedure which generates a high-contrast image with some blockiness in very small features. Most images were brightened and contrast-enhanced using Adobe Photoshop. To reduce file size and eliminate sun glare, large water areas are masked to black. These files are distributed in JPEG format in the original DE State Plane (NAD83 meters) projection.
Name: DE_Imagery_SP/DE_Imagery_1997
Description: Resolution: 1.0 Meter
Band: 1-band: Panchromatic
DelDOTDelivered as 172 Quarter-quads.Each tile is 45 MB (TIF).SRS: NAD83 State Plane metersScale: 1:12,000
The State of Delaware contracted with Earth Data (formerly PhotoScience) to update the 1992 1-meter resolution color-IR digital orthophotos series for Delaware with a 1-meter resolution greyscale digital orthophoto series. The state was re-flown in March/April, 1997. The airphotos were digitized and georeferenced to Delaware State Plane coordinates (meters, North American Datum 1983, based on GRS 1980 spheroid). The source data are TIFF-format ~50 MB 8-bit greyscale files for each of the 172 quarter-quads in Delaware.
To disseminate these data on the web, the Spatial Analysis Lab (UD) resampled the 172 DOQ's covering the state to 5-meter resolution without changing projection, using a nearest-neighbor (i.e. center-cell selection) resampling procedure which generates a high-contrast image with some blockiness in very small features. Most images were brightened and contrast-enhanced using Adobe Photoshop. To reduce file size and eliminate sun glare, large water areas are masked to black. These files are distributed in JPEG format in the original DE State Plane (NAD83 meters) projection.
Single Fused Map Cache: true
Tile Info:
- Height: 256
- Width: 256
- DPI: 96
-
Levels of Detail: 14
- Format: MIXED
- Compression Quality: 65.0
- LERC Error: NaN
- Origin: X: -5423100.0
Y: 5794600.0
- Spatial Reference: 26957
(26957)
Storage Info:
- Storage Format: esriMapCacheStorageModeCompact
- Packet Size: 128
Extent:
XMin: 166499.5
YMin: 50000.5
XMax: 232799.5
YMax: 204700.5
Spatial Reference: 26957
(26957)
Initial Extent:
XMin: 166499.5
YMin: 50000.5
XMax: 232799.5
YMax: 204700.5
Spatial Reference: 26957
(26957)
Full Extent:
XMin: 166499.5
YMin: 50000.5
XMax: 232799.5
YMax: 204700.5
Spatial Reference: 26957
(26957)
Pixel Size X: 1.0
Pixel Size Y: 1.0
Band Count: 3
Pixel Type: U8
RasterFunction Infos: {"rasterFunctionInfos": [{
"name": "None",
"description": "",
"help": ""
}]}
Mensuration Capabilities: Basic
Has Histograms: true
Has Colormap: false
Has Multi Dimensions : false
Rendering Rule:
Min Scale: 8000000
Max Scale: 1000
Copyright Text: State of Delaware Department of Transportation and EarthData
Service Data Type: esriImageServiceDataTypeProcessed
Min Values: 0, 0, 0
Max Values: 255, 255, 255
Mean Values: 108.01916469830363, 108.01916469830363, 108.01916469830363
Standard Deviation Values: 45.84410156676858, 45.84410156676858, 45.84410156676858
Object ID Field: OBJECTID
Fields:
-
OBJECTID
(
type: esriFieldTypeOID, alias: OBJECTID
)
-
Shape
(
type: esriFieldTypeGeometry, alias: Shape
)
-
Name
(
type: esriFieldTypeString, alias: Name, length: 50
)
-
MinPS
(
type: esriFieldTypeDouble, alias: MinPS
)
-
MaxPS
(
type: esriFieldTypeDouble, alias: MaxPS
)
-
LowPS
(
type: esriFieldTypeDouble, alias: LowPS
)
-
HighPS
(
type: esriFieldTypeDouble, alias: HighPS
)
-
Category
(
type: esriFieldTypeInteger, alias: Category
, Coded Values:
[0: Unknown]
, [1: Primary]
, [2: Overview]
, ...6 more...
)
-
Tag
(
type: esriFieldTypeString, alias: Tag, length: 20
)
-
GroupName
(
type: esriFieldTypeString, alias: GroupName, length: 50
)
-
ProductName
(
type: esriFieldTypeString, alias: ProductName, length: 50
)
-
CenterX
(
type: esriFieldTypeDouble, alias: CenterX
)
-
CenterY
(
type: esriFieldTypeDouble, alias: CenterY
)
-
ZOrder
(
type: esriFieldTypeInteger, alias: ZOrder
)
-
Shape_Length
(
type: esriFieldTypeDouble, alias: Shape_Length
)
-
Shape_Area
(
type: esriFieldTypeDouble, alias: Shape_Area
)
Default Mosaic Method: ByAttribute
Allowed Mosaic Methods: ByAttribute,NorthWest,Center,LockRaster,Nadir,Viewpoint,Seamline,None
SortField: LowPS
SortValue: 0
Mosaic Operator: First
Default Compression Quality: 75
Default Resampling Method: Bilinear
Max Record Count: 1000
Max Image Height: 500000
Max Image Width: 500000
Max Download Image Count: 20
Max Mosaic Image Count: 2000
Allow Raster Function: true
Allow Copy: true
Allow Analysis: true
Allow Compute TiePoints: false
Supports Statistics: true
Supports Advanced Queries: true
Use StandardizedQueries: true
Raster Type Infos:
Name: Raster Dataset
Description: Supports all ArcGIS Raster Datasets
Help:
Has Raster Attribute Table: false
Edit Fields Info: null
Ownership Based AccessControl For Rasters: null
Child Resources:
Info
Histograms
Statistics
Key Properties
Legend
Raster Function Infos
Supported Operations:
Export Image
Query
Identify
Measure
Compute Histograms
Compute Statistics Histograms
Get Samples
Compute Class Statistics
Query Boundary
Compute Pixel Location
Compute Angles
Validate
Project