View In:
ArcGIS JavaScript
ArcGIS Online Map Viewer
ArcGIS Earth
Service Description: This data set consists of 0.152-meter pixel resolution (approximately 0.5-foot), 4-band orthoimages covering the entire State of Delaware. With a total of 2,010 X 1700-meters by 1700-meters (2.89 square kilometers) full orthoimage tiles providing imagery in blocks on the ground with no "no data" space, the total area of the project is 5,808.9 square kilometers (3609.48 square miles). There is no image overlap between adjacent tiles. An orthoimage is remotely sensed image data in which displacement of features in the image caused by terrain relief and sensor orientation have been mathematically removed. Orthoimagery combines the image characteristics of a photograph with the geometric qualities of a map. The design accuracy is estimated not to exceed 1.52-meters NSSDA 95% confidence (0.88-meters Root Mean Squared (RMSE) Error XY (0.62 meter RMSE X or Y). The projected coordinate system is Delaware State Plane. The horizontal datum is NAD83 2011. The vertical datum is NAVD88. The units are in meters.
Name: DE_Imagery/DE_Imagery_2024
Description: This data set consists of 0.152-meter pixel resolution (approximately 0.5-foot), 4-band orthoimages covering the entire State of Delaware. With a total of 2,010 X 1700-meters by 1700-meters (2.89 square kilometers) full orthoimage tiles providing imagery in blocks on the ground with no "no data" space, the total area of the project is 5,808.9 square kilometers (3609.48 square miles). There is no image overlap between adjacent tiles. An orthoimage is remotely sensed image data in which displacement of features in the image caused by terrain relief and sensor orientation have been mathematically removed. Orthoimagery combines the image characteristics of a photograph with the geometric qualities of a map. The design accuracy is estimated not to exceed 1.52-meters NSSDA 95% confidence (0.88-meters Root Mean Squared (RMSE) Error XY (0.62 meter RMSE X or Y). The projected coordinate system is Delaware State Plane. The horizontal datum is NAD83 2011. The vertical datum is NAVD88. The units are in meters.
Single Fused Map Cache: true
Tile Info:
- Height: 256
- Width: 256
- DPI: 96
-
Levels of Detail: 24
-
Level ID: 1
[ Start Tile, End Tile ]
- Resolution: 78271.5169639999
- Scale: 2.95828763795777E8
-
Level ID: 2
[ Start Tile, End Tile ]
- Resolution: 39135.7584820001
- Scale: 1.47914381897889E8
-
Level ID: 3
[ Start Tile, End Tile ]
- Resolution: 19567.8792409999
- Scale: 7.3957190948944E7
-
Level ID: 4
[ Start Tile, End Tile ]
- Resolution: 9783.93962049996
- Scale: 3.6978595474472E7
-
Level ID: 5
[ Start Tile, End Tile ]
- Resolution: 4891.96981024998
- Scale: 1.8489297737236E7
- Format: MIXED
- Compression Quality: 75.0
- LERC Error: NaN
- Origin: X: -2.0037508342787E7
Y: 2.0037508342787E7
- Spatial Reference: 102100
(3857)
LatestVCSWkid(0)
Storage Info:
- Storage Format: esriMapCacheStorageModeCompactV2
- Packet Size: 128
Extent:
XMin: -8438848.6921
YMin: 4643170.357699998
XMax: -8353419.3421
YMax: 4843285.357699998
Spatial Reference: 102100
(3857)
LatestVCSWkid(0)
Initial Extent:
XMin: -8438848.6921
YMin: 4643170.357699998
XMax: -8353419.3421
YMax: 4843285.357699998
Spatial Reference: 102100
(3857)
LatestVCSWkid(0)
Full Extent:
XMin: -8438848.6921
YMin: 4643170.357699998
XMax: -8353419.3421
YMax: 4843285.357699998
Spatial Reference: 102100
(3857)
LatestVCSWkid(0)
Pixel Size X: 0.14999999999999936
Pixel Size Y: 0.15
Band Count: 4
Pixel Type: U8
RasterFunction Infos: {"rasterFunctionInfos": [
{
"name": "None",
"description": "Make a Raster or Raster Dataset into a Function Raster Dataset.",
"help": ""
},
{
"name": "2024 Infrared Raster Function",
"description": "A raster function template showing the infrared band of the imagery.",
"help": "Use this raster function template to change the symobology of the raster to show the infrared band."
}
]}
Mensuration Capabilities: NONE
Inspection Capabilities:
Has Histograms: true
Has Colormap: false
Has Multi Dimensions : false
Rendering Rule:
Min Scale: 9244648.868618
Max Scale: 564.248588
Copyright Text: This data is meant for use by requested parties. This data cannot be used without express consent.This data is meant for use by requested parties. This data cannot be used without express consent.
Service Data Type: esriImageServiceDataTypeGeneric
Min Values: 4, 2, 0, 0
Max Values: 255, 255, 255, 255
Mean Values: 116.29668057950406, 114.53959989113007, 110.03110477747697, 214.4091531074166
Standard Deviation Values: 52.317921637123966, 46.24627791570093, 37.14164289765349, 43.18935194855838
Object ID Field: OBJECTID
Fields:
-
OBJECTID
(
type: esriFieldTypeOID, alias: OBJECTID
)
-
Shape
(
type: esriFieldTypeGeometry, alias: Shape
)
-
Name
(
type: esriFieldTypeString, alias: Name, length: 200
)
-
MinPS
(
type: esriFieldTypeDouble, alias: MinPS
)
-
MaxPS
(
type: esriFieldTypeDouble, alias: MaxPS
)
-
LowPS
(
type: esriFieldTypeDouble, alias: LowPS
)
-
HighPS
(
type: esriFieldTypeDouble, alias: HighPS
)
-
Category
(
type: esriFieldTypeInteger, alias: Category
, Coded Values:
[0: Unknown]
, [1: Primary]
, [2: Overview]
, ...6 more...
)
-
Tag
(
type: esriFieldTypeString, alias: Tag, length: 100
)
-
GroupName
(
type: esriFieldTypeString, alias: GroupName, length: 100
)
-
ProductName
(
type: esriFieldTypeString, alias: ProductName, length: 100
)
-
CenterX
(
type: esriFieldTypeDouble, alias: CenterX
)
-
CenterY
(
type: esriFieldTypeDouble, alias: CenterY
)
-
ZOrder
(
type: esriFieldTypeInteger, alias: ZOrder
)
-
Shape_Length
(
type: esriFieldTypeDouble, alias: Shape_Length
)
-
Shape_Area
(
type: esriFieldTypeDouble, alias: Shape_Area
)
Default Mosaic Method: ByAttribute
Allowed Mosaic Methods: ByAttribute,NorthWest,Center,LockRaster,Nadir,Viewpoint,Seamline,None
SortField: LowPS
SortValue:
Mosaic Operator: First
Default Compression Quality: 75
Default Resampling Method: Bilinear
Max Record Count: 1000
Max Image Height: 4096
Max Image Width: 4096
Max Download Image Count: 20
Max Mosaic Image Count: 2000
Allow Raster Function: true
Allow Copy: true
Allow Analysis: true
Allow Compute TiePoints: false
Supports Statistics: true
Supports Advanced Queries: true
Use StandardizedQueries: true
Raster Type Infos:
Name: Raster Dataset
Description: Supports all ArcGIS Raster Datasets
Help:
Has Raster Attribute Table: false
Edit Fields Info: null
Ownership Based AccessControl For Rasters: null
Child Resources:
Info
Histograms
Statistics
Key Properties
Legend
Raster Function Infos
Supported Operations:
Export Image
Query
Identify
Measure
Compute Histograms
Compute Statistics Histograms
Get Samples
Compute Class Statistics
Query GPS Info
Find Images
Image to Map
Map to Image
Measure from Image
Image to Map Multiray
Query Boundary
Compute Pixel Location
Compute Angles
Validate
Project