View In:
ArcGIS JavaScript
ArcGIS Online Map Viewer
ArcGIS Earth
Service Description: The Chesapeake Bay Land Use and Land Cover Database (LULC) facilitates characterization of the landscape and land change for and between discrete time periods. The database was developed by the University of Vermont’s Spatial Analysis Laboratory in cooperation with Chesapeake Conservancy (CC) and U.S. Geological Survey (USGS) as part of a 6-year Cooperative Agreement between Chesapeake Conservancy and the U.S. Environmental Protection Agency (EPA) and a separate Interagency Agreement between the USGS and EPA to provide geospatial support to the Chesapeake Bay Program Office.
The database contains one-meter 13-class Land Cover (LC) and 54-class Land Use/Land Cover (LULC) for all counties within or adjacent to the Chesapeake Bay watershed for 2013/14 and 2017/18, depending on availability of National Agricultural Imagery Program (NAIP) imagery for each state. Additionally, 54 LULC classes are generalized into 18 LULC classes to simplify process of mapping LULC change, ease visualization and discussion of larger LULC trends. LC change between discrete time periods, detected by spectral changes in NAIP imagery and LiDAR, represents changes between the 12 land cover classes. LULC change uses LC change to identify where changes are happening and then LC is translated to LULC to represent transitions between the 54 LULC classes. The LULCC data is represented as a LULC class change transition matrix which provides users acres of change between multiple classes. It is organized by 18x18 and 54x54 LULC classes. The Chesapeake Bay Water (CBW) indicates raster tabulations were performed for only areas that fall inside the CBW boundary e.g., if user is interested in CBW portion of a county then they will use LULC Matrix CBW. Conversely, if they are interested change transitions across the entire county, they will use LULC Matrix.
For the complete metadata, citation and data dictionary please visit: https://doi.org/10.5066/P981GV1L
Name: PlanningCadastre/DE_LandCover_2013_2018_Change
Description: The Chesapeake Bay Land Use and Land Cover Database (LULC) facilitates characterization of the landscape and land change for and between discrete time periods. The database was developed by the University of Vermont’s Spatial Analysis Laboratory in cooperation with Chesapeake Conservancy (CC) and U.S. Geological Survey (USGS) as part of a 6-year Cooperative Agreement between Chesapeake Conservancy and the U.S. Environmental Protection Agency (EPA) and a separate Interagency Agreement between the USGS and EPA to provide geospatial support to the Chesapeake Bay Program Office.
The database contains one-meter 13-class Land Cover (LC) and 54-class Land Use/Land Cover (LULC) for all counties within or adjacent to the Chesapeake Bay watershed for 2013/14 and 2017/18, depending on availability of National Agricultural Imagery Program (NAIP) imagery for each state. Additionally, 54 LULC classes are generalized into 18 LULC classes to simplify process of mapping LULC change, ease visualization and discussion of larger LULC trends. LC change between discrete time periods, detected by spectral changes in NAIP imagery and LiDAR, represents changes between the 12 land cover classes. LULC change uses LC change to identify where changes are happening and then LC is translated to LULC to represent transitions between the 54 LULC classes. The LULCC data is represented as a LULC class change transition matrix which provides users acres of change between multiple classes. It is organized by 18x18 and 54x54 LULC classes. The Chesapeake Bay Water (CBW) indicates raster tabulations were performed for only areas that fall inside the CBW boundary e.g., if user is interested in CBW portion of a county then they will use LULC Matrix CBW. Conversely, if they are interested change transitions across the entire county, they will use LULC Matrix.
For the complete metadata, citation and data dictionary please visit: https://doi.org/10.5066/P981GV1L
Single Fused Map Cache: false
Extent:
XMin: -8473903.603240393
YMin: 4628256.758776711
XMax: -8306729.603240393
YMax: 4847689.758776711
Spatial Reference: 102100
(3857)
LatestVCSWkid(0)
Initial Extent:
XMin: -8473903.603240393
YMin: 4628256.758776711
XMax: -8306729.603240393
YMax: 4847689.758776711
Spatial Reference: 102100
(3857)
LatestVCSWkid(0)
Full Extent:
XMin: -8473903.603240393
YMin: 4628256.758776711
XMax: -8306729.603240393
YMax: 4847689.758776711
Spatial Reference: 102100
(3857)
LatestVCSWkid(0)
Pixel Size X: 1.0
Pixel Size Y: 1.0
Band Count: 1
Pixel Type: U8
RasterFunction Infos: {"rasterFunctionInfos": [
{
"name": "None",
"description": "Make a Raster or Raster Dataset into a Function Raster Dataset.",
"help": ""
},
{
"name": "Land Cover Change Raster Function Template",
"description": "Renderer for ScienceBase Land Cover Image Service",
"help": "Use this template to change the symbology of the data. Land Cover classified as 'No Change' will be transparent."
}
]}
Mensuration Capabilities: Basic
Inspection Capabilities:
Has Histograms: true
Has Colormap: false
Has Multi Dimensions : false
Rendering Rule:
Min Scale: 0
Max Scale: 0
Resampling: false
Copyright Text: University of Vermont Spatial Analysis Laboratory, Chesapeake Conservancy, U.S. Geological Survey, U.S. Environmental Protection Agency Chesapeake Bay Program
Service Data Type: esriImageServiceDataTypeThematic
Min Values: 1
Max Values: 212
Mean Values: 4.345997399012957
Standard Deviation Values: 6.741770542224254
Object ID Field:
Fields:
None
Default Mosaic Method: Center
Allowed Mosaic Methods:
SortField:
SortValue: null
Mosaic Operator: First
Default Compression Quality: 75
Default Resampling Method: Bilinear
Max Record Count: null
Max Image Height: 4100
Max Image Width: 15000
Max Download Image Count: null
Max Mosaic Image Count: null
Allow Raster Function: true
Allow Copy: true
Allow Analysis: true
Allow Compute TiePoints: false
Supports Statistics: false
Supports Advanced Queries: false
Use StandardizedQueries: true
Raster Type Infos:
Name: Raster Dataset
Description: Supports all ArcGIS Raster Datasets
Help:
Has Raster Attribute Table: true
Edit Fields Info: null
Ownership Based AccessControl For Rasters: null
Child Resources:
Info
Raster Attribute Table
Histograms
Statistics
Key Properties
Legend
Raster Function Infos
Supported Operations:
Export Image
Identify
Measure
Compute Histograms
Compute Statistics Histograms
Get Samples
Compute Class Statistics
Query Boundary
Compute Pixel Location
Compute Angles
Validate
Project