{
 "currentVersion": 11.3,
 "serviceDescription": "PlanningCadastre/DE_Impervious_2017",
 "name": "PlanningCadastre/DE_Impervious_2017",
 "description": "",
 "extent": {
  "xmin": -8437211.94975127,
  "ymin": 4643238.86640683,
  "xmax": -8352685.94975127,
  "ymax": 4842990.86640683,
  "spatialReference": {
   "wkid": 102100,
   "latestWkid": 3857
  }
 },
 "initialExtent": {
  "xmin": -8437211.94975127,
  "ymin": 4643238.86640683,
  "xmax": -8352685.94975127,
  "ymax": 4842990.86640683,
  "spatialReference": {
   "wkid": 102100,
   "latestWkid": 3857
  }
 },
 "fullExtent": {
  "xmin": -8437211.94975127,
  "ymin": 4643238.86640683,
  "xmax": -8352685.94975127,
  "ymax": 4842990.86640683,
  "spatialReference": {
   "wkid": 102100,
   "latestWkid": 3857
  }
 },
 "sortableFields": "",
 "bandCount": 1,
 "pixelType": "U8",
 "minValues": [
  1
 ],
 "maxValues": [
  2
 ],
 "meanValues": [
  1.9242345485689636
 ],
 "stdvValues": [
  0.2646224627808123
 ],
 "hasMultidimensions": false,
 "pixelSizeX": 0.999999999999989,
 "pixelSizeY": 1,
 "meanPixelSize": 0.9999999999999944,
 "datasetFormat": "FGDBR",
 "uncompressedSize": 16884237552,
 "blockWidth": 128,
 "blockHeight": 128,
 "compressionType": "LZ77",
 "bandNames": [
  "Band_1"
 ],
 "allowCopy": true,
 "allowAnalysis": true,
 "itemAccess": false,
 "inspectionCapabilities": "",
 "minPixelSize": 0,
 "maxPixelSize": 0,
 "copyrightText": "",
 "serviceDataType": "esriImageServiceDataTypeGeneric",
 "serviceSourceType": "esriImageServiceSourceTypeDataset",
 "objectIdField": "",
 "fields": [],
 "capabilities": "Image,Metadata,Mensuration",
 "defaultMosaicMethod": "Center",
 "allowedMosaicMethods": "",
 "sortField": "",
 "sortValue": null,
 "sortAscending": true,
 "mosaicOperator": "First",
 "defaultCompressionQuality": 75,
 "defaultResamplingMethod": "Bilinear",
 "maxImageHeight": 4100,
 "maxImageWidth": 15000,
 "allowRasterFunction": true,
 "rasterFunctionInfos": [
  {
   "name": "Impervious Surface 2017",
   "description": "Renderer to change the image display to gray for the impervious areas and transparent for the pervious.",
   "help": "Use this renderer to apply symbology to the image to display the impervious areas as gray and make the pervious areas transparent."
  },
  {
   "name": "None",
   "description": "",
   "help": ""
  }
 ],
 "rasterTypeInfos": [
  {
   "name": "Raster Dataset",
   "description": "Supports all ArcGIS Raster Datasets",
   "help": ""
  }
 ],
 "mensurationCapabilities": "Basic",
 "hasHistograms": true,
 "hasColormap": false,
 "hasRasterAttributeTable": true,
 "minScale": 0,
 "maxScale": 0,
 "exportTilesAllowed": false,
 "supportsStatistics": false,
 "supportsAdvancedQueries": false,
 "editFieldsInfo": null,
 "ownershipBasedAccessControlForRasters": null,
 "allowComputeTiePoints": false,
 "useStandardizedQueries": true,
 "advancedQueryCapabilities": {
  "useStandardizedQueries": true,
  "supportsStatistics": false,
  "supportsOrderBy": false,
  "supportsDistinct": false,
  "supportsPagination": false
 },
 "spatialReference": {
  "wkid": 102100,
  "latestWkid": 3857
 }
}
