{
 "currentVersion": 11.3,
 "serviceDescription": "PlanningCadastre/DE_Impervious_2007",
 "name": "PlanningCadastre/DE_Impervious_2007",
 "description": "",
 "extent": {
  "xmin": -8437420.96674437,
  "ymin": 4643167.53248137,
  "xmax": -8352679.96674437,
  "ymax": 4843180.53248137,
  "spatialReference": {
   "wkid": 102100,
   "latestWkid": 3857
  }
 },
 "initialExtent": {
  "xmin": -8437420.96674437,
  "ymin": 4643167.53248137,
  "xmax": -8352679.96674437,
  "ymax": 4843180.53248137,
  "spatialReference": {
   "wkid": 102100,
   "latestWkid": 3857
  }
 },
 "fullExtent": {
  "xmin": -8437420.96674437,
  "ymin": 4643167.53248137,
  "xmax": -8352679.96674437,
  "ymax": 4843180.53248137,
  "spatialReference": {
   "wkid": 102100,
   "latestWkid": 3857
  }
 },
 "sortableFields": "",
 "bandCount": 1,
 "pixelType": "U8",
 "minValues": [
  0
 ],
 "maxValues": [
  2
 ],
 "meanValues": [
  1.012494995018831
 ],
 "stdvValues": [
  0.35366783996831
 ],
 "hasMultidimensions": false,
 "pixelSizeX": 1.0000000000000109,
 "pixelSizeY": 1,
 "meanPixelSize": 1.0000000000000053,
 "datasetFormat": "FGDBR",
 "uncompressedSize": 16949301633,
 "blockWidth": 128,
 "blockHeight": 128,
 "compressionType": "LZ77",
 "bandNames": [
  "Band_1"
 ],
 "allowCopy": true,
 "allowAnalysis": true,
 "itemAccess": false,
 "inspectionCapabilities": "",
 "minPixelSize": 0,
 "maxPixelSize": 0,
 "copyrightText": "",
 "serviceDataType": "esriImageServiceDataTypeGeneric",
 "serviceSourceType": "esriImageServiceSourceTypeDataset",
 "objectIdField": "",
 "fields": [],
 "capabilities": "Image,Metadata,Pixels,Mensuration",
 "defaultMosaicMethod": "Center",
 "allowedMosaicMethods": "",
 "sortField": "",
 "sortValue": null,
 "sortAscending": true,
 "mosaicOperator": "First",
 "defaultCompressionQuality": 75,
 "defaultResamplingMethod": "Bilinear",
 "maxImageHeight": 4100,
 "maxImageWidth": 15000,
 "allowRasterFunction": true,
 "rasterFunctionInfos": [
  {
   "name": "Impervious Surface 2007",
   "description": "Renderer to change the image display to gray for the impervious areas and transparent for the pervious.",
   "help": "Use this renderer to apply symbology to the image to display the impervious areas as gray and make the pervious areas transparent."
  },
  {
   "name": "None",
   "description": "",
   "help": ""
  }
 ],
 "rasterTypeInfos": [
  {
   "name": "Raster Dataset",
   "description": "Supports all ArcGIS Raster Datasets",
   "help": ""
  }
 ],
 "mensurationCapabilities": "Basic",
 "hasHistograms": true,
 "hasColormap": true,
 "hasRasterAttributeTable": true,
 "minScale": 0,
 "maxScale": 0,
 "exportTilesAllowed": false,
 "supportsStatistics": false,
 "supportsAdvancedQueries": false,
 "editFieldsInfo": null,
 "ownershipBasedAccessControlForRasters": null,
 "allowComputeTiePoints": false,
 "useStandardizedQueries": true,
 "advancedQueryCapabilities": {
  "useStandardizedQueries": true,
  "supportsStatistics": false,
  "supportsOrderBy": false,
  "supportsDistinct": false,
  "supportsPagination": false
 },
 "spatialReference": {
  "wkid": 102100,
  "latestWkid": 3857
 }
}
