<?xml version="1.0" encoding="UTF-8" standalone="no"?>
<metadata xml:lang="en">
<Esri>
<CreaDate>20220113</CreaDate>
<CreaTime>14533600</CreaTime>
<ArcGISFormat>1.0</ArcGISFormat>
<SyncOnce>FALSE</SyncOnce>
<DataProperties>
<itemProps>
<imsContentType Sync="TRUE" export="False">002</imsContentType>
<itemName Sync="TRUE">DNREC_OWNER.HYD_AdvisoryHeight</itemName>
<itemLocation>
<linkage Sync="TRUE">Server=fmentert; Service=sde:oracle11g:fmentert; User=dnrec_owner; Version=SDE.DEFAULT</linkage>
<protocol Sync="TRUE">ArcSDE Connection</protocol>
</itemLocation>
<nativeExtBox>
<westBL Sync="TRUE">-8436902.374213</westBL>
<eastBL Sync="TRUE">-8375367.703467</eastBL>
<southBL Sync="TRUE">4645616.866479</southBL>
<northBL Sync="TRUE">4842664.363538</northBL>
<exTypeCode Sync="TRUE">1</exTypeCode>
</nativeExtBox>
</itemProps>
<coordRef>
<type Sync="TRUE">Projected</type>
<geogcsn Sync="TRUE">GCS_WGS_1984</geogcsn>
<csUnits Sync="TRUE">Linear Unit: Meter (1.000000)</csUnits>
<projcsn Sync="TRUE">WGS_1984_Web_Mercator_Auxiliary_Sphere</projcsn>
<peXml Sync="TRUE">&lt;ProjectedCoordinateSystem xsi:type='typens:ProjectedCoordinateSystem' xmlns:xsi='http://www.w3.org/2001/XMLSchema-instance' xmlns:xs='http://www.w3.org/2001/XMLSchema' xmlns:typens='http://www.esri.com/schemas/ArcGIS/2.8.0'&gt;&lt;WKT&gt;PROJCS[&amp;quot;WGS_1984_Web_Mercator_Auxiliary_Sphere&amp;quot;,GEOGCS[&amp;quot;GCS_WGS_1984&amp;quot;,DATUM[&amp;quot;D_WGS_1984&amp;quot;,SPHEROID[&amp;quot;WGS_1984&amp;quot;,6378137.0,298.257223563]],PRIMEM[&amp;quot;Greenwich&amp;quot;,0.0],UNIT[&amp;quot;Degree&amp;quot;,0.0174532925199433]],PROJECTION[&amp;quot;Mercator_Auxiliary_Sphere&amp;quot;],PARAMETER[&amp;quot;False_Easting&amp;quot;,0.0],PARAMETER[&amp;quot;False_Northing&amp;quot;,0.0],PARAMETER[&amp;quot;Central_Meridian&amp;quot;,0.0],PARAMETER[&amp;quot;Standard_Parallel_1&amp;quot;,0.0],PARAMETER[&amp;quot;Auxiliary_Sphere_Type&amp;quot;,0.0],UNIT[&amp;quot;Meter&amp;quot;,1.0],AUTHORITY[&amp;quot;EPSG&amp;quot;,3857]]&lt;/WKT&gt;&lt;XOrigin&gt;-20037700&lt;/XOrigin&gt;&lt;YOrigin&gt;-30241100&lt;/YOrigin&gt;&lt;XYScale&gt;148923141.92838538&lt;/XYScale&gt;&lt;ZOrigin&gt;-100000&lt;/ZOrigin&gt;&lt;ZScale&gt;10000&lt;/ZScale&gt;&lt;MOrigin&gt;-100000&lt;/MOrigin&gt;&lt;MScale&gt;10000&lt;/MScale&gt;&lt;XYTolerance&gt;0.001&lt;/XYTolerance&gt;&lt;ZTolerance&gt;0.001&lt;/ZTolerance&gt;&lt;MTolerance&gt;0.001&lt;/MTolerance&gt;&lt;HighPrecision&gt;true&lt;/HighPrecision&gt;&lt;WKID&gt;102100&lt;/WKID&gt;&lt;LatestWKID&gt;3857&lt;/LatestWKID&gt;&lt;/ProjectedCoordinateSystem&gt;</peXml>
</coordRef>
<RasterProperties>
<General>
<PixelDepth Sync="TRUE">32</PixelDepth>
<HasColormap Sync="TRUE">FALSE</HasColormap>
<CompressionType Sync="TRUE">None</CompressionType>
<NumBands Sync="TRUE">1</NumBands>
<Format Sync="TRUE">AMD</Format>
<HasPyramids Sync="TRUE">TRUE</HasPyramids>
<SourceType Sync="TRUE">continuous</SourceType>
<PixelType Sync="TRUE">floating point</PixelType>
<NoDataValue Sync="TRUE"/>
</General>
<Properties>
<MaxImageHeight Sync="TRUE">4100</MaxImageHeight>
<MaxImageWidth Sync="TRUE">15000</MaxImageWidth>
<MaxRecordCount Sync="TRUE">1000</MaxRecordCount>
<MaxDownloadImageCount Sync="TRUE">20</MaxDownloadImageCount>
<MaxDownloadSizeLimit Sync="TRUE">2048</MaxDownloadSizeLimit>
<MaxMosaicImageCount Sync="TRUE">20</MaxMosaicImageCount>
<DefaultCompressionQuality Sync="TRUE">75</DefaultCompressionQuality>
<DefaultCompressionTolerance Sync="TRUE">0.01</DefaultCompressionTolerance>
<BlendWidth Sync="TRUE">10</BlendWidth>
<ViewpointSpacingX Sync="TRUE">600</ViewpointSpacingX>
<ViewpointSpacingY Sync="TRUE">300</ViewpointSpacingY>
<AllowedItemMetadata Sync="TRUE">Basic</AllowedItemMetadata>
<DefaultResamplingMethod Sync="TRUE">1</DefaultResamplingMethod>
<AllowedMosaicMethods Sync="TRUE">NorthWest,Center,LockRaster,ByAttribute,Nadir,Viewpoint,Seamline,None</AllowedMosaicMethods>
<AllowedCompressions Sync="TRUE">None,JPEG,LZ77,LERC</AllowedCompressions>
<AllowedMensurationCapabilities Sync="TRUE">Basic</AllowedMensurationCapabilities>
<AvailableMensurationCapabilities Sync="TRUE">None,Basic,Base-Top Height,Top-Top Shadow Height,Base-Top Shadow Height,3D</AvailableMensurationCapabilities>
<ClipToBoundary Sync="TRUE">-1</ClipToBoundary>
<FootprintMayContainNoData Sync="TRUE">-1</FootprintMayContainNoData>
<CellSizeTolerance Sync="TRUE">0.8</CellSizeTolerance>
<MinimumPixelContribution Sync="TRUE">1</MinimumPixelContribution>
<AvailableMosaicMethods Sync="TRUE">NorthWest,Center,LockRaster,ByAttribute,Nadir,Viewpoint,Seamline,None</AvailableMosaicMethods>
<AvailableCompressionMethods Sync="TRUE">None,JPEG,LZ77,LERC</AvailableCompressionMethods>
<AvailableItemMetadataLevels Sync="TRUE">None,Basic,Full</AvailableItemMetadataLevels>
<BandDefinitionKeyword Sync="TRUE">NONE</BandDefinitionKeyword>
<_docversion_ Sync="TRUE">10</_docversion_>
<AllowedFields Sync="TRUE">NAME,MINPS,MAXPS,LOWPS,HIGHPS,TAG,GROUPNAME,PRODUCTNAME,CENTERX,CENTERY,ZORDER,SHAPE.AREA,SHAPE.LEN</AllowedFields>
<MaxCellSize Sync="TRUE">243.84048805</MaxCellSize>
<LowCellSize Sync="TRUE">1.52400304</LowCellSize>
<HighCellSize Sync="TRUE">24.384048805</HighCellSize>
<PixelCacheLocation Sync="TRUE">C:\Users\Kim.Cloud\AppData\Local\ESRI\rasterproxies\DNREC_OWNER.HYD_AdvisoryHeight</PixelCacheLocation>
</Properties>
<Functions Sync="TRUE">
<Function Description="Performs on-the-fly mosaic on a raster catalog." Name="Mosaic Function"/>
</Functions>
</RasterProperties>
</DataProperties>
<scaleRange>
<minScale>150000000</minScale>
<maxScale>5000</maxScale>
</scaleRange>
<SyncDate>20220113</SyncDate>
<SyncTime>14582500</SyncTime>
<ModDate>20220113</ModDate>
<ModTime>15023200</ModTime>
<ArcGISProfile>FGDC</ArcGISProfile>
</Esri>
<mdLang>
<languageCode Sync="TRUE" value="eng"/>
<countryCode Sync="TRUE" value="USA"/>
</mdLang>
<mdHrLv>
<ScopeCd Sync="TRUE" value="005"/>
</mdHrLv>
<mdHrLvName Sync="TRUE">dataset</mdHrLvName>
<mdDateSt Sync="TRUE">20220113</mdDateSt>
<distInfo>
<distFormat>
<formatName Sync="TRUE">SDE Raster Dataset</formatName>
</distFormat>
</distInfo>
<dataIdInfo>
<envirDesc Sync="TRUE">Microsoft Windows 10 Version 10.0 (Build 19042) ; Esri ArcGIS 12.8.3.29751</envirDesc>
<dataLang>
<languageCode Sync="TRUE" value="eng"/>
<countryCode Sync="TRUE" value="USA"/>
</dataLang>
<idCitation>
<resTitle Sync="FALSE">DE_AdvisoryHeight</resTitle>
<presForm>
<PresFormCd Sync="TRUE" value="005"/>
</presForm>
<date>
<pubDate>2022-01-13T00:00:00</pubDate>
</date>
<citRespParty>
<editorSource>external</editorSource>
<editorDigest>8e4a45af632b3e3742aa56256e9eeef90f25884e</editorDigest>
<rpIndName>FirstMap</rpIndName>
<rpOrgName>Delaware Department of Technology and Information (DTI)</rpOrgName>
<rpCntInfo>
<cntAddress addressType="both">
<delPoint>801 Silver Lake Blvd</delPoint>
<city>Dover</city>
<adminArea>DE</adminArea>
<postCode>19904</postCode>
<country>US</country>
<eMailAdd>FirstMap@delaware.gov</eMailAdd>
</cntAddress>
<cntPhone>
<voiceNum tddtty="">302-739-9560</voiceNum>
</cntPhone>
</rpCntInfo>
<displayName>FirstMap</displayName>
<editorSave>True</editorSave>
<displayName>FirstMap</displayName>
<role>
<RoleCd value="002"/>
</role>
</citRespParty>
</idCitation>
<spatRpType>
<SpatRepTypCd Sync="TRUE" value="002"/>
</spatRpType>
<dataExt>
<geoEle>
<GeoBndBox esriExtentType="search">
<exTypeCode Sync="TRUE">1</exTypeCode>
<westBL Sync="TRUE">-75.789984</westBL>
<eastBL Sync="TRUE">-75.237208</eastBL>
<northBL Sync="TRUE">39.839625</northBL>
<southBL Sync="TRUE">38.467056</southBL>
</GeoBndBox>
</geoEle>
</dataExt>
<idPurp>Delaware Flood Advisory Heights</idPurp>
<idAbs>&lt;DIV STYLE="text-align:Left;"&gt;&lt;DIV&gt;&lt;DIV&gt;&lt;P&gt;&lt;SPAN&gt;Delaware Flood Advisory Heights&lt;/SPAN&gt;&lt;/P&gt;&lt;/DIV&gt;&lt;/DIV&gt;&lt;/DIV&gt;</idAbs>
<idCredit>DNREC</idCredit>
<searchKeys>
<keyword>FirstMap</keyword>
<keyword>Delaware</keyword>
<keyword>Flood</keyword>
<keyword>Advisory Height</keyword>
<keyword>Flood Grid</keyword>
</searchKeys>
<resConst>
<Consts>
<useLimit>&lt;DIV STYLE="text-align:Left;"&gt;&lt;DIV&gt;&lt;DIV&gt;&lt;P&gt;&lt;SPAN&gt;The State of Delaware makes no warranty or representation, expressed or implied, with respect to the quality, content, accuracy, completeness, currency, or non-infringement of proprietary rights, of any of the GIS or other data or information, or any other materials and items, that are displayed from this site. The State of Delaware does not accept liability for any damages or misrepresentation caused by inaccuracies in the FirstMap Data or as a result of changes to the FirstMap Data, nor is there responsibility assumed to maintain the FirstMap Data in any manner or form.&lt;/SPAN&gt;&lt;/P&gt;&lt;/DIV&gt;&lt;/DIV&gt;&lt;/DIV&gt;</useLimit>
</Consts>
</resConst>
<dataChar>
<CharSetCd value="004"/>
</dataChar>
<idStatus>
<ProgCd value="001"/>
</idStatus>
<idPoC>
<editorSource>external</editorSource>
<editorDigest>8e4a45af632b3e3742aa56256e9eeef90f25884e</editorDigest>
<rpIndName>FirstMap</rpIndName>
<rpOrgName>Delaware Department of Technology and Information (DTI)</rpOrgName>
<rpCntInfo>
<cntAddress addressType="both">
<delPoint>801 Silver Lake Blvd</delPoint>
<city>Dover</city>
<adminArea>DE</adminArea>
<postCode>19904</postCode>
<country>US</country>
<eMailAdd>FirstMap@delaware.gov</eMailAdd>
</cntAddress>
<cntPhone>
<voiceNum tddtty="">302-739-9560</voiceNum>
</cntPhone>
</rpCntInfo>
<displayName>FirstMap</displayName>
<editorSave>True</editorSave>
<displayName>FirstMap</displayName>
<role>
<RoleCd value="002"/>
</role>
</idPoC>
<resMaint>
<maintFreq>
<MaintFreqCd value="009"/>
</maintFreq>
</resMaint>
</dataIdInfo>
<refSysInfo>
<RefSystem>
<refSysID>
<identCode Sync="TRUE" code="3857"/>
<idCodeSpace Sync="TRUE">EPSG</idCodeSpace>
<idVersion Sync="TRUE">6.18.3(9.3.1.2)</idVersion>
</refSysID>
</RefSystem>
</refSysInfo>
<spatRepInfo>
<Georect>
<cellGeo>
<CellGeoCd Sync="TRUE" value="002"/>
</cellGeo>
<numDims Sync="TRUE">2</numDims>
<tranParaAv Sync="TRUE">1</tranParaAv>
<chkPtAv Sync="TRUE">0</chkPtAv>
<cornerPts>
<pos Sync="TRUE">-8436902.374213 4645616.866479</pos>
</cornerPts>
<cornerPts>
<pos Sync="TRUE">-8436902.374213 4842664.363538</pos>
</cornerPts>
<cornerPts>
<pos Sync="TRUE">-8375367.703467 4842664.363538</pos>
</cornerPts>
<cornerPts>
<pos Sync="TRUE">-8375367.703467 4645616.866479</pos>
</cornerPts>
<centerPt>
<pos Sync="TRUE">-8406135.038840 4744140.615009</pos>
</centerPt>
<axisDimension type="002">
<dimSize Sync="TRUE">40377</dimSize>
<dimResol>
<value Sync="TRUE" uom="m">1.524003</value>
</dimResol>
</axisDimension>
<axisDimension type="001">
<dimSize Sync="TRUE">129296</dimSize>
<dimResol>
<value Sync="TRUE" uom="m">1.524003</value>
</dimResol>
</axisDimension>
<ptInPixel>
<PixOrientCd Sync="TRUE" value="001"/>
</ptInPixel>
</Georect>
</spatRepInfo>
<contInfo>
<ImgDesc>
<contentTyp>
<ContentTypCd Sync="TRUE" value="001"/>
</contentTyp>
<covDim>
<Band>
<dimDescrp Sync="TRUE">Band_1</dimDescrp>
<bitsPerVal Sync="TRUE">32</bitsPerVal>
<valUnit>
<UOM gmlID="" type="length"/>
</valUnit>
</Band>
</covDim>
<attDesc>Raster image</attDesc>
<trianInd>False</trianInd>
<radCalDatAv>False</radCalDatAv>
<camCalInAv>False</camCalInAv>
<filmDistInAv>False</filmDistInAv>
<lensDistInAv>False</lensDistInAv>
</ImgDesc>
</contInfo>
<mdChar>
<CharSetCd value="004"/>
</mdChar>
<mdContact>
<editorSource>external</editorSource>
<editorDigest>8e4a45af632b3e3742aa56256e9eeef90f25884e</editorDigest>
<rpIndName>FirstMap</rpIndName>
<rpOrgName>Delaware Department of Technology and Information (DTI)</rpOrgName>
<rpCntInfo>
<cntAddress addressType="both">
<delPoint>801 Silver Lake Blvd</delPoint>
<city>Dover</city>
<adminArea>DE</adminArea>
<postCode>19904</postCode>
<country>US</country>
<eMailAdd>FirstMap@delaware.gov</eMailAdd>
</cntAddress>
<cntPhone>
<voiceNum tddtty="">302-739-9560</voiceNum>
</cntPhone>
</rpCntInfo>
<displayName>FirstMap</displayName>
<editorSave>True</editorSave>
<displayName>FirstMap</displayName>
<role>
<RoleCd value="002"/>
</role>
</mdContact>
</metadata>
