<?xml version="1.0" encoding="UTF-8" standalone="no"?>
<metadata xml:lang="en">
<Esri>
<CreaDate>20240604</CreaDate>
<CreaTime>13570500</CreaTime>
<ArcGISFormat>1.0</ArcGISFormat>
<SyncOnce>FALSE</SyncOnce>
<DataProperties>
<itemProps>
<itemName Sync="TRUE">Migration_4ft_SLR</itemName>
<imsContentType Sync="TRUE" export="False">002</imsContentType>
<nativeExtBox>
<westBL Sync="TRUE">-8435890.435115</westBL>
<eastBL Sync="TRUE">-8353990.435115</eastBL>
<southBL Sync="TRUE">4643324.990729</southBL>
<northBL Sync="TRUE">4838194.990729</northBL>
<exTypeCode Sync="TRUE">1</exTypeCode>
</nativeExtBox>
<itemLocation>
<linkage Sync="TRUE">file://\\DTIFS01\APD\GIS\historic\MarshMigration.gdb</linkage>
<protocol Sync="TRUE">Local Area Network</protocol>
</itemLocation>
</itemProps>
<coordRef>
<type Sync="TRUE">Projected</type>
<geogcsn Sync="TRUE">GCS_WGS_1984</geogcsn>
<csUnits Sync="TRUE">Linear Unit: Meter (1.000000)</csUnits>
<projcsn Sync="TRUE">WGS_1984_Web_Mercator_Auxiliary_Sphere</projcsn>
<peXml Sync="TRUE">&lt;ProjectedCoordinateSystem xsi:type='typens:ProjectedCoordinateSystem' xmlns:xsi='http://www.w3.org/2001/XMLSchema-instance' xmlns:xs='http://www.w3.org/2001/XMLSchema' xmlns:typens='http://www.esri.com/schemas/ArcGIS/3.3.0'&gt;&lt;WKT&gt;PROJCS[&amp;quot;WGS_1984_Web_Mercator_Auxiliary_Sphere&amp;quot;,GEOGCS[&amp;quot;GCS_WGS_1984&amp;quot;,DATUM[&amp;quot;D_WGS_1984&amp;quot;,SPHEROID[&amp;quot;WGS_1984&amp;quot;,6378137.0,298.257223563]],PRIMEM[&amp;quot;Greenwich&amp;quot;,0.0],UNIT[&amp;quot;Degree&amp;quot;,0.0174532925199433]],PROJECTION[&amp;quot;Mercator_Auxiliary_Sphere&amp;quot;],PARAMETER[&amp;quot;False_Easting&amp;quot;,0.0],PARAMETER[&amp;quot;False_Northing&amp;quot;,0.0],PARAMETER[&amp;quot;Central_Meridian&amp;quot;,0.0],PARAMETER[&amp;quot;Standard_Parallel_1&amp;quot;,0.0],PARAMETER[&amp;quot;Auxiliary_Sphere_Type&amp;quot;,0.0],UNIT[&amp;quot;Meter&amp;quot;,1.0],AUTHORITY[&amp;quot;EPSG&amp;quot;,3857]]&lt;/WKT&gt;&lt;XOrigin&gt;-20037700&lt;/XOrigin&gt;&lt;YOrigin&gt;-30241100&lt;/YOrigin&gt;&lt;XYScale&gt;148923141.92838538&lt;/XYScale&gt;&lt;ZOrigin&gt;-100000&lt;/ZOrigin&gt;&lt;ZScale&gt;10000&lt;/ZScale&gt;&lt;MOrigin&gt;-100000&lt;/MOrigin&gt;&lt;MScale&gt;10000&lt;/MScale&gt;&lt;XYTolerance&gt;0.001&lt;/XYTolerance&gt;&lt;ZTolerance&gt;0.001&lt;/ZTolerance&gt;&lt;MTolerance&gt;0.001&lt;/MTolerance&gt;&lt;HighPrecision&gt;true&lt;/HighPrecision&gt;&lt;WKID&gt;102100&lt;/WKID&gt;&lt;LatestWKID&gt;3857&lt;/LatestWKID&gt;&lt;/ProjectedCoordinateSystem&gt;</peXml>
</coordRef>
</DataProperties>
<SyncDate>20250327</SyncDate>
<SyncTime>11364700</SyncTime>
<ModDate>20250327</ModDate>
<ModTime>11364700</ModTime>
<scaleRange>
<minScale>150000000</minScale>
<maxScale>5000</maxScale>
</scaleRange>
<ArcGISProfile>FGDC</ArcGISProfile>
</Esri>
<dataIdInfo>
<envirDesc Sync="TRUE">Microsoft Windows 10 Version 10.0 (Build 22631) ; Esri ArcGIS 13.3.4.52636</envirDesc>
<dataLang>
<languageCode Sync="TRUE" value="eng"/>
<countryCode Sync="TRUE" value="USA"/>
</dataLang>
<idCitation>
<resTitle Sync="FALSE">DE_MarshMigration_4ft_SLR</resTitle>
<presForm>
<PresFormCd Sync="TRUE" value="011"/>
</presForm>
<date>
<pubDate>2025-02-13T00:00:00</pubDate>
</date>
<citRespParty>
<rpOrgName>DNREC, Wetland Monitoring and Assessment Program &amp; Delaware Coastal Programs</rpOrgName>
<role>
<RoleCd value="006"/>
</role>
<rpCntInfo>
<cntAddress addressType="physical">
<city>Dover</city>
<adminArea>DE</adminArea>
<postCode>19904</postCode>
</cntAddress>
<cntPhone>
<voiceNum tddtty="">302-739-9169</voiceNum>
</cntPhone>
</rpCntInfo>
<displayName>DNREC, Wetland Monitoring and Assessment Program &amp; Delaware Coastal Programs</displayName>
</citRespParty>
<citRespParty>
<editorSource>external</editorSource>
<editorDigest>bfd6b84d3251a8f2ff48b1cfd3302a9f1c66797a</editorDigest>
<rpIndName>FirstMap</rpIndName>
<rpOrgName>State of Delaware</rpOrgName>
<rpCntInfo>
<cntAddress addressType="both">
<delPoint>801 Silver Lake Blvd.</delPoint>
<city>Dover</city>
<adminArea>DE</adminArea>
<postCode>19904</postCode>
</cntAddress>
<cntPhone>
<voiceNum tddtty="">302-739-9500</voiceNum>
</cntPhone>
</rpCntInfo>
<editorSave>True</editorSave>
<displayName>FirstMap</displayName>
<role>
<RoleCd value="001"/>
</role>
</citRespParty>
</idCitation>
<spatRpType>
<SpatRepTypCd Sync="TRUE" value="002"/>
</spatRpType>
<dataExt>
<geoEle>
<GeoBndBox esriExtentType="search">
<exTypeCode Sync="TRUE">1</exTypeCode>
<westBL Sync="TRUE">-75.780893</westBL>
<eastBL Sync="TRUE">-75.045173</eastBL>
<northBL Sync="TRUE">39.808790</northBL>
<southBL Sync="TRUE">38.450934</southBL>
</GeoBndBox>
</geoEle>
<exDesc>Analysis completed in January 2025</exDesc>
<tempEle>
<TempExtent>
<exTemp>
<TM_Period>
<tmEnd>2025-01-27T00:00:00</tmEnd>
</TM_Period>
</exTemp>
</TempExtent>
</tempEle>
</dataExt>
<idPurp>This study aimed to inform state land management by conducting a suitability analysis on land in Delaware that may have the potential for future marsh migration under sea level rise. This was achieved through a simplistic model in Arc GIS combining the Delaware 2 ft., 4 ft. and 7 ft. SLR scenarios, soil, slope, land use/land cover (LULC), and distance to current tidal wetlands. The result is a layer for each SLR scenario showing the possible suitability of land for future marsh migration.</idPurp>
<idAbs>&lt;div style='text-align:Left;'&gt;&lt;div&gt;&lt;div&gt;&lt;p&gt;&lt;span&gt;This study aimed to inform state land management by conducting a suitability analysis on land in Delaware that may have the potential for future marsh migration under different sea level rise scenarios. This study was conducted through a simplistic elevation-based GIS model that incorporated elevation, the Delaware 2 ft, 4 ft, and 7 ft SLR scenarios, soil, slope, land use/land cover (LULC), and distance to tidal wetlands. The model excluded areas of impervious surface, incompatible LULC, open water, as well as the current extent of tidal wetland areas. This model did not incorporate data on accretion, erosion, or hydrodynamic water flow. The final layer includes five categories: areas receiving a score of zero are existing tidal wetlands or open water for marsh migration, scores between one and three are least suitable for migration, four to six are less suitable, seven to nine are suitable, and ten to twelve are highly suitable. &lt;/span&gt;&lt;/p&gt;&lt;/div&gt;&lt;/div&gt;&lt;/div&gt;</idAbs>
<searchKeys>
<keyword>Wetland</keyword>
<keyword>Marsh Migration Suitability Analysis</keyword>
<keyword>Delaware</keyword>
<keyword>4 foot sea level rise</keyword>
</searchKeys>
<resMaint>
<maintFreq>
<MaintFreqCd value="009"/>
</maintFreq>
</resMaint>
<dataChar>
<CharSetCd value="004"/>
</dataChar>
<idStatus>
<ProgCd value="001"/>
</idStatus>
<idPoC>
<rpOrgName>DNREC, Wetland Monitoring and Assessment Program &amp; Delaware Coastal Programs</rpOrgName>
<role>
<RoleCd value="006"/>
</role>
<rpCntInfo>
<cntAddress addressType="physical">
<city>Dover</city>
<adminArea>DE</adminArea>
<postCode>19904</postCode>
</cntAddress>
<cntPhone>
<voiceNum tddtty="">302-739-9169</voiceNum>
</cntPhone>
</rpCntInfo>
<displayName>DNREC, Wetland Monitoring and Assessment Program &amp; Delaware Coastal Programs</displayName>
<displayName>DNREC, Wetland Monitoring and Assessment Program &amp; Delaware Coastal Programs</displayName>
</idPoC>
<idPoC>
<editorSource>external</editorSource>
<editorDigest>bfd6b84d3251a8f2ff48b1cfd3302a9f1c66797a</editorDigest>
<rpIndName>FirstMap</rpIndName>
<rpOrgName>State of Delaware</rpOrgName>
<rpCntInfo>
<cntAddress addressType="both">
<delPoint>801 Silver Lake Blvd.</delPoint>
<city>Dover</city>
<adminArea>DE</adminArea>
<postCode>19904</postCode>
</cntAddress>
<cntPhone>
<voiceNum tddtty="">302-739-9500</voiceNum>
</cntPhone>
</rpCntInfo>
<editorSave>True</editorSave>
<displayName>FirstMap</displayName>
<role>
<RoleCd value="001"/>
</role>
</idPoC>
<resConst>
<Consts>
<useLimit>&lt;div style='text-align:Left;'&gt;&lt;div&gt;&lt;div&gt;&lt;p&gt;&lt;span&gt;The State of Delaware makes no warranty or representation, expressed or implied, with respect to the quality, content, accuracy, completeness, currency, or non-infringement of proprietary rights, of any of the GIS or other data or information, or any other materials and items, that are displayed or made available for download from this site. FirstMap Data may have been created from a variety of sources, including sources beyond the control of the State of Delaware, and are subject to change without notice. To the extent you use, apply, add to, modify or implement this information in your own information system or other setting, or otherwise for your own purposes, you do so at your own risk. &lt;/span&gt;&lt;/p&gt;&lt;/div&gt;&lt;/div&gt;&lt;/div&gt;</useLimit>
</Consts>
</resConst>
<tpCat>
<TopicCatCd value="007"/>
</tpCat>
<tpCat>
<TopicCatCd value="012"/>
</tpCat>
<idCredit/>
</dataIdInfo>
<mdLang>
<languageCode Sync="TRUE" value="eng"/>
<countryCode Sync="TRUE" value="USA"/>
</mdLang>
<distInfo>
<distFormat>
<formatName Sync="TRUE">File Geodatabase Raster Dataset</formatName>
</distFormat>
</distInfo>
<mdHrLv>
<ScopeCd Sync="TRUE" value="005"/>
</mdHrLv>
<mdHrLvName Sync="TRUE">dataset</mdHrLvName>
<refSysInfo>
<RefSystem>
<refSysID>
<identCode Sync="TRUE" code="3857"/>
<idCodeSpace Sync="TRUE">EPSG</idCodeSpace>
<idVersion Sync="TRUE">6.18.3(9.3.1.2)</idVersion>
</refSysID>
</RefSystem>
</refSysInfo>
<spdoinfo>
<rastinfo>
<rasttype Sync="TRUE">Pixel</rasttype>
<rowcount Sync="TRUE">19487</rowcount>
<colcount Sync="TRUE">8190</colcount>
<rastxsz Sync="TRUE">10.000000</rastxsz>
<rastysz Sync="TRUE">10.000000</rastysz>
<rastbpp Sync="TRUE">8</rastbpp>
<vrtcount Sync="TRUE">1</vrtcount>
<rastorig Sync="TRUE">Upper Left</rastorig>
<rastcmap Sync="TRUE">FALSE</rastcmap>
<rastcomp Sync="TRUE">LZ77</rastcomp>
<rastband Sync="TRUE">1</rastband>
<rastdtyp Sync="TRUE">pixel codes</rastdtyp>
<rastifor Sync="TRUE">FGDBR</rastifor>
<rastplyr Sync="TRUE">TRUE</rastplyr>
</rastinfo>
</spdoinfo>
<spref>
<horizsys>
<planar>
<planci>
<plance Sync="TRUE">row and column</plance>
<coordrep>
<absres Sync="TRUE">10.000000</absres>
<ordres Sync="TRUE">10.000000</ordres>
</coordrep>
</planci>
</planar>
</horizsys>
</spref>
<eainfo>
<detailed Name="VAT_Migration_4ft_SLR_WM">
<enttyp>
<enttypl Sync="TRUE">VAT_Migration_4ft_SLR_WM</enttypl>
<enttypt Sync="TRUE">Table</enttypt>
<enttypc Sync="TRUE">13</enttypc>
<enttypd>DNREC</enttypd>
<enttypds>DNREC</enttypds>
</enttyp>
<attr>
<attrlabl Sync="TRUE">OBJECTID</attrlabl>
<attalias Sync="TRUE">OBJECTID</attalias>
<attrtype Sync="TRUE">OID</attrtype>
<attwidth Sync="TRUE">4</attwidth>
<atprecis Sync="TRUE">0</atprecis>
<attscale Sync="TRUE">0</attscale>
<attrdef Sync="TRUE">Internal feature number.</attrdef>
<attrdefs Sync="TRUE">Esri</attrdefs>
<attrdomv>
<udom Sync="TRUE">Sequential unique whole numbers that are automatically generated.</udom>
</attrdomv>
</attr>
<attr>
<attrlabl Sync="TRUE">Value</attrlabl>
<attalias Sync="TRUE">Value</attalias>
<attrtype Sync="TRUE">Integer</attrtype>
<attwidth Sync="TRUE">4</attwidth>
<atprecis Sync="TRUE">0</atprecis>
<attscale Sync="TRUE">0</attscale>
<attrdef>Value: Model output score
Suitability: Grouped model output scores into 5 categories
Current Tidal Wetland/Water
Least Suitable
Less Suitable
Suitable
Highly Suitable</attrdef>
<attrdefs>DNREC</attrdefs>
<attrdomv>
<udom>Value: Model output score
Suitability: Grouped model output scores into 5 categories</udom>
</attrdomv>
</attr>
<attr>
<attrlabl Sync="TRUE">Count</attrlabl>
<attalias Sync="TRUE">Count</attalias>
<attrtype Sync="TRUE">Double</attrtype>
<attwidth Sync="TRUE">8</attwidth>
<atprecis Sync="TRUE">0</atprecis>
<attscale Sync="TRUE">0</attscale>
<attrdef>Count of features</attrdef>
<attrdefs>Calculated</attrdefs>
<attrdomv>
<udom>Count of features</udom>
</attrdomv>
</attr>
<attr>
<attrlabl Sync="TRUE">Suitability</attrlabl>
<attalias Sync="TRUE">Suitability</attalias>
<attrtype Sync="TRUE">String</attrtype>
<attwidth Sync="TRUE">255</attwidth>
<atprecis Sync="TRUE">0</atprecis>
<attscale Sync="TRUE">0</attscale>
</attr>
</detailed>
</eainfo>
<mdDateSt Sync="FALSE">20250127</mdDateSt>
<mdContact>
<editorSource>external</editorSource>
<editorDigest>bfd6b84d3251a8f2ff48b1cfd3302a9f1c66797a</editorDigest>
<rpIndName>FirstMap</rpIndName>
<rpOrgName>State of Delaware</rpOrgName>
<rpCntInfo>
<cntAddress addressType="both">
<delPoint>801 Silver Lake Blvd.</delPoint>
<city>Dover</city>
<adminArea>DE</adminArea>
<postCode>19904</postCode>
</cntAddress>
<cntPhone>
<voiceNum tddtty="">302-739-9500</voiceNum>
</cntPhone>
</rpCntInfo>
<editorSave>True</editorSave>
<displayName>FirstMap</displayName>
<role>
<RoleCd value="001"/>
</role>
</mdContact>
<mdChar>
<CharSetCd value="004"/>
</mdChar>
<mdContact>
<rpOrgName>DNREC, Wetland Monitoring and Assessment Program &amp; Delaware Coastal Programs</rpOrgName>
<role>
<RoleCd value="006"/>
</role>
<rpCntInfo>
<cntAddress addressType="physical">
<city>Dover</city>
<adminArea>DE</adminArea>
<postCode>19904</postCode>
</cntAddress>
<cntPhone>
<voiceNum tddtty="">302-739-9169</voiceNum>
</cntPhone>
</rpCntInfo>
</mdContact>
<mdMaint>
<maintFreq>
<MaintFreqCd value="009"/>
</maintFreq>
</mdMaint>
<mdConst>
<Consts>
<useLimit>&lt;DIV STYLE="text-align:Left;"&gt;&lt;DIV&gt;&lt;DIV&gt;&lt;P&gt;&lt;SPAN&gt;The State of Delaware makes no warranty or representation, expressed or implied, with respect to the quality, content, accuracy, completeness, currency, or non-infringement of proprietary rights, of any of the GIS or other data or information, or any other materials and items, that are displayed or made available for download from this site. FirstMap Data may have been created from a variety of sources, including sources beyond the control of the State of Delaware, and are subject to change without notice. To the extent you use, apply, add to, modify or implement this information in your own information system or other setting, or otherwise for your own purposes, you do so at your own risk. &lt;/SPAN&gt;&lt;/P&gt;&lt;/DIV&gt;&lt;/DIV&gt;&lt;/DIV&gt;</useLimit>
</Consts>
</mdConst>
<dqInfo>
<dataLineage>
<statement>This study aimed to inform state land management by conducting a suitability analysis on land in Delaware that may have the potential for future marsh migration under different sea level rise scenarios. This study was conducted through a simplistic elevation-based GIS model that incorporated elevation, the Delaware 2 ft, 4 ft, and 7 ft SLR scenarios, soil, slope, land use/land cover (LULC), and distance to tidal wetlands. The model excluded areas of impervious surface, incompatible LULC, open water, as well as the current extent of tidal wetland areas. This model did not incorporate data on accretion, erosion, or hydrodynamic water flow. The final layer includes five categories: areas receiving a score of zero are existing tidal wetlands or open water for marsh migration, scores between one and three are least suitable for migration, four to six are less suitable, seven to nine are suitable, and ten to twelve are highly suitable. </statement>
<prcStep>
<stepDesc>This study aimed to inform state land management by conducting a suitability analysis on land in Delaware that may have the potential for future marsh migration under different sea level rise scenarios. This study was conducted through a simplistic elevation-based GIS model that incorporated elevation, the Delaware 2 ft, 4 ft, and 7 ft SLR scenarios, soil, slope, land use/land cover (LULC), and distance to tidal wetlands. The model excluded areas of impervious surface, incompatible LULC, open water, as well as the current extent of tidal wetland areas. This model did not incorporate data on accretion, erosion, or hydrodynamic water flow. The final layer includes five categories: areas receiving a score of zero are existing tidal wetlands or open water for marsh migration, scores between one and three are least suitable for migration, four to six are less suitable, seven to nine are suitable, and ten to twelve are highly suitable. </stepDesc>
<stepDateTm>2025-01-27T00:00:00</stepDateTm>
<stepProc>
<rpIndName>DNREC</rpIndName>
<role>
<RoleCd value="006"/>
</role>
</stepProc>
</prcStep>
</dataLineage>
</dqInfo>
</metadata>
