<?xml version="1.0" encoding="UTF-8" standalone="no"?>
<metadata xml:lang="en">
<Esri>
<CreaDate>20260612</CreaDate>
<CreaTime>14201000</CreaTime>
<ArcGISFormat>1.0</ArcGISFormat>
<SyncOnce>FALSE</SyncOnce>
<DataProperties>
<itemProps>
<itemName Sync="TRUE">HSM_Afternoon</itemName>
<itemLocation>
<linkage Sync="TRUE">file://\\DTIFS01\APD\GIS\current\ExtremeTemperatures.gdb</linkage>
<protocol Sync="TRUE">Local Area Network</protocol>
</itemLocation>
<nativeExtBox>
<westBL Sync="TRUE">446760.000000</westBL>
<eastBL Sync="TRUE">463760.000000</eastBL>
<southBL Sync="TRUE">4389230.000000</southBL>
<northBL Sync="TRUE">4409400.000000</northBL>
<exTypeCode Sync="TRUE">1</exTypeCode>
</nativeExtBox>
</itemProps>
<coordRef>
<type Sync="TRUE">Projected</type>
<geogcsn Sync="TRUE">GCS_WGS_1984</geogcsn>
<csUnits Sync="TRUE">Linear Unit: Meter (1.000000)</csUnits>
<projcsn Sync="TRUE">WGS_1984_UTM_Zone_18N</projcsn>
<peXml Sync="TRUE">&lt;ProjectedCoordinateSystem xsi:type='typens:ProjectedCoordinateSystem' xmlns:xsi='http://www.w3.org/2001/XMLSchema-instance' xmlns:xs='http://www.w3.org/2001/XMLSchema' xmlns:typens='http://www.esri.com/schemas/ArcGIS/3.3.0'&gt;&lt;WKT&gt;PROJCS[&amp;quot;WGS_1984_UTM_Zone_18N&amp;quot;,GEOGCS[&amp;quot;GCS_WGS_1984&amp;quot;,DATUM[&amp;quot;D_WGS_1984&amp;quot;,SPHEROID[&amp;quot;WGS_1984&amp;quot;,6378137.0,298.257223563]],PRIMEM[&amp;quot;Greenwich&amp;quot;,0.0],UNIT[&amp;quot;Degree&amp;quot;,0.0174532925199433]],PROJECTION[&amp;quot;Transverse_Mercator&amp;quot;],PARAMETER[&amp;quot;False_Easting&amp;quot;,500000.0],PARAMETER[&amp;quot;False_Northing&amp;quot;,0.0],PARAMETER[&amp;quot;Central_Meridian&amp;quot;,-75.0],PARAMETER[&amp;quot;Scale_Factor&amp;quot;,0.9996],PARAMETER[&amp;quot;Latitude_Of_Origin&amp;quot;,0.0],UNIT[&amp;quot;Meter&amp;quot;,1.0],AUTHORITY[&amp;quot;EPSG&amp;quot;,32618]]&lt;/WKT&gt;&lt;XOrigin&gt;-5120900&lt;/XOrigin&gt;&lt;YOrigin&gt;-9998100&lt;/YOrigin&gt;&lt;XYScale&gt;450445547.3910538&lt;/XYScale&gt;&lt;ZOrigin&gt;-100000&lt;/ZOrigin&gt;&lt;ZScale&gt;10000&lt;/ZScale&gt;&lt;MOrigin&gt;-100000&lt;/MOrigin&gt;&lt;MScale&gt;10000&lt;/MScale&gt;&lt;XYTolerance&gt;0.001&lt;/XYTolerance&gt;&lt;ZTolerance&gt;0.001&lt;/ZTolerance&gt;&lt;MTolerance&gt;0.001&lt;/MTolerance&gt;&lt;HighPrecision&gt;true&lt;/HighPrecision&gt;&lt;WKID&gt;32618&lt;/WKID&gt;&lt;LatestWKID&gt;32618&lt;/LatestWKID&gt;&lt;/ProjectedCoordinateSystem&gt;</peXml>
</coordRef>
<RasterProperties>
<General>
<PixelDepth Sync="TRUE">32</PixelDepth>
<HasColormap Sync="TRUE">FALSE</HasColormap>
<CompressionType Sync="TRUE">None</CompressionType>
<NumBands Sync="TRUE">1</NumBands>
<Format Sync="TRUE">AMD</Format>
<HasPyramids Sync="TRUE">TRUE</HasPyramids>
<SourceType Sync="TRUE">continuous</SourceType>
<PixelType Sync="TRUE">floating point</PixelType>
<NoDataValue Sync="TRUE"/>
</General>
<Properties>
<MaxImageHeight Sync="TRUE">4100</MaxImageHeight>
<MaxImageWidth Sync="TRUE">15000</MaxImageWidth>
<MaxRecordCount Sync="TRUE">1000</MaxRecordCount>
<MaxDownloadImageCount Sync="TRUE">20</MaxDownloadImageCount>
<MaxDownloadSizeLimit Sync="TRUE">2048</MaxDownloadSizeLimit>
<MaxMosaicImageCount Sync="TRUE">20</MaxMosaicImageCount>
<DefaultCompressionQuality Sync="TRUE">75</DefaultCompressionQuality>
<DefaultCompressionTolerance Sync="TRUE">0.01</DefaultCompressionTolerance>
<BlendWidth Sync="TRUE">10</BlendWidth>
<ViewpointSpacingX Sync="TRUE">600</ViewpointSpacingX>
<ViewpointSpacingY Sync="TRUE">300</ViewpointSpacingY>
<AllowedItemMetadata Sync="TRUE">Basic</AllowedItemMetadata>
<DefaultResamplingMethod Sync="TRUE">1</DefaultResamplingMethod>
<AllowedMosaicMethods Sync="TRUE">NorthWest,Center,LockRaster,ByAttribute,Nadir,Viewpoint,Seamline,None</AllowedMosaicMethods>
<AllowedCompressions Sync="TRUE">None,JPEG,LZ77,LERC</AllowedCompressions>
<AllowedMensurationCapabilities Sync="TRUE">Basic</AllowedMensurationCapabilities>
<AvailableMensurationCapabilities Sync="TRUE">None,Basic,Base-Top Height,Top-Top Shadow Height,Base-Top Shadow Height,3D</AvailableMensurationCapabilities>
<ClipToBoundary Sync="TRUE">-1</ClipToBoundary>
<FootprintMayContainNoData Sync="TRUE">-1</FootprintMayContainNoData>
<CellSizeTolerance Sync="TRUE">0.8</CellSizeTolerance>
<MinimumPixelContribution Sync="TRUE">1</MinimumPixelContribution>
<AvailableMosaicMethods Sync="TRUE">NorthWest,Center,LockRaster,ByAttribute,Nadir,Viewpoint,Seamline,None</AvailableMosaicMethods>
<AvailableCompressionMethods Sync="TRUE">None,JPEG,LZ77,LERC</AvailableCompressionMethods>
<AvailableItemMetadataLevels Sync="TRUE">None,Basic,Full</AvailableItemMetadataLevels>
<BandDefinitionKeyword Sync="TRUE">NONE</BandDefinitionKeyword>
<_docversion_ Sync="TRUE">10</_docversion_>
<AllowedFields Sync="TRUE">Name,MinPS,MaxPS,LowPS,HighPS,Tag,GroupName,ProductName,CenterX,CenterY,ZOrder,Shape_Length,Shape_Area</AllowedFields>
<MaxCellSize Sync="TRUE">100</MaxCellSize>
<LowCellSize Sync="TRUE">10</LowCellSize>
<HighCellSize Sync="TRUE">10</HighCellSize>
</Properties>
<Functions Sync="TRUE">
<Function Description="Performs on-the-fly mosaic on a raster catalog." Name="Mosaic Function"/>
</Functions>
</RasterProperties>
</DataProperties>
<scaleRange>
<minScale>150000000</minScale>
<maxScale>5000</maxScale>
</scaleRange>
<SyncDate>20260612</SyncDate>
<SyncTime>15414100</SyncTime>
<ModDate>20260612</ModDate>
<ModTime>15440900</ModTime>
<ArcGISProfile>FGDC</ArcGISProfile>
</Esri>
<mdLang>
<languageCode Sync="TRUE" value="eng"/>
<countryCode Sync="TRUE" value="USA"/>
</mdLang>
<mdChar>
<CharSetCd value="004"/>
</mdChar>
<mdHrLv>
<ScopeCd value="005"/>
</mdHrLv>
<mdHrLvName Sync="TRUE">dataset</mdHrLvName>
<mdContact>
<editorSource>external</editorSource>
<editorDigest>1824e07d8731e9c361b7ef228c6d3eceae040beb</editorDigest>
<rpIndName>FirstMap</rpIndName>
<rpOrgName>Delaware Department of Technology and Information (DTI)</rpOrgName>
<rpCntInfo>
<cntAddress addressType="both">
<delPoint>801 Silver Lake Blvd</delPoint>
<city>Dover</city>
<adminArea>DE</adminArea>
<postCode>19904</postCode>
<country>US</country>
<eMailAdd>FirstMap@delaware.gov</eMailAdd>
</cntAddress>
<cntPhone>
<voiceNum tddtty="">302-739-9560</voiceNum>
</cntPhone>
</rpCntInfo>
<displayName>FirstMap</displayName>
<displayName>FirstMap</displayName>
<rpPosName>Location Intelligence Team</rpPosName>
<displayName>FirstMap</displayName>
<editorSave>True</editorSave>
<displayName>FirstMap</displayName>
<role>
<RoleCd value="002"/>
</role>
</mdContact>
<mdDateSt Sync="TRUE">20260612</mdDateSt>
<distInfo>
<distFormat>
<formatName Sync="TRUE">File Geodatabase Raster Dataset</formatName>
</distFormat>
</distInfo>
<dataIdInfo>
<idCitation>
<resTitle>DE_HSM_Afternoon</resTitle>
<citRespParty>
<rpOrgName>DNREC Division of Climate, Coastal, and Energy, Climate Sustainability Program </rpOrgName>
<role>
<RoleCd value="006"/>
</role>
</citRespParty>
<citRespParty>
<editorSource>external</editorSource>
<editorDigest>1824e07d8731e9c361b7ef228c6d3eceae040beb</editorDigest>
<rpIndName>FirstMap</rpIndName>
<rpOrgName>Delaware Department of Technology and Information (DTI)</rpOrgName>
<rpCntInfo>
<cntAddress addressType="both">
<delPoint>801 Silver Lake Blvd</delPoint>
<city>Dover</city>
<adminArea>DE</adminArea>
<postCode>19904</postCode>
<country>US</country>
<eMailAdd>FirstMap@delaware.gov</eMailAdd>
</cntAddress>
<cntPhone>
<voiceNum tddtty="">302-739-9560</voiceNum>
</cntPhone>
</rpCntInfo>
<displayName>FirstMap</displayName>
<displayName>FirstMap</displayName>
<rpPosName>Location Intelligence Team</rpPosName>
<displayName>FirstMap</displayName>
<editorSave>True</editorSave>
<displayName>FirstMap</displayName>
<role>
<RoleCd value="002"/>
</role>
</citRespParty>
<presForm>
<PresFormCd Sync="FALSE" value="003"/>
</presForm>
<date>
<createDate>2023-07-23T00:00:00</createDate>
<pubDate>2026-06-19T00:00:00</pubDate>
</date>
</idCitation>
<idPurp>This service currently contains heat Mapping data for Wilmington and Surrounding areas. This is the heat surface model for the afternoon.
The heat maps contain temperature data from Wilmington and surround townships as part of a community science program to better understand extreme heat. The data are collected using car-mounted sensors that drove 6 predetermined routes during three collection periods (6-7 am, 3-4 pm, 7-8 pm) on July 23, 2023. The data are available as transects for each collection period. In addition, a heat map is available for each collection period that combined the transect data with satellite data.</idPurp>
<idAbs>&lt;div style='text-align:Left;'&gt;&lt;div&gt;&lt;div&gt;&lt;p&gt;&lt;span&gt;The data were collected to map out the heterogeneity in the enhanced heating in urban settings, known as the urban heat island, in the City of Wilmington and other urban centers in Delaware. The heterogeneous distribution of heat throughout a city due to variations in geography and land-use results in residents facing disparate exposure to heat extremes. The results indicate the areas where the urban heat island is most extreme in this region. It also may assist those providing cooling services, emergency managers, planners and policy makers determine how best to respond to extreme heat.&lt;/span&gt;&lt;/p&gt;&lt;/div&gt;&lt;/div&gt;&lt;/div&gt;</idAbs>
<searchKeys>
<keyword>climate</keyword>
<keyword>extreme heat</keyword>
<keyword>urban heat island</keyword>
<keyword>Wilmington</keyword>
<keyword>FirstMap</keyword>
</searchKeys>
<dataChar>
<CharSetCd value="004"/>
</dataChar>
<resMaint>
<maintFreq>
<MaintFreqCd value="010"/>
</maintFreq>
</resMaint>
<idStatus>
<ProgCd value="001"/>
</idStatus>
<dataExt>
<geoEle>
<GeoBndBox>
<exTypeCode>1</exTypeCode>
<westBL>-75.620895 </westBL>
<eastBL> -75.442422</eastBL>
<southBL>39.658247</southBL>
<northBL>39.829262 </northBL>
</GeoBndBox>
</geoEle>
<exDesc>Local partners successfully completed their heat mapping campaign by collecting thousands of temperature and humidity data points in the morning, afternoon and evening of a long, hot day on July 23rd, 2023.</exDesc>
<tempEle>
<TempExtent>
<exTemp>
<TM_Instant>
<tmPosition>2023-07-23T00:00:00</tmPosition>
</TM_Instant>
</exTemp>
</TempExtent>
</tempEle>
</dataExt>
<idCredit>DNREC Division of Climate, Coastal, and Energy, Climate Sustainability Program, Gerard J. Mangone Climate Change Science and Policy Hub (U. Delaware), Center for Environmental Monitoring and Analysis (U. Delaware), Delaware Resilience Hub</idCredit>
<idCredit>DNREC Division of Climate, Coastal, and Energy, Climate Sustainability Program, Gerard J. Mangone Climate Change Science and Policy Hub (U. Delaware), Center for Environmental Monitoring and Analysis (U. Delaware), Delaware Resilience Hub</idCredit>
<idCredit>DNREC Division of Climate, Coastal, and Energy, Climate Sustainability Program, Gerard J. Mangone Climate Change Science and Policy Hub (U. Delaware), Center for Environmental Monitoring and Analysis (U. Delaware), Delaware Resilience Hub</idCredit>
<idCredit>DNREC Division of Climate, Coastal, and Energy, Climate Sustainability Program, Gerard J. Mangone Climate Change Science and Policy Hub (U. Delaware), Center for Environmental Monitoring and Analysis (U. Delaware), Delaware Resilience Hub</idCredit>
<idPoC>
<editorSource>external</editorSource>
<editorDigest>1824e07d8731e9c361b7ef228c6d3eceae040beb</editorDigest>
<rpIndName>FirstMap</rpIndName>
<rpOrgName>Delaware Department of Technology and Information (DTI)</rpOrgName>
<rpCntInfo>
<cntAddress addressType="both">
<delPoint>801 Silver Lake Blvd</delPoint>
<city>Dover</city>
<adminArea>DE</adminArea>
<postCode>19904</postCode>
<country>US</country>
<eMailAdd>FirstMap@delaware.gov</eMailAdd>
</cntAddress>
<cntPhone>
<voiceNum tddtty="">302-739-9560</voiceNum>
</cntPhone>
</rpCntInfo>
<displayName>FirstMap</displayName>
<displayName>FirstMap</displayName>
<rpPosName>Location Intelligence Team</rpPosName>
<displayName>FirstMap</displayName>
<editorSave>True</editorSave>
<displayName>FirstMap</displayName>
<role>
<RoleCd value="002"/>
</role>
</idPoC>
<envirDesc Sync="TRUE">Microsoft Windows 10 Version 10.0 (Build 26100) ; Esri ArcGIS 13.3.7.52636</envirDesc>
<dataLang>
<languageCode Sync="TRUE" value="eng"/>
<countryCode Sync="TRUE" value="USA"/>
</dataLang>
<spatRpType>
<SpatRepTypCd Sync="TRUE" value="002"/>
</spatRpType>
<resConst>
<Consts>
<useLimit>&lt;div style='text-align:Left;'&gt;&lt;div&gt;&lt;div&gt;&lt;p&gt;&lt;span&gt;The State of Delaware makes no warranty or representation, expressed or implied, with respect to the quality, content, accuracy, completeness, currency, or non-infringement of proprietary rights, of any of the GIS or other data or information, or any other materials and items, that are displayed or made available for download from this site. All such data, information, items and materials (collectively, the “FirstMap Data”) are provided "as is" and users are fully and solely responsible for any consequences of use. FirstMap Data may have been created from a variety of sources, including sources beyond the control of the State of Delaware, and are subject to change without notice. To the extent you use, apply, add to, modify or implement this information in your own information system or other setting, or otherwise for your own purposes, you do so at your own risk. In no event shall the State of Delaware or its agencies, officers, employees, agents, or representatives be liable for any damages of any kind or nature whatsoever including, but not limited to, direct, indirect, special, punitive, incidental, exemplary or consequential damages arising from your downloading, modifying, sharing, distributing, or using of FirstMap Data even if notified of the possibility of such damages. Further, the State of Delaware does not accept liability for any damages or misrepresentation caused by inaccuracies in the FirstMap Data or as a result of changes to the FirstMap Data, nor is there responsibility assumed to maintain the FirstMap Data in any manner or form.&lt;/span&gt;&lt;/p&gt;&lt;/div&gt;&lt;/div&gt;&lt;/div&gt;</useLimit>
</Consts>
</resConst>
<idPoC>
<rpIndName>Dana Veron</rpIndName>
<rpOrgName>University of Delaware</rpOrgName>
<role>
<RoleCd value="007"/>
</role>
<rpCntInfo>
<cntAddress addressType="both">
<city>Newark</city>
<adminArea>DE</adminArea>
<postCode>19711</postCode>
<eMailAdd>dveron@udel.edu</eMailAdd>
</cntAddress>
<cntPhone>
<voiceNum tddtty="">302-831-4842</voiceNum>
</cntPhone>
</rpCntInfo>
</idPoC>
<dataExt>
<geoEle>
<GeoBndBox esriExtentType="search">
<exTypeCode Sync="TRUE">1</exTypeCode>
<westBL Sync="TRUE">-75.622198</westBL>
<eastBL Sync="TRUE">-75.422420</eastBL>
<northBL Sync="TRUE">39.833830</northBL>
<southBL Sync="TRUE">39.651209</southBL>
</GeoBndBox>
</geoEle>
</dataExt>
<tpCat>
<TopicCatCd value="007"/>
</tpCat>
</dataIdInfo>
<mdMaint>
<maintFreq>
<MaintFreqCd value="009"/>
</maintFreq>
</mdMaint>
<dqInfo>
<dataLineage>
<statement>The data and metadata were sent to the DTI Location Intelligence team by Dana Veron at the University of Delaware. Data were downloaded from OSF website and imported into geodatabases within FirstMap. These datasets are replacing the retiring Heat Watch Wilmington application.</statement>
<dataSource type="">
<srcDesc>The research results were presented in a web mapping application by CAPA and NIHHIS. The data were downloaded from OSF and imported into FirstMap.</srcDesc>
<srcMedName>
<MedNameCd value="015"/>
</srcMedName>
<srcCitatn>
<resTitle>OSF</resTitle>
<citOnlineRes>
<linkage>https://osf.io/yef5w/files/osfstorage?view_only=e6884a4f1b2e4818a779cb5c81e343fa</linkage>
<orFunct>
<OnFunctCd value="001"/>
</orFunct>
</citOnlineRes>
<date>
<createDate>2023-07-23T00:00:00</createDate>
<pubDate>2026-06-19T00:00:00</pubDate>
</date>
</srcCitatn>
<srcExt>
<exDesc>City of Wilmington and surrounding areas</exDesc>
<tempEle>
<TempExtent>
<exTemp>
<TM_Instant>
<tmPosition>2023-07-23T00:00:00</tmPosition>
</TM_Instant>
</exTemp>
</TempExtent>
</tempEle>
<geoEle>
<GeoBndBox>
<westBL>-75.620895 </westBL>
<eastBL> -75.442422</eastBL>
<southBL>39.658247</southBL>
<northBL>39.829262 </northBL>
</GeoBndBox>
</geoEle>
</srcExt>
</dataSource>
<prcStep>
<stepDesc>Data were downloaded from OSF, extracted, and imported into a file geodatabase. Defined the projection, then reprojected into web mercator.</stepDesc>
<stepRat>Migrating data from OSF to FirstMap before the old site is decommissioned.</stepRat>
<stepDateTm>2026-06-11T00:00:00</stepDateTm>
<stepProc>
<editorSource>external</editorSource>
<editorDigest>1824e07d8731e9c361b7ef228c6d3eceae040beb</editorDigest>
<rpIndName>FirstMap</rpIndName>
<rpOrgName>Delaware Department of Technology and Information (DTI)</rpOrgName>
<rpCntInfo>
<cntAddress addressType="both">
<delPoint>801 Silver Lake Blvd</delPoint>
<city>Dover</city>
<adminArea>DE</adminArea>
<postCode>19904</postCode>
<country>US</country>
<eMailAdd>FirstMap@delaware.gov</eMailAdd>
</cntAddress>
<cntPhone>
<voiceNum tddtty="">302-739-9560</voiceNum>
</cntPhone>
</rpCntInfo>
<displayName>FirstMap</displayName>
<displayName>FirstMap</displayName>
<rpPosName>Location Intelligence Team</rpPosName>
<displayName>FirstMap</displayName>
<editorSave>True</editorSave>
<displayName>FirstMap</displayName>
<role>
<RoleCd value="002"/>
</role>
</stepProc>
<stepSrc type="used">
<srcDesc>Data downloaded from OSF website mentioned in data source.</srcDesc>
<srcMedName>
<MedNameCd value="015"/>
</srcMedName>
</stepSrc>
</prcStep>
</dataLineage>
<report dimension="" type="DQConcConsis">
<measDesc>Removed outliers during quality control process.</measDesc>
</report>
<report dimension="" type="DQCompOm">
<measDesc>Multi-stage process was developed for quality assurance and quality control (outlier removal)</measDesc>
</report>
</dqInfo>
<refSysInfo>
<RefSystem>
<refSysID>
<identCode Sync="TRUE" code="32618"/>
<idCodeSpace Sync="TRUE">EPSG</idCodeSpace>
<idVersion Sync="TRUE">9.8.8(3.0.1)</idVersion>
</refSysID>
</RefSystem>
</refSysInfo>
<eainfo>
<overview>
<eaover>Raster point represents temperature in the surface model at the time of collection.
(6-7 am, 3-4 pm, 7-8 pm) traverses (.shp, vector shapefile) = data collected by campaign participants rasters (.tif, geotiff) = heat surface models
am = morning; af = afternoon; pm = evening
t = temperature; hi = heat index
f = Fahrenheit c = Celsius
e.g. pm_hi_f.tif = evening heat index geotiff raster with fahrenheit values. -9999 = removed outlier value (traverse point)</eaover>
</overview>
</eainfo>
<spatRepInfo>
<Georect>
<cellGeo>
<CellGeoCd Sync="TRUE" value="002"/>
</cellGeo>
<numDims Sync="TRUE">2</numDims>
<tranParaAv Sync="TRUE">1</tranParaAv>
<chkPtAv Sync="TRUE">0</chkPtAv>
<cornerPts>
<pos Sync="TRUE">446760.000000 4389230.000000</pos>
</cornerPts>
<cornerPts>
<pos Sync="TRUE">446760.000000 4409400.000000</pos>
</cornerPts>
<cornerPts>
<pos Sync="TRUE">463760.000000 4409400.000000</pos>
</cornerPts>
<cornerPts>
<pos Sync="TRUE">463760.000000 4389230.000000</pos>
</cornerPts>
<centerPt>
<pos Sync="TRUE">455260.000000 4399315.000000</pos>
</centerPt>
<axisDimension type="002">
<dimSize Sync="TRUE">1700</dimSize>
<dimResol>
<value Sync="TRUE" uom="m">10.000000</value>
</dimResol>
</axisDimension>
<axisDimension type="001">
<dimSize Sync="TRUE">2017</dimSize>
<dimResol>
<value Sync="TRUE" uom="m">10.000000</value>
</dimResol>
</axisDimension>
<ptInPixel>
<PixOrientCd Sync="TRUE" value="001"/>
</ptInPixel>
</Georect>
</spatRepInfo>
<contInfo>
<ImgDesc>
<contentTyp>
<ContentTypCd Sync="TRUE" value="001"/>
</contentTyp>
<covDim>
<Band>
<dimDescrp Sync="TRUE">Band_1</dimDescrp>
<maxVal Sync="TRUE">88.760780</maxVal>
<minVal Sync="TRUE">81.342567</minVal>
<bitsPerVal Sync="TRUE">32</bitsPerVal>
<valUnit>
<UOM gmlID="" type="length">
<unitSymbol>bit</unitSymbol>
</UOM>
</valUnit>
<seqID>
<aName>1</aName>
<attributeType>
<aName>rgb</aName>
</attributeType>
</seqID>
</Band>
</covDim>
<attDesc>Heat Surface Model</attDesc>
<trianInd>False</trianInd>
<radCalDatAv>False</radCalDatAv>
<camCalInAv>False</camCalInAv>
<filmDistInAv>False</filmDistInAv>
<lensDistInAv>False</lensDistInAv>
</ImgDesc>
</contInfo>
</metadata>
