<?xml version="1.0" encoding="UTF-8" standalone="no"?>
<metadata xml:lang="en">
<Esri>
<CreaDate>20260828</CreaDate>
<CreaTime>14211000</CreaTime>
<ArcGISFormat>1.0</ArcGISFormat>
<SyncOnce>FALSE</SyncOnce>
<DataProperties>
<lineage>
<Process Date="20260827" Name="" Time="162006" ToolSource="c:\program files\arcgis\pro\Resources\ArcToolbox\toolboxes\Data Management Tools.tbx\CreateMosaicDataset" export="">CreateMosaicDataset \\Dtifs01\apd\GIS\current\FutureFloodRisk.gdb ENV_FFR_All PROJCS["WGS_1984_Web_Mercator_Auxiliary_Sphere",GEOGCS["GCS_WGS_1984",DATUM["D_WGS_1984",SPHEROID["WGS_1984",6378137.0,298.257223563]],PRIMEM["Greenwich",0.0],UNIT["Degree",0.0174532925199433]],PROJECTION["Mercator_Auxiliary_Sphere"],PARAMETER["False_Easting",0.0],PARAMETER["False_Northing",0.0],PARAMETER["Central_Meridian",0.0],PARAMETER["Standard_Parallel_1",0.0],PARAMETER["Auxiliary_Sphere_Type",0.0],UNIT["Meter",1.0]] 1 "32-bit floating point" None #</Process>
<Process Date="20260827" Name="" Time="162225" ToolSource="c:\program files\arcgis\pro\Resources\ArcToolbox\toolboxes\Data Management Tools.tbx\AddRastersToMosaicDataset" export="">AddRastersToMosaicDataset \\Dtifs01\apd\GIS\current\FutureFloodRisk.gdb\ENV_FFR_All "Raster Dataset" '\\Dtifs01\apd\Team GIS\K_Kelly\Future Flood Risk Datasets\Clipped';'\\Dtifs01\apd\Team GIS\K_Kelly\Future Flood Risk Datasets\Difference' UPDATE_CELL_SIZES UPDATE_BOUNDARY NO_OVERVIEWS # 0 1500 "PROJCS["WGS_1984_Web_Mercator_Auxiliary_Sphere",GEOGCS["GCS_WGS_1984",DATUM["D_WGS_1984",SPHEROID["WGS_1984",6378137.0,298.257223563]],PRIMEM["Greenwich",0.0],UNIT["Degree",0.0174532925199433]],PROJECTION["Mercator_Auxiliary_Sphere"],PARAMETER["False_Easting",0.0],PARAMETER["False_Northing",0.0],PARAMETER["Central_Meridian",0.0],PARAMETER["Standard_Parallel_1",0.0],PARAMETER["Auxiliary_Sphere_Type",0.0],UNIT["Meter",1.0]];-20037700 -30241100 10000;-100000 10000;-100000 10000;0.001;0.001;0.001;IsHighPrecision" # SUBFOLDERS "Allow duplicates" NO_PYRAMIDS CALCULATE_STATISTICS NO_THUMBNAILS # NO_FORCE_SPATIAL_REFERENCE ESTIMATE_STATISTICS # NO_PIXEL_CACHE C:\Users\kim.cloud\AppData\Local\ESRI\rasterproxies\ENV_FFR_All</Process>
<Process Date="20260827" Name="" Time="170552" ToolSource="d:\program files\arcgis\pro\Resources\ArcToolbox\toolboxes\Data Management Tools.tbx\CopyMultiple" export="">CopyMultiple "D:\scratch\FutureFloodRisk.gdb\ENV_FFR_All MosaicDataset" E:\current\FutureFloodRisk.gdb ENV_FFR_All "ENV_FFR_All MosaicDataset ENV_FFR_All #"</Process>
<Process Date="20260828" Time="142110" ToolSource="d:\program files\arcgis\pro\Resources\ArcToolbox\Toolboxes\Data Management Tools.tbx\CopyMultiple">CopyMultiple "E:\current\FutureFloodRisk.gdb\ENV_FFR_All MosaicDataset" E:\current\FutureFloodRisk.gdb ENV_FFR_All_1 "ENV_FFR_All MosaicDataset ENV_FFR_All_1 #"</Process>
<Process Date="20260828" Time="142121" ToolSource="d:\program files\arcgis\pro\Resources\ArcToolbox\Toolboxes\Data Management Tools.tbx\Rename">Rename E:\current\FutureFloodRisk.gdb\ENV_FFR_All_1 E:\current\FutureFloodRisk.gdb\ENV_FFR_TWEL MosaicDataset</Process>
</lineage>
<itemProps>
<itemLocation>
<linkage Sync="TRUE">file://\\DVT2CFIRSTMAP\E$\current\FutureFloodRisk.gdb</linkage>
<protocol Sync="TRUE">Local Area Network</protocol>
</itemLocation>
<imsContentType Sync="TRUE">002</imsContentType>
<itemName Sync="TRUE">ENV_FFR_All</itemName>
<nativeExtBox>
<westBL Sync="TRUE">-8436802.275672</westBL>
<eastBL Sync="TRUE">-8354379.923492</eastBL>
<southBL Sync="TRUE">4643349.205111</southBL>
<northBL Sync="TRUE">4842654.892924</northBL>
<exTypeCode Sync="TRUE">1</exTypeCode>
</nativeExtBox>
</itemProps>
<coordRef>
<type Sync="TRUE">Projected</type>
<geogcsn Sync="TRUE">GCS_WGS_1984</geogcsn>
<csUnits Sync="TRUE">Linear Unit: Meter (1.000000)</csUnits>
<projcsn Sync="TRUE">WGS_1984_Web_Mercator_Auxiliary_Sphere</projcsn>
<peXml Sync="TRUE">&lt;ProjectedCoordinateSystem xsi:type='typens:ProjectedCoordinateSystem' xmlns:xsi='http://www.w3.org/2001/XMLSchema-instance' xmlns:xs='http://www.w3.org/2001/XMLSchema' xmlns:typens='http://www.esri.com/schemas/ArcGIS/3.3.0'&gt;&lt;WKT&gt;PROJCS[&amp;quot;WGS_1984_Web_Mercator_Auxiliary_Sphere&amp;quot;,GEOGCS[&amp;quot;GCS_WGS_1984&amp;quot;,DATUM[&amp;quot;D_WGS_1984&amp;quot;,SPHEROID[&amp;quot;WGS_1984&amp;quot;,6378137.0,298.257223563]],PRIMEM[&amp;quot;Greenwich&amp;quot;,0.0],UNIT[&amp;quot;Degree&amp;quot;,0.0174532925199433]],PROJECTION[&amp;quot;Mercator_Auxiliary_Sphere&amp;quot;],PARAMETER[&amp;quot;False_Easting&amp;quot;,0.0],PARAMETER[&amp;quot;False_Northing&amp;quot;,0.0],PARAMETER[&amp;quot;Central_Meridian&amp;quot;,0.0],PARAMETER[&amp;quot;Standard_Parallel_1&amp;quot;,0.0],PARAMETER[&amp;quot;Auxiliary_Sphere_Type&amp;quot;,0.0],UNIT[&amp;quot;Meter&amp;quot;,1.0],AUTHORITY[&amp;quot;EPSG&amp;quot;,3857]]&lt;/WKT&gt;&lt;XOrigin&gt;-20037700&lt;/XOrigin&gt;&lt;YOrigin&gt;-30241100&lt;/YOrigin&gt;&lt;XYScale&gt;148923141.92838538&lt;/XYScale&gt;&lt;ZOrigin&gt;-100000&lt;/ZOrigin&gt;&lt;ZScale&gt;10000&lt;/ZScale&gt;&lt;MOrigin&gt;-100000&lt;/MOrigin&gt;&lt;MScale&gt;10000&lt;/MScale&gt;&lt;XYTolerance&gt;0.001&lt;/XYTolerance&gt;&lt;ZTolerance&gt;0.001&lt;/ZTolerance&gt;&lt;MTolerance&gt;0.001&lt;/MTolerance&gt;&lt;HighPrecision&gt;true&lt;/HighPrecision&gt;&lt;WKID&gt;102100&lt;/WKID&gt;&lt;LatestWKID&gt;3857&lt;/LatestWKID&gt;&lt;/ProjectedCoordinateSystem&gt;</peXml>
</coordRef>
<RasterProperties>
<General>
<PixelDepth Sync="TRUE">32</PixelDepth>
<HasColormap Sync="TRUE">FALSE</HasColormap>
<CompressionType Sync="TRUE">None</CompressionType>
<NumBands Sync="TRUE">1</NumBands>
<Format Sync="TRUE">AMD</Format>
<HasPyramids Sync="TRUE">TRUE</HasPyramids>
<SourceType Sync="TRUE">continuous</SourceType>
<PixelType Sync="TRUE">floating point</PixelType>
<NoDataValue Sync="TRUE"/>
</General>
<Properties>
<MaxImageHeight Sync="TRUE">4100</MaxImageHeight>
<MaxImageWidth Sync="TRUE">15000</MaxImageWidth>
<MaxRecordCount Sync="TRUE">1000</MaxRecordCount>
<MaxDownloadImageCount Sync="TRUE">20</MaxDownloadImageCount>
<MaxDownloadSizeLimit Sync="TRUE">2048</MaxDownloadSizeLimit>
<MaxMosaicImageCount Sync="TRUE">20</MaxMosaicImageCount>
<DefaultCompressionQuality Sync="TRUE">75</DefaultCompressionQuality>
<DefaultCompressionTolerance Sync="TRUE">0.01</DefaultCompressionTolerance>
<BlendWidth Sync="TRUE">10</BlendWidth>
<ViewpointSpacingX Sync="TRUE">600</ViewpointSpacingX>
<ViewpointSpacingY Sync="TRUE">300</ViewpointSpacingY>
<AllowedItemMetadata Sync="TRUE">Basic</AllowedItemMetadata>
<DefaultResamplingMethod Sync="TRUE">1</DefaultResamplingMethod>
<AllowedMosaicMethods Sync="TRUE">NorthWest,Center,LockRaster,ByAttribute,Nadir,Viewpoint,Seamline,None</AllowedMosaicMethods>
<AllowedCompressions Sync="TRUE">None,JPEG,LZ77,LERC</AllowedCompressions>
<AllowedMensurationCapabilities Sync="TRUE">Basic</AllowedMensurationCapabilities>
<AvailableMensurationCapabilities Sync="TRUE">None,Basic,Base-Top Height,Top-Top Shadow Height,Base-Top Shadow Height,3D</AvailableMensurationCapabilities>
<ClipToBoundary Sync="TRUE">-1</ClipToBoundary>
<FootprintMayContainNoData Sync="TRUE">-1</FootprintMayContainNoData>
<CellSizeTolerance Sync="TRUE">0.8</CellSizeTolerance>
<MinimumPixelContribution Sync="TRUE">1</MinimumPixelContribution>
<AvailableMosaicMethods Sync="TRUE">NorthWest,Center,LockRaster,ByAttribute,Nadir,Viewpoint,Seamline,None</AvailableMosaicMethods>
<AvailableCompressionMethods Sync="TRUE">None,JPEG,LZ77,LERC</AvailableCompressionMethods>
<AvailableItemMetadataLevels Sync="TRUE">None,Basic,Full</AvailableItemMetadataLevels>
<BandDefinitionKeyword Sync="TRUE">NONE</BandDefinitionKeyword>
<_docversion_ Sync="TRUE">10</_docversion_>
<AllowedFields Sync="TRUE">Name,MinPS,MaxPS,LowPS,HighPS,Tag,GroupName,ProductName,CenterX,CenterY,ZOrder,Shape_Length,Shape_Area,Sea_Level_Condition,Return_Period,Surge_Category,Condition_Time_Period,Return_Time_Period</AllowedFields>
<MaxCellSize Sync="TRUE">400.011415580666</MaxCellSize>
<LowCellSize Sync="TRUE">10.0002853895164</LowCellSize>
<HighCellSize Sync="TRUE">40.0011415580666</HighCellSize>
</Properties>
<Functions Sync="TRUE">
<Function Description="Performs on-the-fly mosaic on a raster catalog." Name="Mosaic Function"/>
</Functions>
</RasterProperties>
</DataProperties>
<scaleRange>
<minScale>150000000</minScale>
<maxScale>5000</maxScale>
</scaleRange>
<SyncDate>20260828</SyncDate>
<SyncTime>14191700</SyncTime>
<ModDate>20260828</ModDate>
<ModTime>14193600</ModTime>
<ArcGISProfile>FGDC</ArcGISProfile>
</Esri>
<mdLang>
<languageCode Sync="TRUE" value="eng"/>
<countryCode Sync="TRUE" value="USA"/>
</mdLang>
<mdChar>
<CharSetCd Sync="TRUE" value="004"/>
</mdChar>
<mdHrLv>
<ScopeCd Sync="TRUE" value="005"/>
</mdHrLv>
<mdHrLvName Sync="TRUE">dataset</mdHrLvName>
<mdContact>
<editorSource>external</editorSource>
<editorDigest>d13e65f100fbb5246f4e46aa74e384c0752f5806</editorDigest>
<rpIndName>FirstMap</rpIndName>
<rpOrgName>Delaware Department of Technology and Information (DTI)</rpOrgName>
<rpCntInfo>
<cntAddress addressType="both">
<delPoint>801 Silver Lake Blvd.</delPoint>
<city>Dover</city>
<adminArea>DE</adminArea>
<postCode>19904</postCode>
<eMailAdd>FirstMap@delaware.gov</eMailAdd>
<country>US</country>
</cntAddress>
<cntPhone>
<voiceNum tddtty="">302-739-9500</voiceNum>
</cntPhone>
</rpCntInfo>
<editorSave>True</editorSave>
<displayName>FirstMap</displayName>
<role>
<RoleCd value="002"/>
</role>
</mdContact>
<mdDateSt Sync="TRUE">20260828</mdDateSt>
<distInfo>
<distFormat>
<formatName Sync="TRUE">Raster Dataset</formatName>
</distFormat>
</distInfo>
<dataIdInfo>
<envirDesc Sync="TRUE">Microsoft Windows Server 2016 Technical Preview Version 10.0 (Build 14393) ; Esri ArcGIS 13.3.7.52636</envirDesc>
<dataLang>
<languageCode Sync="TRUE" value="eng"/>
<countryCode Sync="TRUE" value="USA"/>
</dataLang>
<idCitation>
<resTitle Sync="FALSE">DE_FutureFloodRisk_TWEL</resTitle>
<presForm>
<PresFormCd Sync="TRUE" value="005"/>
</presForm>
<date>
<createDate>2025-02-28T00:00:00</createDate>
<pubDate>2026-08-28T00:00:00</pubDate>
</date>
<citRespParty>
<editorSource>external</editorSource>
<editorDigest>d13e65f100fbb5246f4e46aa74e384c0752f5806</editorDigest>
<rpIndName>FirstMap</rpIndName>
<rpOrgName>Delaware Department of Technology and Information (DTI)</rpOrgName>
<rpCntInfo>
<cntAddress addressType="both">
<delPoint>801 Silver Lake Blvd.</delPoint>
<city>Dover</city>
<adminArea>DE</adminArea>
<postCode>19904</postCode>
<eMailAdd>FirstMap@delaware.gov</eMailAdd>
<country>US</country>
</cntAddress>
<cntPhone>
<voiceNum tddtty="">302-739-9500</voiceNum>
</cntPhone>
</rpCntInfo>
<editorSave>True</editorSave>
<displayName>FirstMap</displayName>
<role>
<RoleCd value="002"/>
</role>
</citRespParty>
<citRespParty>
<rpIndName>Joseph Faries</rpIndName>
<rpOrgName>DNREC Shoreline and Waterway Management Section</rpOrgName>
<role>
<RoleCd value="003"/>
</role>
<rpCntInfo>
<cntAddress addressType="both">
<city>Dover</city>
<adminArea>DE</adminArea>
<postCode>19904</postCode>
</cntAddress>
<cntPhone>
<voiceNum tddtty="">123</voiceNum>
</cntPhone>
</rpCntInfo>
</citRespParty>
<citRespParty>
<rpIndName>Patricia Doerr, Sravani Mallavarapu, Naomy Perez</rpIndName>
<rpOrgName>Michael Baker International</rpOrgName>
<role>
<RoleCd value="006"/>
</role>
</citRespParty>
</idCitation>
<spatRpType>
<SpatRepTypCd Sync="TRUE" value="002"/>
</spatRpType>
<dataExt>
<geoEle>
<GeoBndBox esriExtentType="search">
<exTypeCode Sync="TRUE">1</exTypeCode>
<westBL Sync="TRUE">-75.789084</westBL>
<eastBL Sync="TRUE">-75.048672</eastBL>
<northBL Sync="TRUE">39.839560</northBL>
<southBL Sync="TRUE">38.451104</southBL>
</GeoBndBox>
</geoEle>
<exDesc>Final Technical report created 2/28/25</exDesc>
<tempEle>
<TempExtent>
<exTemp>
<TM_Period>
<tmBegin>2025-02-28T00:00:00</tmBegin>
<tmEnd>2025-02-28T00:00:00</tmEnd>
</TM_Period>
</exTemp>
</TempExtent>
</tempEle>
</dataExt>
<idPurp>In coordination with FEMA’s Future Flood Risk Data (FFRD) program and the Delaware Department of Natural Resources and Environmental Control (DNREC), Michael Baker International (MBI) generated graduated maps of coastal flood risk in Delaware coastal areas. These non-regulatory maps show flood risk using a gradient color scale, representing present conditions and the DNREC Mid-Century and Late-Century sea-level rise (SLR) projections for all of coastal Delaware.</idPurp>
<searchKeys>
<keyword>Delaware</keyword>
<keyword>DNREC</keyword>
<keyword>Sea Level Rise</keyword>
<keyword>Flood Risk</keyword>
<keyword>Flood Risk Data</keyword>
</searchKeys>
<idAbs>&lt;div style='text-align:Left;'&gt;&lt;div&gt;&lt;div&gt;&lt;p&gt;&lt;span&gt;The graduated flood risk maps were developed for 10-, 20-, 50-, 100-, and 500-year return periods. MBI performed spatial extent extrapolation and boundary delineation for return periods higher than 1 percent of the annual exceedance probability (AEP) for the current conditions and for all return periods for two SLR scenarios. Our team estimated wave heights in the extended floodplains using the total water level and still water elevation data and developed depth grids to quantify spatial flood depths for the five return periods of interest. This work was completed in February of 2025.&lt;/span&gt;&lt;/p&gt;&lt;/div&gt;&lt;/div&gt;&lt;/div&gt;</idAbs>
<idCredit>DNREC Shoreline and Waterway Management Section, Michael Baker International</idCredit>
<resConst>
<Consts>
<useLimit>&lt;div style='text-align:Left;'&gt;&lt;div&gt;&lt;div&gt;&lt;p&gt;&lt;span&gt;These data layers are non-regulatory. This should be used to evaluate potential flood risks, particularly under potential future sea level conditions.&lt;/span&gt;&lt;/p&gt;&lt;p&gt;&lt;span&gt;The State of Delaware makes no warranty or representation, expressed or implied, with respect to the quality, content, accuracy, completeness, currency, or non-infringement of proprietary rights, of any of the GIS or other data or information, or any other materials and items, that are displayed or made available for download from this site. All such data, information, items and materials (collectively, the “FirstMap Data”) are provided "as is" and users are fully and solely responsible for any consequences of use. FirstMap Data may have been created from a variety of sources, including sources beyond the control of the State of Delaware, and are subject to change without notice. To the extent you use, apply, add to, modify or implement this information in your own information system or other setting, or otherwise for your own purposes, you do so at your own risk. In no event shall the State of Delaware or its agencies, officers, employees, agents, or representatives be liable for any damages of any kind or nature whatsoever including, but not limited to, direct, indirect, special, punitive, incidental, exemplary or consequential damages arising from your downloading, modifying, sharing, distributing, or using of FirstMap Data even if notified of the possibility of such damages. Further, the State of Delaware does not accept liability for any damages or misrepresentation caused by inaccuracies in the FirstMap Data or as a result of changes to the FirstMap Data, nor is there responsibility assumed to maintain the FirstMap Data in any manner or form.&lt;/span&gt;&lt;/p&gt;&lt;/div&gt;&lt;/div&gt;&lt;/div&gt;</useLimit>
</Consts>
</resConst>
<dataChar>
<CharSetCd value="004"/>
</dataChar>
<idStatus>
<ProgCd value="001"/>
</idStatus>
<idPoC>
<rpIndName>Joseph Faries</rpIndName>
<rpOrgName>DNREC Shoreline and Waterway Management Section</rpOrgName>
<role>
<RoleCd value="003"/>
</role>
<rpCntInfo>
<cntAddress addressType="both">
<city>Dover</city>
<adminArea>DE</adminArea>
<postCode>19904</postCode>
</cntAddress>
<cntPhone>
<voiceNum tddtty="">123</voiceNum>
</cntPhone>
</rpCntInfo>
<displayName>Joseph Faries</displayName>
</idPoC>
<idPoC>
<editorSource>external</editorSource>
<editorDigest>d13e65f100fbb5246f4e46aa74e384c0752f5806</editorDigest>
<rpIndName>FirstMap</rpIndName>
<rpOrgName>Delaware Department of Technology and Information (DTI)</rpOrgName>
<rpCntInfo>
<cntAddress addressType="both">
<delPoint>801 Silver Lake Blvd.</delPoint>
<city>Dover</city>
<adminArea>DE</adminArea>
<postCode>19904</postCode>
<eMailAdd>FirstMap@delaware.gov</eMailAdd>
<country>US</country>
</cntAddress>
<cntPhone>
<voiceNum tddtty="">302-739-9500</voiceNum>
</cntPhone>
</rpCntInfo>
<editorSave>True</editorSave>
<displayName>FirstMap</displayName>
<role>
<RoleCd value="002"/>
</role>
</idPoC>
<resMaint>
<maintFreq>
<MaintFreqCd value="011"/>
</maintFreq>
</resMaint>
</dataIdInfo>
<mdMaint>
<maintFreq>
<MaintFreqCd value="009"/>
</maintFreq>
</mdMaint>
<spatRepInfo>
<Georect>
<cellGeo>
<CellGeoCd Sync="TRUE" value="002"/>
</cellGeo>
<numDims Sync="TRUE">2</numDims>
<tranParaAv Sync="TRUE">1</tranParaAv>
<chkPtAv Sync="TRUE">0</chkPtAv>
<cornerPts>
<pos Sync="TRUE">-8436802.275672 4643349.205111</pos>
</cornerPts>
<cornerPts>
<pos Sync="TRUE">-8436802.275672 4842654.892924</pos>
</cornerPts>
<cornerPts>
<pos Sync="TRUE">-8354379.923492 4842654.892924</pos>
</cornerPts>
<cornerPts>
<pos Sync="TRUE">-8354379.923492 4643349.205111</pos>
</cornerPts>
<centerPt>
<pos Sync="TRUE">-8395591.099582 4743002.049018</pos>
</centerPt>
<axisDimension type="002">
<dimSize Sync="TRUE">8242</dimSize>
<dimResol>
<value Sync="TRUE" uom="m">10.000285</value>
</dimResol>
</axisDimension>
<axisDimension type="001">
<dimSize Sync="TRUE">19930</dimSize>
<dimResol>
<value Sync="TRUE" uom="m">10.000285</value>
</dimResol>
</axisDimension>
<ptInPixel>
<PixOrientCd Sync="TRUE" value="001"/>
</ptInPixel>
</Georect>
</spatRepInfo>
<refSysInfo>
<RefSystem>
<refSysID>
<identCode Sync="TRUE" code="3857"/>
<idCodeSpace Sync="TRUE">EPSG</idCodeSpace>
<idVersion Sync="TRUE">6.18.3(9.3.1.2)</idVersion>
</refSysID>
</RefSystem>
</refSysInfo>
<contInfo>
<ImgDesc>
<contentTyp>
<ContentTypCd Sync="TRUE" value="001"/>
</contentTyp>
<covDim>
<Band>
<dimDescrp Sync="TRUE">Band_1</dimDescrp>
<bitsPerVal Sync="TRUE">32</bitsPerVal>
<valUnit>
<UOM gmlID="" type="length"/>
</valUnit>
<seqID>
<aName>Band</aName>
<attributeType>
<aName>1</aName>
</attributeType>
</seqID>
<maxVal Sync="TRUE">9.978125</maxVal>
<minVal Sync="TRUE">3.921875</minVal>
</Band>
</covDim>
<attDesc>Wave height</attDesc>
<trianInd>False</trianInd>
<radCalDatAv>False</radCalDatAv>
<camCalInAv>False</camCalInAv>
<filmDistInAv>False</filmDistInAv>
<lensDistInAv>False</lensDistInAv>
</ImgDesc>
</contInfo>
</metadata>
