<metadata xml:lang="en"><Esri><CreaDate>20150602</CreaDate><CreaTime>08304400</CreaTime><ArcGISFormat>1.0</ArcGISFormat><ArcGISstyle>FGDC CSDGM Metadata</ArcGISstyle><SyncOnce>FALSE</SyncOnce><DataProperties><itemProps><itemName Sync="TRUE">DE_Imagery_Sandy_SP</itemName><nativeExtBox><westBL Sync="TRUE">190899.600900</westBL><eastBL Sync="TRUE">233376.000900</eastBL><southBL Sync="TRUE">48847.609500</southBL><northBL Sync="TRUE">150939.209500</northBL><exTypeCode Sync="TRUE">1</exTypeCode></nativeExtBox><imsContentType>002</imsContentType></itemProps><coordRef><type Sync="TRUE">Projected</type><geogcsn Sync="TRUE">GCS_North_American_1983</geogcsn><csUnits Sync="TRUE">Linear Unit: Meter (1.000000)</csUnits><projcsn Sync="TRUE">NAD_1983_StatePlane_Delaware_FIPS_0700</projcsn><peXml Sync="TRUE">&lt;ProjectedCoordinateSystem xsi:type='typens:ProjectedCoordinateSystem' xmlns:xsi='http://www.w3.org/2001/XMLSchema-instance' xmlns:xs='http://www.w3.org/2001/XMLSchema' xmlns:typens='http://www.esri.com/schemas/ArcGIS/10.1'&gt;&lt;WKT&gt;PROJCS[&amp;quot;NAD_1983_StatePlane_Delaware_FIPS_0700&amp;quot;,GEOGCS[&amp;quot;GCS_North_American_1983&amp;quot;,DATUM[&amp;quot;D_North_American_1983&amp;quot;,SPHEROID[&amp;quot;GRS_1980&amp;quot;,6378137.0,298.257222101]],PRIMEM[&amp;quot;Greenwich&amp;quot;,0.0],UNIT[&amp;quot;Degree&amp;quot;,0.0174532925199433]],PROJECTION[&amp;quot;Transverse_Mercator&amp;quot;],PARAMETER[&amp;quot;False_Easting&amp;quot;,200000.0],PARAMETER[&amp;quot;False_Northing&amp;quot;,0.0],PARAMETER[&amp;quot;Central_Meridian&amp;quot;,-75.41666666666667],PARAMETER[&amp;quot;Scale_Factor&amp;quot;,0.999995],PARAMETER[&amp;quot;Latitude_Of_Origin&amp;quot;,38.0],UNIT[&amp;quot;Meter&amp;quot;,1.0],AUTHORITY[&amp;quot;EPSG&amp;quot;,26957]]&lt;/WKT&gt;&lt;XOrigin&gt;-5423100&lt;/XOrigin&gt;&lt;YOrigin&gt;-14209500&lt;/YOrigin&gt;&lt;XYScale&gt;450267657.86718673&lt;/XYScale&gt;&lt;ZOrigin&gt;-100000&lt;/ZOrigin&gt;&lt;ZScale&gt;10000&lt;/ZScale&gt;&lt;MOrigin&gt;-100000&lt;/MOrigin&gt;&lt;MScale&gt;10000&lt;/MScale&gt;&lt;XYTolerance&gt;0.001&lt;/XYTolerance&gt;&lt;ZTolerance&gt;0.001&lt;/ZTolerance&gt;&lt;MTolerance&gt;0.001&lt;/MTolerance&gt;&lt;HighPrecision&gt;true&lt;/HighPrecision&gt;&lt;WKID&gt;26957&lt;/WKID&gt;&lt;LatestWKID&gt;26957&lt;/LatestWKID&gt;&lt;/ProjectedCoordinateSystem&gt;</peXml></coordRef><RasterProperties><General><PixelDepth Sync="TRUE">8</PixelDepth><HasColormap Sync="TRUE">FALSE</HasColormap><CompressionType Sync="TRUE">None</CompressionType><NumBands Sync="TRUE">4</NumBands><Format Sync="TRUE">AMD</Format><HasPyramids Sync="TRUE">TRUE</HasPyramids><SourceType Sync="TRUE">continuous</SourceType><PixelType Sync="TRUE">unsigned integer</PixelType><NoDataValue Sync="TRUE"/></General><Properties><MaxImageHeight Sync="TRUE">500000</MaxImageHeight><MaxImageWidth Sync="TRUE">500000</MaxImageWidth><MaxRecordCount Sync="TRUE">1000</MaxRecordCount><MaxDownloadImageCount Sync="TRUE">20</MaxDownloadImageCount><MaxDownloadSizeLimit Sync="TRUE">2048</MaxDownloadSizeLimit><MaxMosaicImageCount Sync="TRUE">2000</MaxMosaicImageCount><DefaultCompressionQuality Sync="TRUE">75</DefaultCompressionQuality><DefaultCompressionTolerance Sync="TRUE">0.01</DefaultCompressionTolerance><BlendWidth Sync="TRUE">10</BlendWidth><ViewpointSpacingX Sync="TRUE">600</ViewpointSpacingX><ViewpointSpacingY Sync="TRUE">300</ViewpointSpacingY><AllowedItemMetadata Sync="TRUE">Basic</AllowedItemMetadata><DefaultResamplingMethod Sync="TRUE">1</DefaultResamplingMethod><AllowedMosaicMethods Sync="TRUE">ByAttribute,NorthWest,Center,LockRaster,Nadir,Viewpoint,Seamline,None</AllowedMosaicMethods><AllowedCompressions Sync="TRUE">None,JPEG,LZ77,LERC</AllowedCompressions><AllowedMensurationCapabilities Sync="TRUE">Basic</AllowedMensurationCapabilities><AvailableMensurationCapabilities Sync="TRUE">None,Basic,Base-Top Height,Top-Top Shadow Height,Base-Top Shadow Height,3D</AvailableMensurationCapabilities><ClipToBoundary Sync="TRUE">-1</ClipToBoundary><FootprintMayContainNoData Sync="TRUE">-1</FootprintMayContainNoData><CellSizeTolerance Sync="TRUE">0.8</CellSizeTolerance><MinimumPixelContribution Sync="TRUE">1</MinimumPixelContribution><AvailableMosaicMethods Sync="TRUE">NorthWest,Center,LockRaster,ByAttribute,Nadir,Viewpoint,Seamline,None</AvailableMosaicMethods><AvailableCompressionMethods Sync="TRUE">None,JPEG,LZ77,LERC</AvailableCompressionMethods><AvailableItemMetadataLevels Sync="TRUE">None,Basic,Full</AvailableItemMetadataLevels><ConfigKeyword Sync="TRUE"/><BandDefinitionKeyword Sync="TRUE">NONE</BandDefinitionKeyword><AllowedFields Sync="TRUE">Name,MinPS,MaxPS,LowPS,HighPS,Tag,GroupName,ProductName,CenterX,CenterY,ZOrder,Shape_Length,Shape_Area</AllowedFields><LowCellSize Sync="TRUE">0.1</LowCellSize><HighCellSize Sync="TRUE">160</HighCellSize><MaxCellSize Sync="TRUE">8000</MaxCellSize><ApplyColorCorrection Sync="TRUE">0</ApplyColorCorrection><DataType Sync="TRUE">Processed</DataType><TimeValueFormat Sync="TRUE"/><EndTimeFieldName Sync="TRUE"/><StartTimeFieldName Sync="TRUE"/><MosaicOperator Sync="TRUE">1</MosaicOperator><BlendWidthUnits Sync="TRUE">1</BlendWidthUnits><UseTime Sync="TRUE">0</UseTime><SortAscending Sync="TRUE">-1</SortAscending><ClipToFootprint Sync="TRUE">0</ClipToFootprint><SortField Sync="TRUE">LowPS</SortField><SortValue Sync="TRUE">0</SortValue></Properties><Functions Sync="TRUE"><Function Description="Performs on-the-fly mosaic on a raster catalog." Name="Mosaic Function"/></Functions></RasterProperties></DataProperties><SyncDate>20150602</SyncDate><SyncTime>15371400</SyncTime><ModDate>20191115</ModDate><ModTime>17182000</ModTime><scaleRange><minScale>150000000</minScale><maxScale>5000</maxScale></scaleRange><ArcGISProfile>FGDC</ArcGISProfile></Esri><mdLang><languageCode value="eng"/><countryCode Sync="TRUE" value="USA"/></mdLang><mdChar><CharSetCd value="004"/></mdChar><mdHrLv><ScopeCd value="005"/></mdHrLv><mdContact><rpIndName>Chief, Remote Sensing Division</rpIndName><rpOrgName>National Oceanic and Atmospheric Administration (NOAA), National Ocean Service (NOS), National Geodetic Survey (NGS), Remote Sensing Division</rpOrgName><rpPosName>Chief, Remote Sensing Division</rpPosName><rpCntInfo><cntPhone><voiceNum>301-713-2663</voiceNum></cntPhone><cntAddress addressType="both"><delPoint>1315 East West Highway, N/NGS3</delPoint><delPoint>SSMC-3 8142</delPoint><city>Silver Spring</city><adminArea>MD</adminArea><postCode>20910</postCode><country>US</country><eMailAdd>Mike.Aslasken@noaa.gov</eMailAdd></cntAddress><cntHours>Monday to Friday, 8 a.m. to 5 p.m., Eastern Standard Time.</cntHours></rpCntInfo><role><RoleCd value="007"/></role></mdContact><mdStanName>ArcGIS Metadata</mdStanName><mdStanVer>1.0</mdStanVer><distInfo><distributor><distorCont><rpIndName>Clearinghouse Manager</rpIndName><rpOrgName>NOAA Coastal Services Center</rpOrgName><rpPosName>Clearinghouse Manager</rpPosName><rpCntInfo><cntPhone><voiceNum>(843)740-1210</voiceNum><faxNum>(843)740-1224</faxNum></cntPhone><cntAddress addressType="both"><delPoint>2234 South Hobson Avenue</delPoint><city>Charleston</city><adminArea>SC</adminArea><postCode>29405-2413</postCode><country>US</country><eMailAdd>clearinghouse@noaa.gov</eMailAdd></cntAddress><cntHours>Monday to Friday, 8 a.m. to 5 p.m., Eastern Standard Time</cntHours></rpCntInfo><role><RoleCd value="005"/></role></distorCont><distorOrdPrc><resFees>none</resFees></distorOrdPrc><distorFormat><formatName>GeoTIFF</formatName></distorFormat><distorTran><onLineSrc><linkage>http://www.csc.noaa.gov/dataviewer</linkage></onLineSrc></distorTran></distributor><distTranOps><onLineSrc><linkage>http://www.csc.noaa.gov/dataviewer</linkage></onLineSrc></distTranOps></distInfo><dataIdInfo><idCitation><resTitle Sync="FALSE">Delaware Hurricane Sandy Orthoimagery</resTitle><date><pubDate>2014-12-16</pubDate></date><citRespParty><rpOrgName>NOAA's Ocean Service, National Geodetic Survey (NGS)</rpOrgName><rpCntInfo><cntAddress><delPoint>Silver Spring, MD</delPoint></cntAddress></rpCntInfo><role><RoleCd value="010"/></role></citRespParty><citRespParty><rpOrgName>Department of Commerce (DOC), National Oceanic and Atmospheric Administration (NOAA), National Ocean Service (NOS), National Geodetic Survey (NGS), Remote Sensing Division</rpOrgName><role><RoleCd value="006"/></role></citRespParty><presForm><PresFormCd value="005"/></presForm><presForm><fgdcGeoform>remote-sensing image</fgdcGeoform></presForm></idCitation><idAbs>&lt;DIV STYLE="text-align:Left;"&gt;&lt;DIV&gt;&lt;DIV&gt;&lt;P&gt;&lt;SPAN&gt;This data set contains 36 ortho-rectified mosaic tiles at 0.10m GSD. Tiles falling in this block but not provided with this delivery will be included in adjacent blocks. This data set was created for NOAA Integrated Ocean and Coastal Mapping (IOCM) initiative in the Hurricane Sandy impact area. The source imagery was acquired 20140101. The images were acquired with Intergraph/Leica DMC Sensor Systems. The original images were acquired at a higher resolution than the final ortho-rectified mosaic.&lt;/SPAN&gt;&lt;/P&gt;&lt;/DIV&gt;&lt;/DIV&gt;&lt;/DIV&gt;</idAbs><idPurp>Ortho-rectified mosaic tiles are an ancillary product of NOAA's Coastal Mapping Program (CMP), created through a wider Integrated Ocean and Coastal Mapping...</idPurp><idCredit>This data set was developed for NOAA.</idCredit><idStatus><ProgCd value="001"/></idStatus><idPoC><rpOrgName>National Oceanic and Atmospheric Administration (NOAA), National Ocean Service (NOS), National Geodetic Survey (NGS), Remote Sensing Division</rpOrgName><rpPosName>Chief, Remote Sensing Division</rpPosName><rpCntInfo><cntPhone><voiceNum>301-713-2663</voiceNum></cntPhone><cntAddress addressType="both"><delPoint>SSMC-3 8142</delPoint><delPoint>1315 East West Highway, N/NGS3</delPoint><city>Silver Spring</city><adminArea>MD</adminArea><postCode>20910</postCode><country>US</country></cntAddress></rpCntInfo><role><RoleCd value="007"/></role></idPoC><resMaint><maintFreq><MaintFreqCd value="011"/></maintFreq></resMaint><placeKeys><keyword>Maryland</keyword><keyword>New York</keyword><keyword>Hurricane Sandy</keyword><keyword>New Jersey</keyword><keyword>Delaware</keyword><keyword>Virginia</keyword><keyword>South Carolina</keyword><keyword>North Carolina</keyword></placeKeys><tempKeys><keyword>20140101</keyword></tempKeys><themeKeys><thesaName><resTitle>NOS Data Explorer Topic Category</resTitle></thesaName><keyword>Remotely Sensed Imagery/Photography</keyword></themeKeys><themeKeys><keyword>digital orthophotography</keyword><keyword>mosaic</keyword><keyword>orthophoto</keyword><keyword>aerial</keyword><keyword>shoreline</keyword><keyword>coastal</keyword><keyword>rectified image</keyword><keyword>photograph</keyword></themeKeys><themeKeys><thesaName><resTitle>ISO 19115 Topic Category</resTitle></thesaName><keyword>imageryBaseMapsEarthCover</keyword></themeKeys><searchKeys><keyword>Maryland</keyword><keyword>digital orthophotography</keyword><keyword>New York</keyword><keyword>Hurricane Sandy</keyword><keyword>mosaic</keyword><keyword>orthophoto</keyword><keyword>aerial</keyword><keyword>shoreline</keyword><keyword>coastal</keyword><keyword>New Jersey</keyword><keyword>rectified image</keyword><keyword>Delaware</keyword><keyword>Virginia</keyword><keyword>imageryBaseMapsEarthCover</keyword><keyword>20140101</keyword><keyword>Remotely Sensed Imagery/Photography</keyword><keyword>South Carolina</keyword><keyword>North Carolina</keyword><keyword>photograph</keyword><keyword>FirstMap</keyword></searchKeys><resConst><LegConsts><useLimit>Users must assume responsibility to determine the usability of these data. These photographs were obtained for use by NGS during the course of its development of potential final products to fulfill its statutory mission. Although NGS is making these photographs available to others who may find the photographs of value, NGS does not warrant, endorse, or recommend the use of these photographs for any given purpose. NGS is providing these photographs "as is," and NGS disclaims any and all warranties, whether expressed or implied, including (without limitation) any implied warranties of merchantability or fitness for a particular purpose. In no event will NGS be liable to you or any third party for any direct, indirect, incidental, consequential, special, or exemplary damages or lost profits resulting from any use or misuse of these data.</useLimit></LegConsts></resConst><resConst><Consts><useLimit>&lt;DIV STYLE="text-align:Left;"&gt;&lt;DIV&gt;&lt;DIV&gt;&lt;P&gt;&lt;SPAN&gt;Data set is not for use in litigation. While efforts have been made to ensure that these data are accurate and reliable within the state of the art, NOAA, cannot assume liability for any damages, or misrepresentations, caused by any inaccuracies in the data, or as a result of the data to be used on a particular system. NOAA makes no warranty, expressed or implied, nor does the fact of distribution constitute such a warranty. We do request that you credit the National Oceanic and Atmospheric Administration (NOAA) when you use these photos in a report, publication, or presentation.&lt;/SPAN&gt;&lt;/P&gt;&lt;/DIV&gt;&lt;/DIV&gt;&lt;/DIV&gt;</useLimit></Consts></resConst><dataLang><languageCode value="eng"/><countryCode Sync="TRUE" value="USA"/></dataLang><dataExt><geoEle><GeoBndBox><westBL>-75.0842616</westBL><eastBL>-75.0430778</eastBL><southBL>38.4318087</southBL><northBL>38.5486934</northBL></GeoBndBox></geoEle></dataExt><dataExt><exDesc>ground condition</exDesc><tempEle><TempExtent><exTemp><TM_Instant><tmPosition>2014-01-01</tmPosition></TM_Instant></exTemp></TempExtent></tempEle></dataExt><suppInfo>The ground sample distance (GSD) for each pixel is 0.10 m.</suppInfo><envirDesc Sync="TRUE"> Version 6.2 (Build 9200) ; Esri ArcGIS 10.2.2.3552</envirDesc><spatRpType><SpatRepTypCd Sync="TRUE" value="002"/></spatRpType><dataExt><geoEle xmlns=""><GeoBndBox esriExtentType="search"><exTypeCode Sync="TRUE">1</exTypeCode><westBL Sync="TRUE">-75.522257</westBL><eastBL Sync="TRUE">-75.029414</eastBL><northBL Sync="TRUE">39.359704</northBL><southBL Sync="TRUE">38.439445</southBL></GeoBndBox></geoEle></dataExt><tpCat><TopicCatCd value="010"/></tpCat></dataIdInfo><mdMaint><maintFreq><MaintFreqCd value="012"/></maintFreq><maintNote>Last metadata review date: 20141215</maintNote></mdMaint><dqInfo><dqScope><scpLvl><ScopeCd value="005"/></scpLvl></dqScope><report type="DQConcConsis"><measDesc>All rectified images were loaded in Global Mapper to view the entire project area for tone differences, complete coverage, warping/smearing imagery due to inaccurate DEM, and any other obvious problems.</measDesc></report><report type="DQCompOm"><measDesc>The extent of image coverage is limited to the extent of the acquired flight lines which were planned to map the shoreline and therefore may not include all areas within the bounding coordinates.</measDesc></report><report dimension="horizontal" type="DQAbsExtPosAcc"><measDesc>The horizontal positional accuracy and the assurance of that accuracy are dependent upon the accuracy of the data inputs to the rectification process. These data inputs include the digital elevation model (DEM), accuracy of control, and methodology used to georeference the imagery that meet NOAA's Coastal Mapping Program standards.</measDesc></report><dataLineage><prcStep><stepDesc>Mosaic's were generated from the 4-Band ortho-rectified imagery using OrthoPro. Mosaic data have not been histogram stretched and only minimal color balancing has been performed. The images are in 8 bit RGB-IR. The DEM source is newly acquired LiDAR data which is also being delivered under this task order. Bilinear resampling method was used to create the final ortho-rectified mosaic. Individual image tiles are 1400m by 1400m squares.</stepDesc><stepDateTm>2014-01-01</stepDateTm></prcStep></dataLineage></dqInfo><spatRepInfo><Georect><axisDimension type="002"><dimSize Sync="TRUE">424764</dimSize><dimResol><value Sync="TRUE" uom="Meter">0.100000</value></dimResol></axisDimension><axisDimension type="001"><dimSize Sync="TRUE">1020916</dimSize><dimResol><value Sync="TRUE" uom="Meter">0.100000</value></dimResol></axisDimension><cellGeo><CellGeoCd Sync="TRUE" value="002"/></cellGeo><numDims Sync="TRUE">2</numDims><tranParaAv Sync="TRUE">1</tranParaAv><chkPtAv Sync="TRUE">0</chkPtAv><cornerPts><pos Sync="TRUE">190899.600900 48847.609500</pos></cornerPts><cornerPts><pos Sync="TRUE">190899.600900 150939.209500</pos></cornerPts><cornerPts><pos Sync="TRUE">233376.000900 150939.209500</pos></cornerPts><cornerPts><pos Sync="TRUE">233376.000900 48847.609500</pos></cornerPts><centerPt><pos Sync="TRUE">212137.800900 99893.409500</pos></centerPt><ptInPixel><PixOrientCd Sync="TRUE" value="001"/></ptInPixel></Georect></spatRepInfo><contInfo><ImgDesc><covDim><Band><valUnit><UOM type="length"/></valUnit><dimDescrp Sync="TRUE">Band_1</dimDescrp><maxVal Sync="TRUE">255.000000</maxVal><minVal Sync="TRUE">0.000000</minVal><bitsPerVal Sync="TRUE">8</bitsPerVal></Band><Band><valUnit><UOM type="length"/></valUnit><dimDescrp Sync="TRUE">Band_2</dimDescrp><maxVal Sync="TRUE">255.000000</maxVal><minVal Sync="TRUE">0.000000</minVal><bitsPerVal Sync="TRUE">8</bitsPerVal></Band><Band><valUnit><UOM type="length"/></valUnit><dimDescrp Sync="TRUE">Band_3</dimDescrp><maxVal Sync="TRUE">255.000000</maxVal><minVal Sync="TRUE">0.000000</minVal><bitsPerVal Sync="TRUE">8</bitsPerVal></Band><Band><valUnit><UOM type="length"/></valUnit><dimDescrp Sync="TRUE">Band_4</dimDescrp><maxVal Sync="TRUE">255.000000</maxVal><minVal Sync="TRUE">0.000000</minVal><bitsPerVal Sync="TRUE">8</bitsPerVal></Band></covDim><contentTyp><ContentTypCd Sync="TRUE" value="001"/></contentTyp></ImgDesc></contInfo><refSysInfo><RefSystem><refSysID><identCode Sync="TRUE" code="26957"/><idCodeSpace Sync="TRUE">EPSG</idCodeSpace><idVersion Sync="TRUE">8.2.6</idVersion></refSysID></RefSystem></refSysInfo><mdDateSt Sync="TRUE">20191115</mdDateSt></metadata>
