<?xml version="1.0" encoding="UTF-8" standalone="no"?>
<metadata xml:lang="en">
<Esri>
<CreaDate>20260303</CreaDate>
<CreaTime>11000400</CreaTime>
<ArcGISFormat>1.0</ArcGISFormat>
<SyncOnce>FALSE</SyncOnce>
<DataProperties>
<itemProps>
<imsContentType>002</imsContentType>
<itemName Sync="TRUE">DE_Imagery_2024_SP</itemName>
<itemLocation>
<linkage Sync="TRUE">file://\\DVT2CFIRSTMAP\E$\current\Imagery_Mosaics_New.gdb</linkage>
<protocol Sync="TRUE">Local Area Network</protocol>
</itemLocation>
<nativeExtBox>
<westBL Sync="TRUE">166500.002600</westBL>
<eastBL Sync="TRUE">232800.002600</eastBL>
<southBL Sync="TRUE">49999.954800</southBL>
<northBL Sync="TRUE">204700.054800</northBL>
<exTypeCode Sync="TRUE">1</exTypeCode>
</nativeExtBox>
</itemProps>
<coordRef>
<type Sync="TRUE">Projected</type>
<geogcsn Sync="TRUE">GCS_North_American_1983</geogcsn>
<csUnits Sync="TRUE">Linear Unit: Meter (1.000000)</csUnits>
<projcsn Sync="TRUE">NAD_1983_StatePlane_Delaware_FIPS_0700</projcsn>
<peXml Sync="TRUE">&lt;ProjectedCoordinateSystem xsi:type='typens:ProjectedCoordinateSystem' xmlns:xsi='http://www.w3.org/2001/XMLSchema-instance' xmlns:xs='http://www.w3.org/2001/XMLSchema' xmlns:typens='http://www.esri.com/schemas/ArcGIS/3.3.0'&gt;&lt;WKT&gt;PROJCS[&amp;quot;NAD_1983_StatePlane_Delaware_FIPS_0700&amp;quot;,GEOGCS[&amp;quot;GCS_North_American_1983&amp;quot;,DATUM[&amp;quot;D_North_American_1983&amp;quot;,SPHEROID[&amp;quot;GRS_1980&amp;quot;,6378137.0,298.257222101]],PRIMEM[&amp;quot;Greenwich&amp;quot;,0.0],UNIT[&amp;quot;Degree&amp;quot;,0.0174532925199433]],PROJECTION[&amp;quot;Transverse_Mercator&amp;quot;],PARAMETER[&amp;quot;False_Easting&amp;quot;,200000.0],PARAMETER[&amp;quot;False_Northing&amp;quot;,0.0],PARAMETER[&amp;quot;Central_Meridian&amp;quot;,-75.41666666666667],PARAMETER[&amp;quot;Scale_Factor&amp;quot;,0.999995],PARAMETER[&amp;quot;Latitude_Of_Origin&amp;quot;,38.0],UNIT[&amp;quot;Meter&amp;quot;,1.0],AUTHORITY[&amp;quot;EPSG&amp;quot;,26957]]&lt;/WKT&gt;&lt;XOrigin&gt;-5423100&lt;/XOrigin&gt;&lt;YOrigin&gt;-14209500&lt;/YOrigin&gt;&lt;XYScale&gt;450267657.86718673&lt;/XYScale&gt;&lt;ZOrigin&gt;-100000&lt;/ZOrigin&gt;&lt;ZScale&gt;10000&lt;/ZScale&gt;&lt;MOrigin&gt;-100000&lt;/MOrigin&gt;&lt;MScale&gt;10000&lt;/MScale&gt;&lt;XYTolerance&gt;0.001&lt;/XYTolerance&gt;&lt;ZTolerance&gt;0.001&lt;/ZTolerance&gt;&lt;MTolerance&gt;0.001&lt;/MTolerance&gt;&lt;HighPrecision&gt;true&lt;/HighPrecision&gt;&lt;WKID&gt;26957&lt;/WKID&gt;&lt;LatestWKID&gt;26957&lt;/LatestWKID&gt;&lt;/ProjectedCoordinateSystem&gt;</peXml>
</coordRef>
<RasterProperties>
<General>
<PixelDepth Sync="TRUE">8</PixelDepth>
<HasColormap Sync="TRUE">FALSE</HasColormap>
<CompressionType Sync="TRUE">None</CompressionType>
<NumBands Sync="TRUE">4</NumBands>
<Format Sync="TRUE">AMD</Format>
<HasPyramids Sync="TRUE">TRUE</HasPyramids>
<SourceType Sync="TRUE">continuous</SourceType>
<PixelType Sync="TRUE">unsigned integer</PixelType>
<NoDataValue Sync="TRUE"/>
</General>
<Properties>
<MaxImageHeight Sync="TRUE">4096</MaxImageHeight>
<MaxImageWidth Sync="TRUE">4096</MaxImageWidth>
<MaxRecordCount Sync="TRUE">1000</MaxRecordCount>
<MaxDownloadImageCount Sync="TRUE">20</MaxDownloadImageCount>
<MaxDownloadSizeLimit Sync="TRUE">2048</MaxDownloadSizeLimit>
<MaxMosaicImageCount Sync="TRUE">2000</MaxMosaicImageCount>
<DefaultCompressionQuality Sync="TRUE">75</DefaultCompressionQuality>
<DefaultCompressionTolerance Sync="TRUE">0.01</DefaultCompressionTolerance>
<BlendWidth Sync="TRUE">10</BlendWidth>
<ViewpointSpacingX Sync="TRUE">600</ViewpointSpacingX>
<ViewpointSpacingY Sync="TRUE">300</ViewpointSpacingY>
<AllowedItemMetadata Sync="TRUE">Basic</AllowedItemMetadata>
<DefaultResamplingMethod Sync="TRUE">1</DefaultResamplingMethod>
<AllowedMosaicMethods Sync="TRUE">ByAttribute,NorthWest,Center,LockRaster,Nadir,Viewpoint,Seamline,None</AllowedMosaicMethods>
<AllowedCompressions Sync="TRUE">None,JPEG,LZ77,LERC</AllowedCompressions>
<AllowedMensurationCapabilities Sync="TRUE">NONE</AllowedMensurationCapabilities>
<AvailableMensurationCapabilities Sync="TRUE">None,Basic,Base-Top Height,Top-Top Shadow Height,Base-Top Shadow Height,3D</AvailableMensurationCapabilities>
<ClipToBoundary Sync="TRUE">-1</ClipToBoundary>
<FootprintMayContainNoData Sync="TRUE">-1</FootprintMayContainNoData>
<CellSizeTolerance Sync="TRUE">0.8</CellSizeTolerance>
<MinimumPixelContribution Sync="TRUE">1</MinimumPixelContribution>
<AvailableMosaicMethods Sync="TRUE">NorthWest,Center,LockRaster,ByAttribute,Nadir,Viewpoint,Seamline,None</AvailableMosaicMethods>
<AvailableCompressionMethods Sync="TRUE">None,JPEG,LZ77,LERC</AvailableCompressionMethods>
<AvailableItemMetadataLevels Sync="TRUE">None,Basic,Full</AvailableItemMetadataLevels>
<BandDefinitionKeyword Sync="TRUE">NaturalColorRGBI</BandDefinitionKeyword>
<_docversion_ Sync="TRUE">10</_docversion_>
<AllowedFields Sync="TRUE">Name,MinPS,MaxPS,LowPS,HighPS,Tag,GroupName,ProductName,CenterX,CenterY,ZOrder,Shape_Length,Shape_Area</AllowedFields>
<LowCellSize Sync="TRUE">0.15</LowCellSize>
<HighCellSize Sync="TRUE">0.150000000000001</HighCellSize>
<MaxCellSize Sync="TRUE">19200</MaxCellSize>
<AvailableFields Sync="TRUE">Name,MinPS,MaxPS,LowPS,HighPS,Tag,GroupName,ProductName,CenterX,CenterY,ZOrder,Shape_Length,Shape_Area</AvailableFields>
<SortableFields Sync="TRUE">MinPS,MaxPS,LowPS,HighPS,CenterX,CenterY,ZOrder,Shape_Length,Shape_Area</SortableFields>
<SortAscending Sync="TRUE">-1</SortAscending>
<MosaicOperator Sync="TRUE">1</MosaicOperator>
<BlendWidthUnits Sync="TRUE">1</BlendWidthUnits>
<ClipToFootprint Sync="TRUE">0</ClipToFootprint>
<ClipOverviewsToFootprint Sync="TRUE">0</ClipOverviewsToFootprint>
<HasDodgingTable Sync="TRUE">0</HasDodgingTable>
<ApplyColorCorrection Sync="TRUE">0</ApplyColorCorrection>
<UseTime Sync="TRUE">0</UseTime>
<StartTimeFieldName Sync="TRUE"/>
<EndTimeFieldName Sync="TRUE"/>
<TimeValueFormat Sync="TRUE"/>
<UseRange Sync="TRUE">0</UseRange>
<TimeInterval Sync="TRUE">0</TimeInterval>
<TimeIntervalUnits Sync="TRUE"/>
<SortField Sync="TRUE">LowPS</SortField>
<SortValue Sync="TRUE"/>
<DataType Sync="TRUE">Generic</DataType>
<ConfigKeyword Sync="TRUE"/>
</Properties>
<Functions Sync="TRUE">
<Function Description="Performs on-the-fly mosaic on a raster catalog." Name="Mosaic Function"/>
</Functions>
</RasterProperties>
</DataProperties>
<scaleRange>
<minScale>150000000</minScale>
<maxScale>5000</maxScale>
</scaleRange>
<SyncDate>20260303</SyncDate>
<SyncTime>11381600</SyncTime>
<ModDate>20260303</ModDate>
<ModTime>11382900</ModTime>
<ArcGISProfile>FGDC</ArcGISProfile>
</Esri>
<mdLang>
<languageCode Sync="TRUE" value="eng"/>
<countryCode Sync="TRUE" value="USA"/>
</mdLang>
<mdChar>
<CharSetCd value="004"/>
</mdChar>
<mdHrLv>
<ScopeCd value="005"/>
</mdHrLv>
<mdContact>
<rpIndName>Shawn Benham</rpIndName>
<rpOrgName>Sanborn Map Company, Inc.</rpOrgName>
<rpPosName>Vice President of Programs</rpPosName>
<rpCntInfo>
<cntPhone>
<voiceNum>719-502-1296</voiceNum>
</cntPhone>
<cntAddress addressType="postal">
<delPoint>305 S. Rockrimmon Blvd., Suite 200</delPoint>
<city>Colorado Springs</city>
<adminArea>Colorado</adminArea>
<postCode>80919</postCode>
<country>US</country>
<eMailAdd>sbenham@sanborn.com</eMailAdd>
</cntAddress>
</rpCntInfo>
<role>
<RoleCd value="007"/>
</role>
</mdContact>
<mdDateSt Sync="TRUE">20260303</mdDateSt>
<mdStanName>ArcGIS Metadata</mdStanName>
<mdStanVer>1.0</mdStanVer>
<dataIdInfo>
<idCitation>
<resTitle>DE_Imagery_2024</resTitle>
<date>
<pubDate>2025-04-10</pubDate>
</date>
<citRespParty>
<rpOrgName>State of Delaware</rpOrgName>
<role>
<RoleCd value="006"/>
</role>
</citRespParty>
<presForm>
<PresFormCd value="005"/>
</presForm>
<presForm>
<fgdcGeoform>remote-sensing image</fgdcGeoform>
</presForm>
</idCitation>
<idAbs>&lt;div style='text-align:Left;'&gt;&lt;div&gt;&lt;div&gt;&lt;p&gt;&lt;span&gt;This data set consists of 0.152-meter pixel resolution (approximately 0.5-foot), 4-band orthoimages covering the entire State of Delaware. With a total of 2,010 X 1700-meters by 1700-meters (2.89 square kilometers) full orthoimage tiles providing imagery in blocks on the ground with no "no data" space, the total area of the project is 5,808.9 square kilometers (3609.48 square miles). There is no image overlap between adjacent tiles. An orthoimage is remotely sensed image data in which displacement of features in the image caused by terrain relief and sensor orientation have been mathematically removed. Orthoimagery combines the image characteristics of a photograph with the geometric qualities of a map. The design accuracy is estimated not to exceed 1.52-meters NSSDA 95% confidence (0.88-meters Root Mean Squared (RMSE) Error XY (0.62 meter RMSE X or Y). The projected coordinate system is Delaware State Plane. The horizontal datum is NAD83 2011. The vertical datum is NAVD88. The units are in meters.&lt;/span&gt;&lt;/p&gt;&lt;/div&gt;&lt;/div&gt;&lt;/div&gt;</idAbs>
<idPurp>This orthoimagery depicts geographic features on the surface of the earth in the project area of interest under leaf-off conditions. It was created to provide easily accessible geospatial data which is readily available to enhance the capability of The State of Delaware.</idPurp>
<idCredit>This data is meant for use by requested parties. This data cannot be used without express consent.This data is meant for use by requested parties. This data cannot be used without express consent.</idCredit>
<idStatus>
<ProgCd value="001"/>
</idStatus>
<idPoC>
<rpIndName>Kim Cloud, GISP</rpIndName>
<rpOrgName>State of Delaware, Department of Technology and Information</rpOrgName>
<rpPosName>Location Intelligence Team</rpPosName>
<rpCntInfo>
<cntPhone>
<voiceNum>302-739-9611</voiceNum>
</cntPhone>
<cntAddress addressType="both">
<delPoint>801 Silve Lake Blvd.</delPoint>
<city>Dover</city>
<adminArea>Delaware</adminArea>
<postCode>19904</postCode>
<country>US</country>
<eMailAdd>kim.cloud@delaware.gov</eMailAdd>
</cntAddress>
</rpCntInfo>
<role>
<RoleCd value="007"/>
</role>
</idPoC>
<resMaint>
<maintFreq>
<MaintFreqCd value="010"/>
</maintFreq>
</resMaint>
<placeKeys>
<thesaName>
<resTitle>The State of Delaware, USA.</resTitle>
</thesaName>
<keyword>Delaware</keyword>
<keyword>Northeast USA</keyword>
<keyword>USA</keyword>
</placeKeys>
<themeKeys>
<thesaName>
<resTitle>Keywords</resTitle>
</thesaName>
<keyword>0.152 meter orthoimage</keyword>
<keyword>orthophoto</keyword>
<keyword>rectified image</keyword>
<keyword>orthoimagery</keyword>
<keyword>4-band orthophoto</keyword>
</themeKeys>
<searchKeys>
<keyword>0.152 meter orthoimage</keyword>
<keyword>orthophoto</keyword>
<keyword>rectified image</keyword>
<keyword>orthoimagery</keyword>
<keyword>4-band orthophoto</keyword>
<keyword>Delaware</keyword>
<keyword>Northeast USA</keyword>
<keyword>USA</keyword>
</searchKeys>
<resConst>
<Consts>
<useLimit>&lt;div style='text-align:Left;'&gt;&lt;div&gt;&lt;div&gt;&lt;p&gt;&lt;span&gt;None. However, users should be aware that temporal changes may have occurred since this data set was collected and some parts of this data may no longer represent actual surface conditions. Users should not use this data for critical applications without a full awareness of its limitations.&lt;/span&gt;&lt;/p&gt;&lt;/div&gt;&lt;/div&gt;&lt;/div&gt;</useLimit>
</Consts>
</resConst>
<resConst>
<LegConsts>
<useLimit>None</useLimit>
</LegConsts>
</resConst>
<resConst>
<SecConsts>
<class>
<ClasscationCd value="001"/>
</class>
<classSys>None</classSys>
<handDesc>N/A</handDesc>
</SecConsts>
</resConst>
<spatRpType>
<SpatRepTypCd value="001"/>
</spatRpType>
<envirDesc>Microsoft Windows 10; ArcMap 10.8.1; ArcGIS Pro 3.4; Global Mapper v25; UltraMap v6.3.1; OrthoVista v14.1</envirDesc>
<dataExt>
<geoEle>
<GeoBndBox>
<exTypeCode>true</exTypeCode>
<westBL>-75.8081</westBL>
<eastBL>-75.0334</eastBL>
<northBL>39.8439</northBL>
<southBL>38.4498</southBL>
</GeoBndBox>
</geoEle>
</dataExt>
<dataExt>
<exDesc>ground condition</exDesc>
<tempEle>
<TempExtent>
<exTemp>
<TM_Period>
<tmBegin>2024-02-19</tmBegin>
<tmEnd>2024-03-12</tmEnd>
</TM_Period>
</exTemp>
</TempExtent>
</tempEle>
</dataExt>
<suppInfo>The information in the report is the result of ground control surveys performed between the dates indicated and the general conditions at the time of flight. The bounding coordinates provided within the Spatial Domain Section represents a rectangle covering the total area in which the project is located.</suppInfo>
<dataLang>
<languageCode Sync="TRUE" value="eng"/>
<countryCode Sync="TRUE" value="USA"/>
</dataLang>
<dataExt>
<geoEle>
<GeoBndBox esriExtentType="search">
<exTypeCode Sync="TRUE">1</exTypeCode>
<westBL Sync="TRUE">-75.808074</westBL>
<eastBL Sync="TRUE">-75.033437</eastBL>
<northBL Sync="TRUE">39.843921</northBL>
<southBL Sync="TRUE">38.449821</southBL>
</GeoBndBox>
</geoEle>
</dataExt>
</dataIdInfo>
<mdMaint>
<maintFreq>
<MaintFreqCd value="012"/>
</maintFreq>
<maintNote>Last metadata review date: 2017-10-31</maintNote>
</mdMaint>
<dqInfo>
<dqScope>
<scpLvl>
<ScopeCd value="005"/>
</scpLvl>
</dqScope>
<report type="DQQuanAttAcc">
<measDesc>N/A</measDesc>
</report>
<report type="DQConcConsis">
<measDesc>Since the ortho images are raster products, the logical consistency is based on how well the images fit between image tiles and between individual photo frames use to produce the ortho mosaics. </measDesc>
</report>
<report type="DQCompOm">
<measDesc>The 2010 ortho image tiles are checked for missing pixels, gaps, overlaps and other anomalies generally associated with digital orthophoto products. Any discrepancies in the ortho tiles are resolved through the use of proprietary and industry editing tools. Once the images are copied to the deliverable media they are further checked for naming, image completeness, and ability to be loaded in ArcMap.</measDesc>
</report>
<report dimension="horizontal" type="DQAbsExtPosAcc">
<measDesc>This orthoimagery meets ASPRS Class 1 Accuracy Standards for 1"=100' scale mapping</measDesc>
</report>
<report dimension="vertical" type="DQAbsExtPosAcc">
<measDesc>None</measDesc>
</report>
<dataLineage>
<prcStep>
<stepDesc>The digital orthoimagery is comprised of a 4-band true color and near infrared image that is organized in four bands or channels which represents the red, green, blue and near infrared (R,G,B,IR) portions of the spectrum. The 0.152 meter pixel resolution ground sample distance (GSD) orthoimagery covers the entire State of Delaware. The imagery was acquired between February 19 and March 12, 2024, and flown at an altitude of 2740 meters (AGL) using an UltraCam Eagle M3 camera. Imagery and GPS/IMU data is downloaded from disc on the plane to disc on the ground. GPS/IMU mission data is processed together with simultaneously collected ground-based GPS base station data in forward and reverse directions. This precisely determines the aerial camera's position and orientation in the terrain (project) coordinate system and allows for correct orientation of the imagery. The LiDAR DTM is then reviewed and updated as needed to meet the final orthorectification standards set in this project. Using the processed GPS/IMU data and correctly oriented imagery, a bundle adjustment is computed (AT). The imagery is orthorectified using the AT solution and LiDAR. The orthoimagery is then color balanced to the acceptable parameters established by the customer. Orthoimagery then undergoes manual quality control to check for issues as outlined in the Digital Orthoimagery Acceptance Criteria document. Issues such as warps, smears, misalignments, etc. are corrected using proprietary tools and Adobe PhotoShop. Upon completion of the QC process, the orthoimagery is provided to the client for review in uncompressed TIFF/TFW format. All imagery was processed in required projection: Delaware State Plane, horizontal datum is NAD83 2011, units are in meters.</stepDesc>
<stepDateTm>2025-04-10</stepDateTm>
<stepProc>
<rpIndName>Shawn Benham</rpIndName>
<rpOrgName>Sanborn Map Company, Inc.</rpOrgName>
<rpPosName>Vice President of Programs</rpPosName>
<rpCntInfo>
<cntPhone>
<voiceNum>7195021296</voiceNum>
</cntPhone>
<cntAddress addressType="postal">
<delPoint>305 S. Rockrimmon Blvd., Suite 200</delPoint>
<city>Colorado Springs</city>
<adminArea>Colorado</adminArea>
<postCode>80919</postCode>
<country>US</country>
<eMailAdd>sbenham@sanborn.com</eMailAdd>
</cntAddress>
</rpCntInfo>
<role>
<RoleCd value="009"/>
</role>
</stepProc>
</prcStep>
</dataLineage>
</dqInfo>
<spatRepInfo>
<VectSpatRep>
<geometObjs>
<geoObjTyp>
<GeoObjTypCd value="001"/>
</geoObjTyp>
<geoObjCnt>2010</geoObjCnt>
</geometObjs>
</VectSpatRep>
<Georect>
<cellGeo>
<CellGeoCd Sync="TRUE" value="002"/>
</cellGeo>
<numDims Sync="TRUE">2</numDims>
<tranParaAv Sync="TRUE">1</tranParaAv>
<chkPtAv Sync="TRUE">0</chkPtAv>
<cornerPts>
<pos Sync="TRUE">166500.002600 49999.954800</pos>
</cornerPts>
<cornerPts>
<pos Sync="TRUE">166500.002600 204700.054800</pos>
</cornerPts>
<cornerPts>
<pos Sync="TRUE">232800.002600 204700.054800</pos>
</cornerPts>
<cornerPts>
<pos Sync="TRUE">232800.002600 49999.954800</pos>
</cornerPts>
<centerPt>
<pos Sync="TRUE">199650.002600 127350.004800</pos>
</centerPt>
<axisDimension type="002">
<dimSize Sync="TRUE">442000</dimSize>
<dimResol>
<value Sync="TRUE" uom="m">0.150000</value>
</dimResol>
</axisDimension>
<axisDimension type="001">
<dimSize Sync="TRUE">1031334</dimSize>
<dimResol>
<value Sync="TRUE" uom="m">0.150000</value>
</dimResol>
</axisDimension>
<ptInPixel>
<PixOrientCd Sync="TRUE" value="001"/>
</ptInPixel>
</Georect>
</spatRepInfo>
<refSysInfo>
<RefSystem>
<refSysID>
<identCode Sync="TRUE" code="26957"/>
<idCodeSpace Sync="TRUE">EPSG</idCodeSpace>
<idVersion Sync="TRUE">4.5(3.0.1)</idVersion>
</refSysID>
</RefSystem>
</refSysInfo>
<contInfo>
<ImgDesc>
<contentTyp>
<ContentTypCd Sync="TRUE" value="001"/>
</contentTyp>
<covDim>
<Band>
<dimDescrp Sync="TRUE">Red</dimDescrp>
<maxVal Sync="TRUE">255.000000</maxVal>
<minVal Sync="TRUE">4.000000</minVal>
<bitsPerVal Sync="TRUE">8</bitsPerVal>
<valUnit>
<UOM type="length"/>
</valUnit>
</Band>
<Band>
<dimDescrp Sync="TRUE">Green</dimDescrp>
<maxVal Sync="TRUE">255.000000</maxVal>
<minVal Sync="TRUE">2.000000</minVal>
<bitsPerVal Sync="TRUE">8</bitsPerVal>
<valUnit>
<UOM type="length"/>
</valUnit>
</Band>
<Band>
<dimDescrp Sync="TRUE">Blue</dimDescrp>
<maxVal Sync="TRUE">255.000000</maxVal>
<minVal Sync="TRUE">0.000000</minVal>
<bitsPerVal Sync="TRUE">8</bitsPerVal>
<valUnit>
<UOM type="length"/>
</valUnit>
</Band>
<Band>
<dimDescrp Sync="TRUE">Infrared</dimDescrp>
<maxVal Sync="TRUE">255.000000</maxVal>
<minVal Sync="TRUE">0.000000</minVal>
<bitsPerVal Sync="TRUE">8</bitsPerVal>
<valUnit>
<UOM type="length"/>
</valUnit>
</Band>
</covDim>
</ImgDesc>
</contInfo>
</metadata>
