<metadata xml:lang="en"><Esri><CreaDate>20190514</CreaDate><CreaTime>15331300</CreaTime><ArcGISFormat>1.0</ArcGISFormat><SyncOnce>FALSE</SyncOnce><DataProperties><itemProps><itemName Sync="TRUE">DE_Imagery_2017_SP</itemName><nativeExtBox><westBL Sync="TRUE">166499.750000</westBL><eastBL Sync="TRUE">232799.750000</eastBL><southBL Sync="TRUE">49999.500000</southBL><northBL Sync="TRUE">204700.000000</northBL><exTypeCode Sync="TRUE">1</exTypeCode></nativeExtBox></itemProps><coordRef><type Sync="TRUE">Projected</type><geogcsn Sync="TRUE">GCS_North_American_1983</geogcsn><csUnits Sync="TRUE">Linear Unit: Meter (1.000000)</csUnits><projcsn Sync="TRUE">NAD_1983_StatePlane_Delaware_FIPS_0700</projcsn><peXml Sync="TRUE">&lt;ProjectedCoordinateSystem xsi:type='typens:ProjectedCoordinateSystem' xmlns:xsi='http://www.w3.org/2001/XMLSchema-instance' xmlns:xs='http://www.w3.org/2001/XMLSchema' xmlns:typens='http://www.esri.com/schemas/ArcGIS/10.6'&gt;&lt;WKT&gt;PROJCS[&amp;quot;NAD_1983_StatePlane_Delaware_FIPS_0700&amp;quot;,GEOGCS[&amp;quot;GCS_North_American_1983&amp;quot;,DATUM[&amp;quot;D_North_American_1983&amp;quot;,SPHEROID[&amp;quot;GRS_1980&amp;quot;,6378137.0,298.257222101]],PRIMEM[&amp;quot;Greenwich&amp;quot;,0.0],UNIT[&amp;quot;Degree&amp;quot;,0.0174532925199433]],PROJECTION[&amp;quot;Transverse_Mercator&amp;quot;],PARAMETER[&amp;quot;False_Easting&amp;quot;,200000.0],PARAMETER[&amp;quot;False_Northing&amp;quot;,0.0],PARAMETER[&amp;quot;Central_Meridian&amp;quot;,-75.41666666666667],PARAMETER[&amp;quot;Scale_Factor&amp;quot;,0.999995],PARAMETER[&amp;quot;Latitude_Of_Origin&amp;quot;,38.0],UNIT[&amp;quot;Meter&amp;quot;,1.0],AUTHORITY[&amp;quot;EPSG&amp;quot;,26957]]&lt;/WKT&gt;&lt;XOrigin&gt;-5423100&lt;/XOrigin&gt;&lt;YOrigin&gt;-14209500&lt;/YOrigin&gt;&lt;XYScale&gt;450267657.86718673&lt;/XYScale&gt;&lt;ZOrigin&gt;-100000&lt;/ZOrigin&gt;&lt;ZScale&gt;10000&lt;/ZScale&gt;&lt;MOrigin&gt;-100000&lt;/MOrigin&gt;&lt;MScale&gt;10000&lt;/MScale&gt;&lt;XYTolerance&gt;0.001&lt;/XYTolerance&gt;&lt;ZTolerance&gt;0.001&lt;/ZTolerance&gt;&lt;MTolerance&gt;0.001&lt;/MTolerance&gt;&lt;HighPrecision&gt;true&lt;/HighPrecision&gt;&lt;WKID&gt;26957&lt;/WKID&gt;&lt;LatestWKID&gt;26957&lt;/LatestWKID&gt;&lt;/ProjectedCoordinateSystem&gt;</peXml></coordRef><RasterProperties><General><PixelDepth Sync="TRUE">8</PixelDepth><HasColormap Sync="TRUE">FALSE</HasColormap><CompressionType Sync="TRUE">None</CompressionType><NumBands Sync="TRUE">4</NumBands><Format Sync="TRUE">AMD</Format><HasPyramids Sync="TRUE">TRUE</HasPyramids><SourceType Sync="TRUE">continuous</SourceType><PixelType Sync="TRUE">unsigned integer</PixelType><NoDataValue Sync="TRUE"/></General><Properties><MaxImageHeight Sync="TRUE">500000</MaxImageHeight><MaxImageWidth Sync="TRUE">500000</MaxImageWidth><MaxRecordCount Sync="TRUE">1000</MaxRecordCount><MaxDownloadImageCount Sync="TRUE">20</MaxDownloadImageCount><MaxDownloadSizeLimit Sync="TRUE">2048</MaxDownloadSizeLimit><MaxMosaicImageCount Sync="TRUE">2000</MaxMosaicImageCount><DefaultCompressionQuality Sync="TRUE">75</DefaultCompressionQuality><DefaultCompressionTolerance Sync="TRUE">0.01</DefaultCompressionTolerance><BlendWidth Sync="TRUE">10</BlendWidth><ViewpointSpacingX Sync="TRUE">600</ViewpointSpacingX><ViewpointSpacingY Sync="TRUE">300</ViewpointSpacingY><AllowedItemMetadata Sync="TRUE">Basic</AllowedItemMetadata><DefaultResamplingMethod Sync="TRUE">1</DefaultResamplingMethod><AllowedMosaicMethods Sync="TRUE">ByAttribute,NorthWest,Center,LockRaster,Nadir,Viewpoint,Seamline,None</AllowedMosaicMethods><AllowedCompressions Sync="TRUE">None,JPEG,LZ77,LERC</AllowedCompressions><AllowedMensurationCapabilities Sync="TRUE">Basic</AllowedMensurationCapabilities><AvailableMensurationCapabilities Sync="TRUE">None,Basic,Base-Top Height,Top-Top Shadow Height,Base-Top Shadow Height,3D</AvailableMensurationCapabilities><ClipToBoundary Sync="TRUE">-1</ClipToBoundary><FootprintMayContainNoData Sync="TRUE">-1</FootprintMayContainNoData><CellSizeTolerance Sync="TRUE">0.8</CellSizeTolerance><MinimumPixelContribution Sync="TRUE">1</MinimumPixelContribution><AvailableMosaicMethods Sync="TRUE">NorthWest,Center,LockRaster,ByAttribute,Nadir,Viewpoint,Seamline,None</AvailableMosaicMethods><AvailableCompressionMethods Sync="TRUE">None,JPEG,LZ77,LERC</AvailableCompressionMethods><AvailableItemMetadataLevels Sync="TRUE">None,Basic,Full</AvailableItemMetadataLevels><BandDefinitionKeyword Sync="TRUE">NONE</BandDefinitionKeyword><AllowedFields Sync="TRUE">Name,MinPS,MaxPS,LowPS,HighPS,Tag,GroupName,ProductName,CenterX,CenterY,ZOrder,Shape_Length,Shape_Area</AllowedFields><TimeStamp.RemoveItems Sync="TRUE">43594.8219629167</TimeStamp.RemoveItems><MaxCellSize Sync="TRUE">80</MaxCellSize><LowCellSize Sync="TRUE">0.25</LowCellSize><HighCellSize Sync="TRUE">8</HighCellSize><TimeStamp.UpdateExtent Sync="TRUE">43594.8219768634</TimeStamp.UpdateExtent><ApplyColorCorrection Sync="TRUE">0</ApplyColorCorrection><DataType Sync="TRUE">Processed</DataType><TimeValueFormat Sync="TRUE"/><EndTimeFieldName Sync="TRUE"/><StartTimeFieldName Sync="TRUE"/><TimeIntervalUnits Sync="TRUE"/><TimeInterval Sync="TRUE"/><VerticalDimension Sync="TRUE"/><FlowDirection Sync="TRUE"/><MosaicOperator Sync="TRUE">1</MosaicOperator><BlendWidthUnits Sync="TRUE">1</BlendWidthUnits><UseTime Sync="TRUE">0</UseTime><SortAscending Sync="TRUE">-1</SortAscending><ClipToFootprint Sync="TRUE">0</ClipToFootprint><ClipOverviewsToFootprint Sync="TRUE">0</ClipOverviewsToFootprint><SortField Sync="TRUE">LowPS</SortField><SortValue Sync="TRUE">0</SortValue></Properties><Functions Sync="TRUE"><Function Description="Performs on-the-fly mosaic on a raster catalog." Name="Mosaic Function"/></Functions></RasterProperties></DataProperties><SyncDate>20190516</SyncDate><SyncTime>16155900</SyncTime><ModDate>20191115</ModDate><ModTime>17154700</ModTime><scaleRange><minScale>150000000</minScale><maxScale>5000</maxScale></scaleRange><ArcGISProfile>FGDC</ArcGISProfile></Esri><mdLang><languageCode value="eng"/><countryCode Sync="TRUE" value="USA"/></mdLang><mdChar><CharSetCd value="004"/></mdChar><mdHrLv><ScopeCd value="005"/></mdHrLv><mdContact><rpOrgName>Surdex Corp</rpOrgName><rpCntInfo><cntPhone><voiceNum>636-368-4400</voiceNum><voiceNum tddtty="True">636-368-4400</voiceNum><faxNum>636-368-4401</faxNum></cntPhone><cntAddress addressType="both"><delPoint>520 Spirit of St Louis Blvd</delPoint><delPoint>Ortho Processing</delPoint><delPoint>Customer Service</delPoint><delPoint>Surdex Corp</delPoint><city>Chesterfield</city><adminArea>Missouri</adminArea><postCode>63005</postCode><country>US</country><eMailAdd>cornellr@surdex.com</eMailAdd></cntAddress><cntHours>Monday through Friday 8:00 AM to 4:00 PM (Central Time)</cntHours><cntInstr>The above is the contact information for National Geospatial Technical Operations Center in Sioux Falls, SD.</cntInstr></rpCntInfo><role><RoleCd value="007"/></role></mdContact><mdDateSt Sync="TRUE">20191115</mdDateSt><mdStanName>ArcGIS Metadata</mdStanName><mdStanVer>1.0</mdStanVer><distInfo><distributor><distorCont><rpOrgName>Surdex Corp</rpOrgName><rpCntInfo><cntPhone><voiceNum>636-368-4400</voiceNum><voiceNum tddtty="True">636-368-4400</voiceNum><faxNum>636-638-4401</faxNum></cntPhone><cntAddress addressType="both"><delPoint>Surdex Corp</delPoint><delPoint>Ortho Processing</delPoint><delPoint>520 Spirit of St Louis Blvd</delPoint><delPoint>Customer Service</delPoint><city>Chesterfield</city><adminArea>Missouri</adminArea><postCode>63005</postCode><country>US</country><eMailAdd>cornellr@surdex.com</eMailAdd></cntAddress><cntHours>Monday through Friday 8:00 AM to 4:00 PM (Central Time)</cntHours><cntInstr>The above is the contact information for Surdex Corp in Chesterfield, MO.</cntInstr></rpCntInfo><role><RoleCd value="005"/></role></distorCont></distributor></distInfo><dataIdInfo><idCitation><resTitle Sync="FALSE">Delaware 2017 Orthoimagery</resTitle><date><pubDate>2017-10-31</pubDate></date><resEd>v.01</resEd><citRespParty><rpOrgName>Surdex Corp</rpOrgName><rpCntInfo><cntAddress><delPoint>Chesterfield, MO</delPoint></cntAddress></rpCntInfo><role><RoleCd value="010"/></role></citRespParty><citRespParty><rpOrgName>Surdex Corp</rpOrgName><role><RoleCd value="006"/></role></citRespParty><presForm><fgdcGeoform>vector project tile layout</fgdcGeoform><PresFormCd Sync="TRUE" value="005"/></presForm></idCitation><idAbs>&lt;DIV STYLE="text-align:Left;"&gt;&lt;DIV&gt;&lt;DIV&gt;&lt;P&gt;&lt;SPAN&gt;This data set consists of 0.25-meter pixel resolution (approximately 0.82-foot), 4-band orthoimages covering the entire State of Delaware. With a total of 2,010 X 1700-meters by 1700-meters (2.89 square kilometers) full orthoimage tiles providing imagery in blocks on the ground with no "no data" space, the total area of the project is 5,808.9 square kilometers (2,242.83 square miles). This project also includes 0.076-meter pixel resolution (approximately 0.25-foot), 4-band orthoimages that covers select areas within the State of Delaware park system for the Department of Natural Resources and Environmental Control (DNREC), Division of Parks and Recreation. With each of the 1,268 X 622.6-meters by 622.6-meters (0.388 square kilometers) orthoimage tiles providing imagery in blocks on the ground, the total of the collective area is approximately 492.0 square kilometers (189.96 square miles). The 0.076 meter product is approximate in area because "black data" space is present in areas outside the official boundaries of the delivery tiles. There is no image overlap between adjacent tiles. An orthoimage is remotely sensed image data in which displacement of features in the image caused by terrain relief and sensor orientation have been mathematically removed. Orthoimagery combines the image characteristics of a photograph with the geometric qualities of a map. The design accuracy is estimated not to exceed 1.52-meters NSSDA 95% confidence (0.88-meters Root Mean Squared (RMSE) Error XY (0.62 meter RMSE X or Y). The projected coordinate system is Delaware State Plane. The horizontal datum is NAD83. The vertical datum is NAVD88. The units are in meters.&lt;/SPAN&gt;&lt;/P&gt;&lt;/DIV&gt;&lt;/DIV&gt;&lt;/DIV&gt;</idAbs><idPurp>This orthoimagery depicts geographic features on the surface of the earth in the project area of interest under leaf-off conditions. It was created to provide...</idPurp><idCredit>Surdex Corp</idCredit><idStatus><ProgCd value="001"/></idStatus><idPoC><rpOrgName>Surdex Corp</rpOrgName><rpCntInfo><cntPhone><voiceNum>636-368-4400</voiceNum></cntPhone><cntAddress addressType="both"><delPoint>520 Spirit of St Louis Blvd</delPoint><city>Chesterfield</city><adminArea>Missouri</adminArea><postCode>63005</postCode><country>US</country></cntAddress></rpCntInfo><role><RoleCd value="007"/></role></idPoC><resMaint><maintFreq><MaintFreqCd value="010"/></maintFreq></resMaint><placeKeys><thesaName><resTitle>The State of Delaware, USA.</resTitle></thesaName><keyword>USA</keyword><keyword>Delaware</keyword><keyword>Northeast USA</keyword></placeKeys><themeKeys><thesaName><resTitle>ISO 19115 Topic Categories</resTitle></thesaName><keyword>imageryBaseMapsEarthCover</keyword></themeKeys><themeKeys><thesaName><resTitle>Keywords</resTitle></thesaName><keyword>0.25 meter orthoimage</keyword><keyword>orthophoto</keyword><keyword>4-band orthophoto</keyword><keyword>orthoimagery</keyword><keyword>0.076 meter orthoimage</keyword><keyword>rectified image</keyword></themeKeys><searchKeys><keyword>USA</keyword><keyword>Delaware</keyword><keyword>0.25 meter orthoimage</keyword><keyword>orthophoto</keyword><keyword>4-band orthophoto</keyword><keyword>orthoimagery</keyword><keyword>0.076 meter orthoimage</keyword><keyword>imagery</keyword><keyword>Basemaps</keyword><keyword>EarthCover</keyword><keyword>Northeast USA</keyword><keyword>rectified image</keyword></searchKeys><resConst><LegConsts><useLimit>Any conclusions drawn from the analysis of Surdex Corp or its partners.</useLimit></LegConsts></resConst><resConst><SecConsts><class><ClasscationCd value="001"/></class><classSys>None</classSys><handDesc>N/A</handDesc></SecConsts></resConst><resConst><Consts><useLimit>&lt;DIV STYLE="text-align:Left;"&gt;&lt;DIV&gt;&lt;DIV&gt;&lt;P&gt;&lt;SPAN&gt;None. However, users should be aware that temporal changes may have occurred since this data set was collected and some parts of this data may no longer represent actual surface conditions. Users should not use this data for critical applications without a full awareness of its limitations. The State of Delaware makes no warranty or representation, expressed or implied, with respect to the quality, content, accuracy, completeness, currency, or non-infringement of proprietary rights, of any of the GIS or other data or information, or any other materials and items, that are displayed or made available for download from this site. All such data, information, items and materials (collectively, the “FirstMap Data”) are provided "as is" and users are fully and solely responsible for any consequences of use. FirstMap Data may have been created from a variety of sources, including sources beyond the control of the State of Delaware, and are subject to change without notice. To the extent you use, apply, add to, modify or implement this information in your own information system or other setting, or otherwise for your own purposes, you do so at your own risk. In no event shall the State of Delaware or its agencies, officers, employees, agents, or representatives be liable for any damages of any kind or nature whatsoever including, but not limited to, direct, indirect, special, punitive, incidental, exemplary or consequential damages arising from your downloading, modifying, sharing, distributing, or using of FirstMap Data even if notified of the possibility of such damages. Further, the State of Delaware does not accept liability for any damages or misrepresentation caused by inaccuracies in the FirstMap Data or as a result of changes to the FirstMap Data, nor is there responsibility assumed to maintain the FirstMap Data in any manner or form.&lt;/SPAN&gt;&lt;/P&gt;&lt;/DIV&gt;&lt;/DIV&gt;&lt;/DIV&gt;</useLimit></Consts></resConst><spatRpType><SpatRepTypCd value="001"/></spatRpType><dataLang><languageCode value="eng"/><countryCode Sync="TRUE" value="USA"/></dataLang><envirDesc Sync="TRUE"> Version 6.2 (Build 9200) ; Esri ArcGIS 10.6.1.9270</envirDesc><dataExt><geoEle><GeoBndBox><westBL>-75.81107</westBL><eastBL>-75.030442</eastBL><southBL>38.447505</southBL><northBL>39.844449</northBL></GeoBndBox></geoEle></dataExt><dataExt><exDesc>ground condition</exDesc><tempEle><TempExtent><exTemp><TM_Instant><tmPosition>2017-03-29</tmPosition></TM_Instant></exTemp></TempExtent></tempEle></dataExt><suppInfo>The information in the report is the result of ground control surveys performed between the dates indicated and the general conditions at the time of flight. The bounding coordinates provided within the Spatial Domain Section represents a rectangle covering the total area in which the prroject is located.</suppInfo><dataExt><geoEle xmlns=""><GeoBndBox esriExtentType="search"><exTypeCode Sync="TRUE">1</exTypeCode><westBL Sync="TRUE">-75.808077</westBL><eastBL Sync="TRUE">-75.033440</eastBL><northBL Sync="TRUE">39.843921</northBL><southBL Sync="TRUE">38.449817</southBL></GeoBndBox></geoEle></dataExt><tpCat><TopicCatCd value="010"/></tpCat></dataIdInfo><mdMaint><maintFreq><MaintFreqCd value="012"/></maintFreq><maintNote>Last metadata review date: 20171031</maintNote></mdMaint><dqInfo><dqScope><scpLvl><ScopeCd value="005"/></scpLvl></dqScope><report type="DQConcConsis"><measDesc>All GeoTIFF tagged data and image file sizes are validated using Surdex Proprietary software to ensure proper loading before being finalized. This validation procedure ensures correct physical format and field values for tagged elements. Seamlines and tile edges are visually inspected. Seamline mismatches are not corrected unless the overall displacement exceeds 0.75 meters.</measDesc></report><report type="DQCompOm"><measDesc>Orthoimages are visually inspected for completeness to ensure that no gaps or image misplacements exist within and between adjacent images. These images are derived by mosaicking multiple images to ensure complete coverage. Source imagery is cloud free. Photography was flown during leaf-off in deciduous vegetation regions.</measDesc></report><report type="DQQuanAttAcc"><measDesc>Radiometry is verified by visual inspection of the digital orthophoto. Slight systematic radiometric differences may exist between adjacent orthoimage files; these are due primarily to differences in source image capture dates and sun angles along flight lines. These differences can be observed in an image's general lightness or darkness when it is compared to adjacent orthoimage file coverages. Tonal balancing may be performed over a group of images during the mosaicking process which may serve to lighten or darken adjacent images for better color tone matching.</measDesc></report><report dimension="vertical" type="DQAbsExtPosAcc"><measDesc>None</measDesc></report><dataLineage><dataSource><srcDesc>Project area was fully covered with processed LIDAR data for orthorectification.</srcDesc><srcCitatn><resTitle>NED</resTitle><resAltTitle>ground control</resAltTitle><date><pubDate>2017-10-31</pubDate></date><citRespParty><rpOrgName>Surdex Corp</rpOrgName><role><RoleCd value="006"/></role></citRespParty></srcCitatn><srcExt><exDesc>ground condition</exDesc><tempEle><TempExtent><exTemp><TM_Instant><tmPosition>2017-04-21</tmPosition></TM_Instant></exTemp></TempExtent></tempEle></srcExt></dataSource><dataSource><srcDesc>The ADS100 has nadir, forward-looking, and aft-looking sets of arrays – each containing red, green, blue, and near-infrared (R,G,B,N) bands, with the nadir array having two (2) “staggered” green arrays. The Time-Delayed Integration (TDI) has been implemented for the first time in a pushbroom camera system. TDI, coupled with a high integration time, results in superior sensitivity and the ability to operate at high airspeeds. This is the input data for the digital orthophotos. The aerial imagery for the entire 0.25 meter project was acquired at approximately 2,774 meters (9,100 feet) above mean sea level. The aerial imagery for the entire 0.076 meter areas were acquired at approximately 1,006 meters (3,300 feet) above mean sea level</srcDesc><srcCitatn><resTitle>Colville, WA Raw ADS100 imagery</resTitle><resAltTitle>Aerial Imagery Acquisition</resAltTitle><date><pubDate>2017-10-31</pubDate></date><citRespParty><rpOrgName>Surdex Corp</rpOrgName><role><RoleCd value="006"/></role></citRespParty></srcCitatn><srcExt><exDesc>ground condition</exDesc><tempEle><TempExtent><exTemp><TM_Instant><tmPosition>2017-03-29</tmPosition></TM_Instant></exTemp></TempExtent></tempEle></srcExt></dataSource><dataSource><srcDesc>Horizontal and vertical ground control was used to establish positions and elevations for reference, correlation purposes and input to the aerotriangulation process. Control consists of photo identifiable groundd surveyed control for ground reference. A total of 78 points were surveyed. 54 were used for ground control and 24 were used for quality control.</srcDesc><srcCitatn><resTitle>Ground Survey</resTitle><resAltTitle>Ground Control</resAltTitle><date><pubDate>2017-10-31</pubDate></date><citRespParty><rpOrgName>Topcon</rpOrgName><role><RoleCd value="006"/></role></citRespParty></srcCitatn><srcExt><exDesc>Ground Condition</exDesc><tempEle><TempExtent><exTemp><TM_Period><tmBegin>2017-03-05</tmBegin><tmEnd>2017-03-29</tmEnd></TM_Period></exTemp></TempExtent></tempEle></srcExt></dataSource><dataSource><srcDesc>Client provided LiDAR data was checked and a bare earth DEM was created and utilized to orthorectify the project area.</srcDesc><srcCitatn><resTitle>LiDAR</resTitle><resAltTitle>ground control</resAltTitle><date><pubDate>2017-10-31</pubDate></date><citRespParty><rpOrgName>Surdex Corp</rpOrgName><role><RoleCd value="006"/></role></citRespParty></srcCitatn><srcExt><exDesc>ground condition</exDesc><tempEle><TempExtent><exTemp><TM_Instant><tmPosition>2017-03-05</tmPosition></TM_Instant></exTemp></TempExtent></tempEle></srcExt></dataSource><prcStep><stepDesc>The digital orthoimagery is comprised of a 4-band true color and near infrared image that is organized in four bands or channels which represents the red, green, blue and near infrared (R,G,B,IR) portions of the spectrum. The 0.25 meter pixel resolution ground sample distance (gsd) orthoimagery covers the entire State of Delaware. The 0.076-meter pixel resolution (gsd) orthoimagery covers select areas within the State of Delaware park system for the Department of Natural Resources and Environmental Control (DNREC), Division of Parks and Recreation. The imagery was acquired on March 05, 09, 20 and 29, 2017. Surdex's proprietary "Grouping Tool" is a highly specialized tool that plays a key role in image processing and all phases of generating the orthoimagery that covers all project tiles. The initial radiometric adjustments were performed on the imagery for each flight line attempting to reach the best possible histogram. The rectification process and the radiometrically balanced imagery on each flight line was accomplished by utilizing the Grouping Tool. Once grouping is complete, the operator selected a representative image within each group to prototype the image enhancement settings. This image will have the greatest dynamic range and number of near neutral areas among group images. Gamma (brightness), color adjustments, and adjustment to neutral metrics are first performed. This is done by applying corrections to each image group, driving the complete mosaic to agree with the metrics. Most metrics are easily computed from histogram information, the exception being the measurement of neutral objects that require technician inspection. Mosaic seamlines are autogenerated joining the ADS100 imagery strips. An initial QA/QC was performed by the technician to ensure that the mosaic seamlines were appropriately placed and that there was appropriate imagery coverage. After the seamlines are manually reviewed and corrected, the final image mosaic is cut into client specific tiles. All imagery was Aero Triangulated and processed in required projection: Delaware State Plane - horizontal datum is NAD83 - vertical datum is NAVD88 - units are in meters. The created tiles are reviewed again for anomalies and interactive radiometric adjustment applied where needed. QA/QC was performed looking for anomalies, smears and other indications of problems within the digital orthophoto creation process, interactive radiometric adjustment applied where needed. The final primary digital ortho product was delivered in 1700 meters x 1700 meters (2.89 square kilometers) GeoTIFF tiles.</stepDesc><stepDateTm>2017-04-21</stepDateTm><stepProc><rpIndName>Cornell Rowan</rpIndName><rpOrgName>Surdex Corp</rpOrgName><rpPosName>Project Manager</rpPosName><rpCntInfo><cntPhone><voiceNum>636.368.4400</voiceNum><faxNum>636.368.4461</faxNum></cntPhone><cntAddress addressType="both"><delPoint>520 Spirit of St Louis Blvd</delPoint><city>Chesterfield</city><adminArea>Missouri</adminArea><postCode>63005</postCode><country>US</country><eMailAdd>cornellr@surdex.com</eMailAdd></cntAddress><cntHours>Mon-Fri 8:30am to 5:00pm</cntHours></rpCntInfo><role><RoleCd value="009"/></role></stepProc><stepSrc type="used"><srcCitatn><resAltTitle>LiDAR</resAltTitle></srcCitatn></stepSrc><stepSrc type="produced"><srcCitatn><resAltTitle>ortho</resAltTitle></srcCitatn></stepSrc></prcStep></dataLineage></dqInfo><spatRepInfo><Georect><numDims Sync="TRUE">2</numDims><axisDimension type="001"><dimSize Sync="TRUE">618802</dimSize><dimResol><value Sync="TRUE" uom="m">0.250000</value></dimResol></axisDimension><axisDimension type="002">