{ "currentVersion": 11.1, "serviceDescription": "
Resolution: 0.25 Meter<\/SPAN><\/SPAN><\/P> Band: 3-band: G, R, NIR<\/SPAN><\/SPAN><\/P> EarthData<\/SPAN><\/SPAN>Delivered as 2010 tiles.<\/SPAN><\/SPAN>Each tile is 1.7km x 1.7km, 6800x6800 pixels, and 135MB (TIF). <\/SPAN><\/SPAN>SRS: NAD83 HARN Delaware State Plane meters<\/SPAN><\/SPAN>Scale: 1:2,400<\/SPAN><\/SPAN><\/P> This false color IR digital orthophotography, at a scale of 2,400, was produced for the State of Delaware for the purpose of statewide base mapping by EarthData International of Maryland, LLC.<\/SPAN><\/SPAN><\/P> Compliance with the accuracy standard was ensured by the placement of GPS ground control prior to the acquisition of aerial photography. The following checks were performed. 1. The ground control and airborne GPS data stream were validated through a fully analytical bundle aerotriangulation adjustment. The residuals of the adjustment met the required standards for accuracy which are 1 part in 10,000 of the flying height for the horizontal position (X and Y) and 1 part in 9,000 or better of the flying height in elevation (Z). 2. The DTM data was checked against the project control. The technician visited and confirmed the accuracy of the project mass points during initial compilation. 3. Digital orthophotography was validated through an inspection of edge matching and visual inspection for image quality<\/SPAN><\/SPAN><\/P> Aerial photography was acquired using a flight design that included a total of 1196 exposures in 20 North-South oriented flight line. Aerial photography was exposed on Kodak CIR film 1443, emulsion number 1133012. Aerial photography was supplemented with the simultaneous acquisition of airborne GPS data, which captured the ground coordinate for the nadir point of each photograph. Aerial photography was exposed at an altitude of 11,000' above mean terrain yielding an approximate scale of 1 / 21,600.<\/SPAN><\/P><\/DIV><\/DIV><\/DIV>",
"name": "DE_Imagery_SP/DE_Imagery_2002",
"description": " Resolution: 0.25 Meter<\/SPAN><\/SPAN><\/P> Band: 3-band: G, R, NIR<\/SPAN><\/SPAN><\/P> EarthData<\/SPAN><\/SPAN>Delivered as 2010 tiles.<\/SPAN><\/SPAN>Each tile is 1.7km x 1.7km, 6800x6800 pixels, and 135MB (TIF). <\/SPAN><\/SPAN>SRS: NAD83 HARN Delaware State Plane meters<\/SPAN><\/SPAN>Scale: 1:2,400<\/SPAN><\/SPAN><\/P> This false color IR digital orthophotography, at a scale of 2,400, was produced for the State of Delaware for the purpose of statewide base mapping by EarthData International of Maryland, LLC.<\/SPAN><\/SPAN><\/P> Compliance with the accuracy standard was ensured by the placement of GPS ground control prior to the acquisition of aerial photography. The following checks were performed. 1. The ground control and airborne GPS data stream were validated through a fully analytical bundle aerotriangulation adjustment. The residuals of the adjustment met the required standards for accuracy which are 1 part in 10,000 of the flying height for the horizontal position (X and Y) and 1 part in 9,000 or better of the flying height in elevation (Z). 2. The DTM data was checked against the project control. The technician visited and confirmed the accuracy of the project mass points during initial compilation. 3. Digital orthophotography was validated through an inspection of edge matching and visual inspection for image quality<\/SPAN><\/SPAN><\/P> Aerial photography was acquired using a flight design that included a total of 1196 exposures in 20 North-South oriented flight line. Aerial photography was exposed on Kodak CIR film 1443, emulsion number 1133012. Aerial photography was supplemented with the simultaneous acquisition of airborne GPS data, which captured the ground coordinate for the nadir point of each photograph. Aerial photography was exposed at an altitude of 11,000' above mean terrain yielding an approximate scale of 1 / 21,600.<\/SPAN><\/P><\/DIV><\/DIV><\/DIV>",
"extent": {
"xmin": 166499.875,
"ymin": 50000.125,
"xmax": 232799.875,
"ymax": 204700.125,
"spatialReference": {
"wkid": 26957,
"latestWkid": 26957
}
},
"initialExtent": {
"xmin": 166499.875,
"ymin": 50000.125,
"xmax": 232799.875,
"ymax": 204700.125,
"spatialReference": {
"wkid": 26957,
"latestWkid": 26957
}
},
"fullExtent": {
"xmin": 166499.875,
"ymin": 50000.125,
"xmax": 232799.875,
"ymax": 204700.125,
"spatialReference": {
"wkid": 26957,
"latestWkid": 26957
}
},
"sortableFields": "",
"bandCount": 3,
"pixelType": "U8",
"minValues": [
0,
0,
0
],
"maxValues": [
255,
255,
255
],
"meanValues": [
113.96005560260117,
105.7437771067119,
118.82646911055366
],
"stdvValues": [
56.185450293401516,
50.155083084720005,
49.36263452685784
],
"hasMultidimensions": false,
"pixelSizeX": 0.25,
"pixelSizeY": 0.25,
"datasetFormat": "AMD",
"uncompressedSize": 492317280000,
"blockWidth": 2048,
"blockHeight": 256,
"compressionType": "None",
"bandNames": [
"Band_1",
"Band_2",
"Band_3"
],
"allowCopy": true,
"allowAnalysis": true,
"itemAccess": false,
"minPixelSize": 0.26458386250105836,
"maxPixelSize": 2116.670900008467,
"copyrightText": "EarthData International of Maryland",
"serviceDataType": "esriImageServiceDataTypeProcessed",
"serviceSourceType": "esriImageServiceSourceTypeMosaicDataset",
"objectIdField": "OBJECTID",
"fields": [
{
"name": "OBJECTID",
"type": "esriFieldTypeOID",
"alias": "OBJECTID",
"domain": null
},
{
"name": "Shape",
"type": "esriFieldTypeGeometry",
"alias": "Shape",
"domain": null
},
{
"name": "Name",
"type": "esriFieldTypeString",
"alias": "Name",
"domain": null,
"length": 50
},
{
"name": "MinPS",
"type": "esriFieldTypeDouble",
"alias": "MinPS",
"domain": null
},
{
"name": "MaxPS",
"type": "esriFieldTypeDouble",
"alias": "MaxPS",
"domain": null
},
{
"name": "LowPS",
"type": "esriFieldTypeDouble",
"alias": "LowPS",
"domain": null
},
{
"name": "HighPS",
"type": "esriFieldTypeDouble",
"alias": "HighPS",
"domain": null
},
{
"name": "Category",
"type": "esriFieldTypeInteger",
"alias": "Category",
"domain": {
"type": "codedValue",
"name": "MosaicCatalogItemCategoryDomain",
"description": "Catalog item categories.",
"codedValues": [
{
"name": "Unknown",
"code": 0
},
{
"name": "Primary",
"code": 1
},
{
"name": "Overview",
"code": 2
},
{
"name": "Unprocessed Overview",
"code": 3
},
{
"name": "Partial Overview",
"code": 4
},
{
"name": "Inactive",
"code": 5
},
{
"name": "Uploaded",
"code": 253
},
{
"name": "Incomplete",
"code": 254
},
{
"name": "Custom",
"code": 255
}
],
"mergePolicy": "esriMPTDefaultValue",
"splitPolicy": "esriSPTDefaultValue"
}
},
{
"name": "Tag",
"type": "esriFieldTypeString",
"alias": "Tag",
"domain": null,
"length": 20
},
{
"name": "GroupName",
"type": "esriFieldTypeString",
"alias": "GroupName",
"domain": null,
"length": 50
},
{
"name": "ProductName",
"type": "esriFieldTypeString",
"alias": "ProductName",
"domain": null,
"length": 50
},
{
"name": "CenterX",
"type": "esriFieldTypeDouble",
"alias": "CenterX",
"domain": null
},
{
"name": "CenterY",
"type": "esriFieldTypeDouble",
"alias": "CenterY",
"domain": null
},
{
"name": "ZOrder",
"type": "esriFieldTypeInteger",
"alias": "ZOrder",
"domain": null
},
{
"name": "Shape_Length",
"type": "esriFieldTypeDouble",
"alias": "Shape_Length",
"domain": null
},
{
"name": "Shape_Area",
"type": "esriFieldTypeDouble",
"alias": "Shape_Area",
"domain": null
}
],
"capabilities": "Image,Metadata,Catalog,Mensuration",
"defaultMosaicMethod": "ByAttribute",
"allowedMosaicMethods": "ByAttribute,NorthWest,Center,LockRaster,Nadir,Viewpoint,Seamline,None",
"sortField": "LowPS",
"sortValue": "0",
"sortAscending": true,
"mosaicOperator": "First",
"maxDownloadSizeLimit": 2048,
"defaultCompressionQuality": 75,
"defaultResamplingMethod": "Bilinear",
"maxImageHeight": 500000,
"maxImageWidth": 500000,
"maxRecordCount": 1000,
"maxDownloadImageCount": 20,
"maxMosaicImageCount": 2000,
"singleFusedMapCache": true,
"tileInfo": {
"rows": 256,
"cols": 256,
"dpi": 96,
"format": "MIXED",
"compressionQuality": 65,
"origin": {
"x": -5423100,
"y": 5794600
},
"spatialReference": {
"wkid": 26957,
"latestWkid": 26957
},
"lods": [
{
"level": 0,
"resolution": 2116.670900008467,
"scale": 8000000
},
{
"level": 1,
"resolution": 1058.3354500042335,
"scale": 4000000
},
{
"level": 2,
"resolution": 529.1677250021168,
"scale": 2000000
},
{
"level": 3,
"resolution": 264.5838625010584,
"scale": 1000000
},
{
"level": 4,
"resolution": 132.2919312505292,
"scale": 500000
},
{
"level": 5,
"resolution": 66.1459656252646,
"scale": 250000
},
{
"level": 6,
"resolution": 33.0729828126323,
"scale": 125000
},
{
"level": 7,
"resolution": 16.933367200067735,
"scale": 64000
},
{
"level": 8,
"resolution": 8.466683600033868,
"scale": 32000
},
{
"level": 9,
"resolution": 4.233341800016934,
"scale": 16000
},
{
"level": 10,
"resolution": 2.116670900008467,
"scale": 8000
},
{
"level": 11,
"resolution": 1.0583354500042335,
"scale": 4000
},
{
"level": 12,
"resolution": 0.5291677250021167,
"scale": 2000
},
{
"level": 13,
"resolution": 0.26458386250105836,
"scale": 1000
}
]
},
"storageInfo": {
"storageFormat": "esriMapCacheStorageModeCompact",
"packetSize": 128
},
"cacheType": "Map",
"allowRasterFunction": true,
"rasterFunctionInfos": [
{
"name": "None",
"description": "A No-Op Function.",
"help": ""
}
],
"rasterTypeInfos": [
{
"name": "Raster Dataset",
"description": "Supports all ArcGIS Raster Datasets",
"help": ""
}
],
"mensurationCapabilities": "Basic",
"hasHistograms": true,
"hasColormap": false,
"hasRasterAttributeTable": false,
"minScale": 8000000,
"maxScale": 1000,
"exportTilesAllowed": false,
"supportsStatistics": true,
"supportsAdvancedQueries": true,
"editFieldsInfo": null,
"ownershipBasedAccessControlForRasters": null,
"allowComputeTiePoints": false,
"useStandardizedQueries": true,
"advancedQueryCapabilities": {
"useStandardizedQueries": true,
"supportsStatistics": true,
"supportsOrderBy": true,
"supportsDistinct": true,
"supportsPagination": true
},
"spatialReference": {
"wkid": 26957,
"latestWkid": 26957
}
}