{ "currentVersion": 11.3, "serviceDescription": "
This data set consists of 0.25-meter pixel resolution (approximately 0.82-foot), 4-band orthoimages covering the entire State of Delaware. With a total of 2,010 X 1700-meters by 1700-meters (2.89 square kilometers) full orthoimage tiles providing imagery in blocks on the ground with no \"no data\" space, the total area of the project is 5,808.9 square kilometers (2,242.83 square miles). This project also includes 0.076-meter pixel resolution (approximately 0.25-foot), 4-band orthoimages that covers select areas within the State of Delaware park system for the Department of Natural Resources and Environmental Control (DNREC), Division of Parks and Recreation. With each of the 1,268 X 622.6-meters by 622.6-meters (0.388 square kilometers) orthoimage tiles providing imagery in blocks on the ground, the total of the collective area is approximately 492.0 square kilometers (189.96 square miles). The 0.076 meter product is approximate in area because \"black data\" space is present in areas outside the official boundaries of the delivery tiles. There is no image overlap between adjacent tiles. An orthoimage is remotely sensed image data in which displacement of features in the image caused by terrain relief and sensor orientation have been mathematically removed. Orthoimagery combines the image characteristics of a photograph with the geometric qualities of a map. The design accuracy is estimated not to exceed 1.52-meters NSSDA 95% confidence (0.88-meters Root Mean Squared (RMSE) Error XY (0.62 meter RMSE X or Y). The projected coordinate system is Delaware State Plane. The horizontal datum is NAD83. The vertical datum is NAVD88. The units are in meters.<\/span><\/p><\/div><\/div><\/div>",
"name": "DE_Imagery/DE_Imagery_2017",
"description": " This data set consists of 0.25-meter pixel resolution (approximately 0.82-foot), 4-band orthoimages covering the entire State of Delaware. With a total of 2,010 X 1700-meters by 1700-meters (2.89 square kilometers) full orthoimage tiles providing imagery in blocks on the ground with no \"no data\" space, the total area of the project is 5,808.9 square kilometers (2,242.83 square miles). This project also includes 0.076-meter pixel resolution (approximately 0.25-foot), 4-band orthoimages that covers select areas within the State of Delaware park system for the Department of Natural Resources and Environmental Control (DNREC), Division of Parks and Recreation. With each of the 1,268 X 622.6-meters by 622.6-meters (0.388 square kilometers) orthoimage tiles providing imagery in blocks on the ground, the total of the collective area is approximately 492.0 square kilometers (189.96 square miles). The 0.076 meter product is approximate in area because \"black data\" space is present in areas outside the official boundaries of the delivery tiles. There is no image overlap between adjacent tiles. An orthoimage is remotely sensed image data in which displacement of features in the image caused by terrain relief and sensor orientation have been mathematically removed. Orthoimagery combines the image characteristics of a photograph with the geometric qualities of a map. The design accuracy is estimated not to exceed 1.52-meters NSSDA 95% confidence (0.88-meters Root Mean Squared (RMSE) Error XY (0.62 meter RMSE X or Y). The projected coordinate system is Delaware State Plane. The horizontal datum is NAD83. The vertical datum is NAVD88. The units are in meters.<\/span><\/p><\/div><\/div><\/div>",
"extent": {
"xmin": -8438849.0147,
"ymin": 4643169.792300001,
"xmax": -8353419.514699999,
"ymax": 4843285.292300001,
"spatialReference": {
"wkid": 102100,
"latestWkid": 3857
}
},
"initialExtent": {
"xmin": -8438849.0147,
"ymin": 4643169.792300001,
"xmax": -8353419.514699999,
"ymax": 4843285.292300001,
"spatialReference": {
"wkid": 102100,
"latestWkid": 3857
}
},
"fullExtent": {
"xmin": -8438849.0147,
"ymin": 4643169.792300001,
"xmax": -8353419.514699999,
"ymax": 4843285.292300001,
"spatialReference": {
"wkid": 102100,
"latestWkid": 3857
}
},
"sortableFields": "",
"bandCount": 4,
"pixelType": "U8",
"minValues": [],
"maxValues": [],
"meanValues": [],
"stdvValues": [],
"hasMultidimensions": false,
"pixelSizeX": 0.25,
"pixelSizeY": 0.25,
"meanPixelSize": 0.25,
"datasetFormat": "AMD",
"uncompressedSize": 1094129094864,
"blockWidth": 2048,
"blockHeight": 256,
"compressionType": "None",
"bandNames": [
"Red",
"Green",
"Blue",
"Infrared"
],
"allowCopy": true,
"allowAnalysis": true,
"itemAccess": false,
"inspectionCapabilities": "",
"minPixelSize": 0.14929107082380835,
"maxPixelSize": 2445.98490512499,
"copyrightText": "Surdex Corp",
"serviceDataType": "esriImageServiceDataTypeProcessed",
"serviceSourceType": "esriImageServiceSourceTypeMosaicDataset",
"objectIdField": "OBJECTID",
"fields": [
{
"name": "OBJECTID",
"type": "esriFieldTypeOID",
"alias": "OBJECTID",
"domain": null
},
{
"name": "Shape",
"type": "esriFieldTypeGeometry",
"alias": "Shape",
"domain": null
},
{
"name": "Name",
"type": "esriFieldTypeString",
"alias": "Name",
"domain": null,
"length": 200
},
{
"name": "MinPS",
"type": "esriFieldTypeDouble",
"alias": "MinPS",
"domain": null
},
{
"name": "MaxPS",
"type": "esriFieldTypeDouble",
"alias": "MaxPS",
"domain": null
},
{
"name": "LowPS",
"type": "esriFieldTypeDouble",
"alias": "LowPS",
"domain": null
},
{
"name": "HighPS",
"type": "esriFieldTypeDouble",
"alias": "HighPS",
"domain": null
},
{
"name": "Category",
"type": "esriFieldTypeInteger",
"alias": "Category",
"domain": {
"type": "codedValue",
"name": "MosaicCatalogItemCategoryDomain",
"description": "Catalog item categories.",
"codedValues": [
{
"name": "Unknown",
"code": 0
},
{
"name": "Primary",
"code": 1
},
{
"name": "Overview",
"code": 2
},
{
"name": "Unprocessed Overview",
"code": 3
},
{
"name": "Partial Overview",
"code": 4
},
{
"name": "Inactive",
"code": 5
},
{
"name": "Uploaded",
"code": 253
},
{
"name": "Incomplete",
"code": 254
},
{
"name": "Custom",
"code": 255
}
],
"mergePolicy": "esriMPTDefaultValue",
"splitPolicy": "esriSPTDefaultValue"
}
},
{
"name": "Tag",
"type": "esriFieldTypeString",
"alias": "Tag",
"domain": null,
"length": 100
},
{
"name": "GroupName",
"type": "esriFieldTypeString",
"alias": "GroupName",
"domain": null,
"length": 100
},
{
"name": "ProductName",
"type": "esriFieldTypeString",
"alias": "ProductName",
"domain": null,
"length": 100
},
{
"name": "CenterX",
"type": "esriFieldTypeDouble",
"alias": "CenterX",
"domain": null
},
{
"name": "CenterY",
"type": "esriFieldTypeDouble",
"alias": "CenterY",
"domain": null
},
{
"name": "ZOrder",
"type": "esriFieldTypeInteger",
"alias": "ZOrder",
"domain": null
},
{
"name": "Shape_Length",
"type": "esriFieldTypeDouble",
"alias": "Shape_Length",
"domain": null
},
{
"name": "Shape_Area",
"type": "esriFieldTypeDouble",
"alias": "Shape_Area",
"domain": null
}
],
"capabilities": "Catalog,Mensuration,Download,Image,Metadata",
"defaultMosaicMethod": "ByAttribute",
"allowedMosaicMethods": "ByAttribute,NorthWest,Center,LockRaster,Nadir,Viewpoint,Seamline,None",
"sortField": "LowPS",
"sortValue": "",
"sortAscending": true,
"mosaicOperator": "First",
"maxDownloadSizeLimit": 2048,
"defaultCompressionQuality": 75,
"defaultResamplingMethod": "Bilinear",
"maxImageHeight": 500000,
"maxImageWidth": 500000,
"maxRecordCount": 1000,
"maxDownloadImageCount": 20,
"maxMosaicImageCount": 2000,
"singleFusedMapCache": true,
"tileInfo": {
"rows": 256,
"cols": 256,
"dpi": 96,
"format": "MIXED",
"compressionQuality": 65,
"origin": {
"x": -2.0037508342787E7,
"y": 2.0037508342787E7
},
"spatialReference": {
"wkid": 102100,
"latestWkid": 3857
},
"lods": [
{
"level": 0,
"resolution": 2445.98490512499,
"scale": 9244648.868618
},
{
"level": 1,
"resolution": 1222.992452562495,
"scale": 4622324.434309
},
{
"level": 2,
"resolution": 611.4962262813797,
"scale": 2311162.217155
},
{
"level": 3,
"resolution": 305.74811314055756,
"scale": 1155581.108577
},
{
"level": 4,
"resolution": 152.87405657041106,
"scale": 577790.554289
},
{
"level": 5,
"resolution": 76.43702828507324,
"scale": 288895.277144
},
{
"level": 6,
"resolution": 38.21851414253662,
"scale": 144447.638572
},
{
"level": 7,
"resolution": 19.10925707126831,
"scale": 72223.819286
},
{
"level": 8,
"resolution": 9.554628535634155,
"scale": 36111.909643
},
{
"level": 9,
"resolution": 4.77731426794937,
"scale": 18055.954822
},
{
"level": 10,
"resolution": 2.388657133974685,
"scale": 9027.977411
},
{
"level": 11,
"resolution": 1.1943285668550503,
"scale": 4513.988705
},
{
"level": 12,
"resolution": 0.5971642835598172,
"scale": 2256.994353
},
{
"level": 13,
"resolution": 0.29858214164761665,
"scale": 1128.497176
},
{
"level": 14,
"resolution": 0.14929107082380833,
"scale": 564.248588
}
]
},
"storageInfo": {
"storageFormat": "esriMapCacheStorageModeCompactV2",
"packetSize": 128
},
"cacheType": "Map",
"allowRasterFunction": true,
"rasterFunctionInfos": [
{
"name": "None",
"description": "Make a Raster or Raster Dataset into a Function Raster Dataset.",
"help": ""
},
{
"name": "Infrared",
"description": "A raster function template.",
"help": ""
}
],
"rasterTypeInfos": [
{
"name": "Raster Dataset",
"description": "Supports all ArcGIS Raster Datasets",
"help": ""
}
],
"mensurationCapabilities": "",
"hasHistograms": false,
"hasColormap": false,
"hasRasterAttributeTable": false,
"minScale": 9244648.868618,
"maxScale": 564.248588,
"exportTilesAllowed": false,
"supportsStatistics": true,
"supportsAdvancedQueries": true,
"editFieldsInfo": null,
"ownershipBasedAccessControlForRasters": null,
"allowComputeTiePoints": false,
"useStandardizedQueries": true,
"advancedQueryCapabilities": {
"useStandardizedQueries": true,
"supportsStatistics": true,
"supportsOrderBy": true,
"supportsDistinct": true,
"supportsPagination": true
},
"spatialReference": {
"wkid": 102100,
"latestWkid": 3857
},
"resampling": false
}