<metadata xml:lang="en"><Esri><CreaDate>20141025</CreaDate><CreaTime>14485600</CreaTime><ArcGISFormat>1.0</ArcGISFormat><ArcGISstyle>Item Description</ArcGISstyle><SyncOnce>FALSE</SyncOnce><DataProperties><itemProps><itemName Sync="TRUE">DE_Imagery_2007_WM</itemName><nativeExtBox><westBL Sync="TRUE">-8438848.691500</westBL><eastBL Sync="TRUE">-8353419.191500</eastBL><southBL Sync="TRUE">4643170.542300</southBL><northBL Sync="TRUE">4843285.292300</northBL><exTypeCode Sync="TRUE">1</exTypeCode></nativeExtBox></itemProps><coordRef><type Sync="TRUE">Projected</type><geogcsn Sync="TRUE">GCS_WGS_1984</geogcsn><csUnits Sync="TRUE">Linear Unit: Meter (1.000000)</csUnits><projcsn Sync="TRUE">WGS_1984_Web_Mercator_Auxiliary_Sphere</projcsn><peXml Sync="TRUE">&lt;ProjectedCoordinateSystem xsi:type='typens:ProjectedCoordinateSystem' xmlns:xsi='http://www.w3.org/2001/XMLSchema-instance' xmlns:xs='http://www.w3.org/2001/XMLSchema' xmlns:typens='http://www.esri.com/schemas/ArcGIS/10.1'&gt;&lt;WKT&gt;PROJCS[&amp;quot;WGS_1984_Web_Mercator_Auxiliary_Sphere&amp;quot;,GEOGCS[&amp;quot;GCS_WGS_1984&amp;quot;,DATUM[&amp;quot;D_WGS_1984&amp;quot;,SPHEROID[&amp;quot;WGS_1984&amp;quot;,6378137.0,298.257223563]],PRIMEM[&amp;quot;Greenwich&amp;quot;,0.0],UNIT[&amp;quot;Degree&amp;quot;,0.0174532925199433]],PROJECTION[&amp;quot;Mercator_Auxiliary_Sphere&amp;quot;],PARAMETER[&amp;quot;False_Easting&amp;quot;,0.0],PARAMETER[&amp;quot;False_Northing&amp;quot;,0.0],PARAMETER[&amp;quot;Central_Meridian&amp;quot;,0.0],PARAMETER[&amp;quot;Standard_Parallel_1&amp;quot;,0.0],PARAMETER[&amp;quot;Auxiliary_Sphere_Type&amp;quot;,0.0],UNIT[&amp;quot;Meter&amp;quot;,1.0],AUTHORITY[&amp;quot;EPSG&amp;quot;,3857]]&lt;/WKT&gt;&lt;XOrigin&gt;-20037700&lt;/XOrigin&gt;&lt;YOrigin&gt;-30241100&lt;/YOrigin&gt;&lt;XYScale&gt;148923141.92838538&lt;/XYScale&gt;&lt;ZOrigin&gt;-100000&lt;/ZOrigin&gt;&lt;ZScale&gt;10000&lt;/ZScale&gt;&lt;MOrigin&gt;-100000&lt;/MOrigin&gt;&lt;MScale&gt;10000&lt;/MScale&gt;&lt;XYTolerance&gt;0.001&lt;/XYTolerance&gt;&lt;ZTolerance&gt;0.001&lt;/ZTolerance&gt;&lt;MTolerance&gt;0.001&lt;/MTolerance&gt;&lt;HighPrecision&gt;true&lt;/HighPrecision&gt;&lt;WKID&gt;102100&lt;/WKID&gt;&lt;LatestWKID&gt;3857&lt;/LatestWKID&gt;&lt;/ProjectedCoordinateSystem&gt;</peXml></coordRef><RasterProperties><General><PixelDepth Sync="TRUE">8</PixelDepth><HasColormap Sync="TRUE">FALSE</HasColormap><CompressionType Sync="TRUE">None</CompressionType><NumBands Sync="TRUE">3</NumBands><Format Sync="TRUE">AMD</Format><HasPyramids Sync="TRUE">TRUE</HasPyramids><SourceType Sync="TRUE">continuous</SourceType><PixelType Sync="TRUE">unsigned integer</PixelType><NoDataValue Sync="TRUE"/></General><Properties><MaxImageHeight Sync="TRUE">500000</MaxImageHeight><MaxImageWidth Sync="TRUE">500000</MaxImageWidth><MaxRecordCount Sync="TRUE">1000</MaxRecordCount><MaxDownloadImageCount Sync="TRUE">20</MaxDownloadImageCount><MaxDownloadSizeLimit Sync="TRUE">2048</MaxDownloadSizeLimit><MaxMosaicImageCount Sync="TRUE">2000</MaxMosaicImageCount><DefaultCompressionQuality Sync="TRUE">75</DefaultCompressionQuality><DefaultCompressionTolerance Sync="TRUE">0.01</DefaultCompressionTolerance><BlendWidth Sync="TRUE">10</BlendWidth><ViewpointSpacingX Sync="TRUE">600</ViewpointSpacingX><ViewpointSpacingY Sync="TRUE">300</ViewpointSpacingY><AllowedItemMetadata Sync="TRUE">Basic</AllowedItemMetadata><DefaultResamplingMethod Sync="TRUE">1</DefaultResamplingMethod><AllowedMosaicMethods Sync="TRUE">ByAttribute,NorthWest,Center,LockRaster,Nadir,Viewpoint,Seamline,None</AllowedMosaicMethods><AllowedCompressions Sync="TRUE">None,JPEG,LZ77,LERC</AllowedCompressions><AllowedMensurationCapabilities Sync="TRUE">Basic</AllowedMensurationCapabilities><AvailableMensurationCapabilities Sync="TRUE">None,Basic,Base-Top Height,Top-Top Shadow Height,Base-Top Shadow Height,3D</AvailableMensurationCapabilities><ClipToBoundary Sync="TRUE">-1</ClipToBoundary><FootprintMayContainNoData Sync="TRUE">-1</FootprintMayContainNoData><CellSizeTolerance Sync="TRUE">0.8</CellSizeTolerance><MinimumPixelContribution Sync="TRUE">1</MinimumPixelContribution><AvailableMosaicMethods Sync="TRUE">NorthWest,Center,LockRaster,ByAttribute,Nadir,Viewpoint,Seamline,None</AvailableMosaicMethods><AvailableCompressionMethods Sync="TRUE">None,JPEG,LZ77,LERC</AvailableCompressionMethods><AvailableItemMetadataLevels Sync="TRUE">None,Basic,Full</AvailableItemMetadataLevels><ConfigKeyword Sync="TRUE"/><BandDefinitionKeyword Sync="TRUE">NONE</BandDefinitionKeyword><AllowedFields Sync="TRUE">Name,MinPS,MaxPS,LowPS,HighPS,Tag,GroupName,ProductName,CenterX,CenterY,ZOrder,Shape_Length,Shape_Area</AllowedFields><LowCellSize Sync="TRUE">0.25</LowCellSize><HighCellSize Sync="TRUE">200</HighCellSize><MaxCellSize Sync="TRUE">10000</MaxCellSize><ApplyColorCorrection Sync="TRUE">0</ApplyColorCorrection><DataType Sync="TRUE">Processed</DataType><TimeValueFormat Sync="TRUE"/><EndTimeFieldName Sync="TRUE"/><StartTimeFieldName Sync="TRUE"/><MosaicOperator Sync="TRUE">1</MosaicOperator><BlendWidthUnits Sync="TRUE">1</BlendWidthUnits><UseTime Sync="TRUE">0</UseTime><SortAscending Sync="TRUE">-1</SortAscending><ClipToFootprint Sync="TRUE">0</ClipToFootprint><SortField Sync="TRUE">LowPS</SortField><SortValue Sync="TRUE">0</SortValue></Properties><Functions Sync="TRUE"><Function Description="Performs on-the-fly mosaic on a raster catalog." Name="Mosaic Function"/></Functions></RasterProperties></DataProperties><scaleRange><minScale>150000000</minScale><maxScale>5000</maxScale></scaleRange><SyncDate>20141025</SyncDate><SyncTime>14540100</SyncTime><ModDate>20191115</ModDate><ModTime>17112400</ModTime><ArcGISProfile>FGDC</ArcGISProfile></Esri><mdHrLv><ScopeCd value="005"/></mdHrLv><dataIdInfo><idCitation><resTitle Sync="FALSE">Delaware 2007 Orthophotography</resTitle><presForm><PresFormCd Sync="TRUE" value="005"/></presForm></idCitation><idPurp>Delaware 2007 Orthophotography</idPurp><idAbs>&lt;DIV STYLE="text-align:Left;"&gt;&lt;DIV&gt;&lt;DIV&gt;&lt;P STYLE="margin:0 0 0 0;"&gt;&lt;SPAN&gt;&lt;SPAN&gt;Resolution: 0.25 Meter&lt;/SPAN&gt;&lt;/SPAN&gt;&lt;/P&gt;&lt;P STYLE="margin:0 0 0 0;"&gt;&lt;SPAN&gt;&lt;SPAN&gt;Bands: 4-band: R,G,B,NIR&lt;/SPAN&gt;&lt;/SPAN&gt;&lt;/P&gt;&lt;P /&gt;&lt;P STYLE="margin:0 0 0 0;"&gt;&lt;SPAN&gt;&lt;SPAN&gt;Sanborn&lt;/SPAN&gt;&lt;/SPAN&gt;&lt;SPAN /&gt;&lt;SPAN&gt;&lt;SPAN&gt;Delivered as 2010 tiles.&lt;/SPAN&gt;&lt;/SPAN&gt;&lt;SPAN /&gt;&lt;SPAN&gt;&lt;SPAN&gt;Each tile is 1.7km x 1.7km, 6800x6800 pixels, and 180MB (TIF).&lt;/SPAN&gt;&lt;/SPAN&gt;&lt;SPAN /&gt;&lt;SPAN&gt;&lt;SPAN&gt;SRS: NAD83 HARN Delaware State Plane meters&lt;/SPAN&gt;&lt;/SPAN&gt;&lt;SPAN /&gt;&lt;SPAN&gt;&lt;SPAN&gt;Scale: 1:2,400&lt;/SPAN&gt;&lt;/SPAN&gt;&lt;/P&gt;&lt;P /&gt;&lt;P STYLE="margin:0 0 0 0;"&gt;&lt;SPAN&gt;&lt;SPAN&gt;This dataset contains digital 0.25 meter orthophotos of the State of Delaware at a scale of 1:2,400 in 4-band but are being served as 3-band RGB, 8-bit format from the DataMIL site. The dates for the Orthophotography missions were 3/19, 3/29, 3/30, 4/2, 4/3, 4/10, 4/14, 4/20 all in 2007.&lt;/SPAN&gt;&lt;/SPAN&gt;&lt;/P&gt;&lt;P /&gt;&lt;P STYLE="margin:0 0 0 0;"&gt;&lt;SPAN&gt;&lt;SPAN&gt;The orthophotos can be used for many purposes including development planning, emergency planning, and other planning or mapping purposes.&lt;/SPAN&gt;&lt;/SPAN&gt;&lt;/P&gt;&lt;P /&gt;&lt;P STYLE="margin:0 0 0 0;"&gt;&lt;SPAN&gt;ASPRS Class 1. This data has also been produced to be fully compliant with NSSDA Standards for mapping at a scale of 1:2,400. The dates for the Orthophotography missions were 3/19, 3/29, 3/30, 4/2, 4/3, 4/10, 4/14, 4/20 all in 2007.&lt;/SPAN&gt;&lt;/P&gt;&lt;/DIV&gt;&lt;/DIV&gt;&lt;/DIV&gt;</idAbs><idCredit>Sanborn Mapping Company</idCredit><searchKeys><keyword>Sussex County</keyword><keyword>Kent County</keyword><keyword>New Castle County</keyword><keyword>State of Delaware</keyword><keyword>USGS</keyword><keyword>Aerial Photo</keyword><keyword>Orthophoto</keyword></searchKeys><resConst><Consts><useLimit>&lt;DIV STYLE="text-align:Left;"&gt;&lt;DIV&gt;&lt;DIV&gt;&lt;P STYLE="margin:0 0 0 0;"&gt;&lt;SPAN&gt;Public Domain Information, with citation to “State of Delaware, USGS, Kent County, Sussex County, New Castle County and the City of Dover”.&lt;/SPAN&gt;&lt;/P&gt;&lt;/DIV&gt;&lt;/DIV&gt;&lt;/DIV&gt;</useLimit></Consts></resConst><envirDesc Sync="TRUE"> Version 6.2 (Build 9200) ; Esri ArcGIS 10.2.2.3552</envirDesc><dataLang><languageCode Sync="TRUE" value="eng"/><countryCode Sync="TRUE" value="USA"/></dataLang><spatRpType><SpatRepTypCd Sync="TRUE" value="002"/></spatRpType><dataExt><geoEle xmlns=""><GeoBndBox esriExtentType="search"><exTypeCode Sync="TRUE">1</exTypeCode><westBL Sync="TRUE">-75.807468</westBL><eastBL Sync="TRUE">-75.040041</eastBL><northBL Sync="TRUE">39.843908</northBL><southBL Sync="TRUE">38.449847</southBL></GeoBndBox></geoEle></dataExt></dataIdInfo><spatRepInfo><Georect><axisDimension type="002"><dimSize Sync="TRUE">341718</dimSize><dimResol><value Sync="TRUE" uom="Meter">0.250000</value></dimResol></axisDimension><axisDimension type="001"><dimSize Sync="TRUE">800459</dimSize><dimResol><value Sync="TRUE" uom="Meter">0.250000</value></dimResol></axisDimension><cellGeo><CellGeoCd Sync="TRUE" value="002"/></cellGeo><numDims Sync="TRUE">2</numDims><tranParaAv Sync="TRUE">1</tranParaAv><chkPtAv Sync="TRUE">0</chkPtAv><cornerPts><pos Sync="TRUE">-8438848.691500 4643170.542300</pos></cornerPts><cornerPts><pos Sync="TRUE">-8438848.691500 4843285.292300</pos></cornerPts><cornerPts><pos Sync="TRUE">-8353419.191500 4843285.292300</pos></cornerPts><cornerPts><pos Sync="TRUE">-8353419.191500 4643170.542300</pos></cornerPts><centerPt><pos Sync="TRUE">-8396133.941500 4743227.917300</pos></centerPt><ptInPixel><PixOrientCd Sync="TRUE" value="001"/></ptInPixel></Georect></spatRepInfo><contInfo><ImgDesc><covDim><Band><valUnit><UOM type="length"/></valUnit><dimDescrp Sync="TRUE">Band_1</dimDescrp><maxVal Sync="TRUE">255.000000</maxVal><minVal Sync="TRUE">13.000000</minVal><bitsPerVal Sync="TRUE">8</bitsPerVal></Band><Band><valUnit><UOM type="length"/></valUnit><dimDescrp Sync="TRUE">Band_2</dimDescrp><maxVal Sync="TRUE">255.000000</maxVal><minVal Sync="TRUE">4.000000</minVal><bitsPerVal Sync="TRUE">8</bitsPerVal></Band><Band><valUnit><UOM type="length"/></valUnit><dimDescrp Sync="TRUE">Band_3</dimDescrp><maxVal Sync="TRUE">255.000000</maxVal><minVal Sync="TRUE">13.000000</minVal><bitsPerVal Sync="TRUE">8</bitsPerVal></Band></covDim><contentTyp><ContentTypCd Sync="TRUE" value="001"/></contentTyp></ImgDesc></contInfo><mdLang><languageCode Sync="TRUE" value="eng"/><countryCode Sync="TRUE" value="USA"/></mdLang><refSysInfo><RefSystem><refSysID><identCode Sync="TRUE" code="3857"/><idCodeSpace Sync="TRUE">EPSG</idCodeSpace><idVersion Sync="TRUE">8.2.6</idVersion></refSysID></RefSystem></refSysInfo><mdDateSt Sync="TRUE">20191115</mdDateSt></metadata>
