{ "currentVersion": 11.3, "serviceDescription": "
Resolution: 1.0 Meter<\/SPAN><\/SPAN><\/P> Band: 1-band: Panchromatic<\/SPAN><\/SPAN><\/P> DelDOT<\/SPAN><\/SPAN>Delivered as 172 Quarter-quads.<\/SPAN><\/SPAN>Each tile is 45 MB (TIF).<\/SPAN><\/SPAN>SRS: NAD83 State Plane meters<\/SPAN><\/SPAN>Scale: 1:12,000<\/SPAN><\/SPAN><\/P> The State of Delaware contracted with Earth Data (formerly PhotoScience) to update the 1992 1-meter resolution color-IR digital orthophotos series for Delaware with a 1-meter resolution greyscale digital orthophoto series. The state was re-flown in March/April, 1997. The airphotos were digitized and georeferenced to Delaware State Plane coordinates (meters, North American Datum 1983, based on GRS 1980 spheroid). The source data are TIFF-format ~50 MB 8-bit greyscale files for each of the 172 quarter-quads in Delaware.<\/SPAN><\/SPAN><\/P> To disseminate these data on the web, the Spatial Analysis Lab (UD) resampled the 172 DOQ's covering the state to 5-meter resolution without changing projection, using a nearest-neighbor (i.e. center-cell selection) resampling procedure which generates a high-contrast image with some blockiness in very small features. Most images were brightened and contrast-enhanced using Adobe Photoshop. To reduce file size and eliminate sun glare, large water areas are masked to black. These files are distributed in JPEG format in the original DE State Plane (NAD83 meters) projection.<\/SPAN><\/P><\/DIV><\/DIV><\/DIV>",
"name": "DE_Imagery/DE_Imagery_1997",
"description": " Resolution: 1.0 Meter<\/SPAN><\/SPAN><\/P> Band: 1-band: Panchromatic<\/SPAN><\/SPAN><\/P> DelDOT<\/SPAN><\/SPAN>Delivered as 172 Quarter-quads.<\/SPAN><\/SPAN>Each tile is 45 MB (TIF).<\/SPAN><\/SPAN>SRS: NAD83 State Plane meters<\/SPAN><\/SPAN>Scale: 1:12,000<\/SPAN><\/SPAN><\/P> The State of Delaware contracted with Earth Data (formerly PhotoScience) to update the 1992 1-meter resolution color-IR digital orthophotos series for Delaware with a 1-meter resolution greyscale digital orthophoto series. The state was re-flown in March/April, 1997. The airphotos were digitized and georeferenced to Delaware State Plane coordinates (meters, North American Datum 1983, based on GRS 1980 spheroid). The source data are TIFF-format ~50 MB 8-bit greyscale files for each of the 172 quarter-quads in Delaware.<\/SPAN><\/SPAN><\/P> To disseminate these data on the web, the Spatial Analysis Lab (UD) resampled the 172 DOQ's covering the state to 5-meter resolution without changing projection, using a nearest-neighbor (i.e. center-cell selection) resampling procedure which generates a high-contrast image with some blockiness in very small features. Most images were brightened and contrast-enhanced using Adobe Photoshop. To reduce file size and eliminate sun glare, large water areas are masked to black. These files are distributed in JPEG format in the original DE State Plane (NAD83 meters) projection.<\/SPAN><\/P><\/DIV><\/DIV><\/DIV>",
"extent": {
"xmin": -8438849.3436,
"ymin": 4643170.944799997,
"xmax": -8353419.343599999,
"ymax": 4843285.944799997,
"spatialReference": {
"wkid": 102100,
"latestWkid": 3857
}
},
"initialExtent": {
"xmin": -8438849.3436,
"ymin": 4643170.944799997,
"xmax": -8353419.343599999,
"ymax": 4843285.944799997,
"spatialReference": {
"wkid": 102100,
"latestWkid": 3857
}
},
"fullExtent": {
"xmin": -8438849.3436,
"ymin": 4643170.944799997,
"xmax": -8353419.343599999,
"ymax": 4843285.944799997,
"spatialReference": {
"wkid": 102100,
"latestWkid": 3857
}
},
"sortableFields": "",
"bandCount": 3,
"pixelType": "U8",
"minValues": [
0,
0,
0
],
"maxValues": [
255,
255,
255
],
"meanValues": [
108.01916469830363,
108.01916469830363,
108.01916469830363
],
"stdvValues": [
45.84410156676858,
45.84410156676858,
45.84410156676858
],
"hasMultidimensions": false,
"pixelSizeX": 1,
"pixelSizeY": 1,
"meanPixelSize": 1,
"datasetFormat": "AMD",
"uncompressedSize": 51287473350,
"blockWidth": 2048,
"blockHeight": 256,
"compressionType": "None",
"bandNames": [
"Band_1",
"Band_2",
"Band_3"
],
"allowCopy": true,
"allowAnalysis": true,
"itemAccess": false,
"inspectionCapabilities": "",
"minPixelSize": 0.2985821416476167,
"maxPixelSize": 2445.98490512499,
"copyrightText": "State of Delaware Department of Transportation and EarthData",
"serviceDataType": "esriImageServiceDataTypeProcessed",
"serviceSourceType": "esriImageServiceSourceTypeMosaicDataset",
"objectIdField": "OBJECTID",
"fields": [
{
"name": "OBJECTID",
"type": "esriFieldTypeOID",
"alias": "OBJECTID",
"domain": null
},
{
"name": "Shape",
"type": "esriFieldTypeGeometry",
"alias": "Shape",
"domain": null
},
{
"name": "Name",
"type": "esriFieldTypeString",
"alias": "Name",
"domain": null,
"length": 50
},
{
"name": "MinPS",
"type": "esriFieldTypeDouble",
"alias": "MinPS",
"domain": null
},
{
"name": "MaxPS",
"type": "esriFieldTypeDouble",
"alias": "MaxPS",
"domain": null
},
{
"name": "LowPS",
"type": "esriFieldTypeDouble",
"alias": "LowPS",
"domain": null
},
{
"name": "HighPS",
"type": "esriFieldTypeDouble",
"alias": "HighPS",
"domain": null
},
{
"name": "Category",
"type": "esriFieldTypeInteger",
"alias": "Category",
"domain": {
"type": "codedValue",
"name": "MosaicCatalogItemCategoryDomain",
"description": "Catalog item categories.",
"codedValues": [
{
"name": "Unknown",
"code": 0
},
{
"name": "Primary",
"code": 1
},
{
"name": "Overview",
"code": 2
},
{
"name": "Unprocessed Overview",
"code": 3
},
{
"name": "Partial Overview",
"code": 4
},
{
"name": "Inactive",
"code": 5
},
{
"name": "Uploaded",
"code": 253
},
{
"name": "Incomplete",
"code": 254
},
{
"name": "Custom",
"code": 255
}
],
"mergePolicy": "esriMPTDefaultValue",
"splitPolicy": "esriSPTDefaultValue"
}
},
{
"name": "Tag",
"type": "esriFieldTypeString",
"alias": "Tag",
"domain": null,
"length": 20
},
{
"name": "GroupName",
"type": "esriFieldTypeString",
"alias": "GroupName",
"domain": null,
"length": 50
},
{
"name": "ProductName",
"type": "esriFieldTypeString",
"alias": "ProductName",
"domain": null,
"length": 50
},
{
"name": "CenterX",
"type": "esriFieldTypeDouble",
"alias": "CenterX",
"domain": null
},
{
"name": "CenterY",
"type": "esriFieldTypeDouble",
"alias": "CenterY",
"domain": null
},
{
"name": "ZOrder",
"type": "esriFieldTypeInteger",
"alias": "ZOrder",
"domain": null
},
{
"name": "Shape_Length",
"type": "esriFieldTypeDouble",
"alias": "Shape_Length",
"domain": null
},
{
"name": "Shape_Area",
"type": "esriFieldTypeDouble",
"alias": "Shape_Area",
"domain": null
}
],
"capabilities": "Image,Metadata,Catalog,Mensuration",
"defaultMosaicMethod": "ByAttribute",
"allowedMosaicMethods": "ByAttribute,NorthWest,Center,LockRaster,Nadir,Viewpoint,Seamline,None",
"sortField": "LowPS",
"sortValue": "0",
"sortAscending": true,
"mosaicOperator": "First",
"maxDownloadSizeLimit": 2048,
"defaultCompressionQuality": 75,
"defaultResamplingMethod": "Bilinear",
"maxImageHeight": 500000,
"maxImageWidth": 500000,
"maxRecordCount": 1000,
"maxDownloadImageCount": 20,
"maxMosaicImageCount": 2000,
"singleFusedMapCache": true,
"tileInfo": {
"rows": 256,
"cols": 256,
"dpi": 96,
"format": "MIXED",
"compressionQuality": 65,
"origin": {
"x": -2.0037508342787E7,
"y": 2.0037508342787E7
},
"spatialReference": {
"wkid": 102100,
"latestWkid": 3857
},
"lods": [
{
"level": 0,
"resolution": 156543.03392800014,
"scale": 5.91657527591555E8
},
{
"level": 1,
"resolution": 78271.51696399994,
"scale": 2.95828763795777E8
},
{
"level": 2,
"resolution": 39135.75848200009,
"scale": 1.47914381897889E8
},
{
"level": 3,
"resolution": 19567.87924099992,
"scale": 7.3957190948944E7
},
{
"level": 4,
"resolution": 9783.93962049996,
"scale": 3.6978595474472E7
},
{
"level": 5,
"resolution": 4891.96981024998,
"scale": 1.8489297737236E7
},
{
"level": 6,
"resolution": 2445.98490512499,
"scale": 9244648.868618
},
{
"level": 7,
"resolution": 1222.992452562495,
"scale": 4622324.434309
},
{
"level": 8,
"resolution": 611.4962262813797,
"scale": 2311162.217155
},
{
"level": 9,
"resolution": 305.74811314055756,
"scale": 1155581.108577
},
{
"level": 10,
"resolution": 152.87405657041106,
"scale": 577790.554289
},
{
"level": 11,
"resolution": 76.43702828507324,
"scale": 288895.277144
},
{
"level": 12,
"resolution": 38.21851414253662,
"scale": 144447.638572
},
{
"level": 13,
"resolution": 19.10925707126831,
"scale": 72223.819286
},
{
"level": 14,
"resolution": 9.554628535634155,
"scale": 36111.909643
},
{
"level": 15,
"resolution": 4.77731426794937,
"scale": 18055.954822
},
{
"level": 16,
"resolution": 2.388657133974685,
"scale": 9027.977411
},
{
"level": 17,
"resolution": 1.1943285668550503,
"scale": 4513.988705
},
{
"level": 18,
"resolution": 0.5971642835598172,
"scale": 2256.994353
},
{
"level": 19,
"resolution": 0.29858214164761665,
"scale": 1128.497176
}
]
},
"storageInfo": {
"storageFormat": "esriMapCacheStorageModeCompact",
"packetSize": 128
},
"cacheType": "Map",
"allowRasterFunction": true,
"rasterFunctionInfos": [
{
"name": "None",
"description": "",
"help": ""
}
],
"rasterTypeInfos": [
{
"name": "Raster Dataset",
"description": "Supports all ArcGIS Raster Datasets",
"help": ""
}
],
"mensurationCapabilities": "Basic",
"hasHistograms": true,
"hasColormap": false,
"hasRasterAttributeTable": false,
"minScale": 9244648.868618,
"maxScale": 1128.497176,
"exportTilesAllowed": false,
"supportsStatistics": true,
"supportsAdvancedQueries": true,
"editFieldsInfo": null,
"ownershipBasedAccessControlForRasters": null,
"allowComputeTiePoints": false,
"useStandardizedQueries": true,
"advancedQueryCapabilities": {
"useStandardizedQueries": true,
"supportsStatistics": true,
"supportsOrderBy": true,
"supportsDistinct": true,
"supportsPagination": true
},
"spatialReference": {
"wkid": 102100,
"latestWkid": 3857
}
}