{ "currentVersion": 11.1, "serviceDescription": "
Resolution: 1.0 Meter<\/SPAN><\/SPAN><\/P> Bands: 3-band: G, R, NIR<\/SPAN><\/SPAN><\/P> DelDOT<\/SPAN><\/SPAN>Delivered as 172 Quarter-quads.<\/SPAN><\/SPAN>Each tile is 137 MB (TIF).<\/SPAN><\/SPAN>Scale: 1:12,000<\/SPAN><\/SPAN>SRS: NAD83 State Plane meters<\/SPAN><\/SPAN><\/P> The State of Delaware contracted with PhotoScience Inc. to develop 1-meter resolution color-infrared digital ortho-photos for the entire state. PhotoScience Inc. became Earth Data International. For more detailed information about the source data, contact EarthData (http://www.earthdata.com). Airphotos were taken in March, 1992 at a 1:12000 scale, digitized and georeferenced to Delaware State Plane coordinates (meters, North American Datum 1983).<\/SPAN><\/SPAN><\/P> Airphotos were taken in March, 1992, digitized and georeferenced to Delaware State Plane coordinates (meters, North American Datum 1983, based on GRS 1980 spheroid). The source data are 140 MB 24-bit color files for each of the 172 quarter-quads in Delaware.<\/SPAN><\/SPAN><\/P> To facilitate dissemination of these data, the Spatial Analysis Lab resampled the 172 DOQ's covering the state to UTM coordinates (meters, NAD 1983) at 5-meter resolution in 8-bit color, achieving initial file size reductions of almost 99 percent. The Spatial Analysis Lab used a nearest-neighbor (i.e. center-cell selection) resampling procedure which generates a high-contrast image with some blockiness in very small features. Each transformation used four 3.75-minute-interval reference points located near the corners of each image. Each resampled image is approximately 1210 x 1510 pixels, with a 10-pixel (50-meter) border cropped out to eliminate slight edge skewness resulting from the reprojection. Images still have at least 500 meters of edge overlap. Color palettes were brightened and adjusted for improved consistency using Adobe Photoshop. Sun glare has been masked out of water pixels in most coastal images in order to correct color palettes.<\/SPAN><\/SPAN><\/P> Cell resolution is exactly 5 x 5 meters. The original 1992 and 1997 series have differing degrees of positional error, and thus are not perfectly congruent. Earth Data used a larger set of ground control points to geo-reference the 1997 series, so these should have better positional acuracy.<\/SPAN><\/SPAN><\/P> Most images were brightened and contrast-enhanced using Adobe Photoshop. To reduce file size and eliminate sun glare, large water areas are masked to black.<\/SPAN><\/SPAN><\/P><\/DIV><\/DIV><\/DIV>",
"name": "DE_Imagery/DE_Imagery_1992",
"description": " Resolution: 1.0 Meter<\/SPAN><\/SPAN><\/P> Bands: 3-band: G, R, NIR<\/SPAN><\/SPAN><\/P> DelDOT<\/SPAN><\/SPAN>Delivered as 172 Quarter-quads.<\/SPAN><\/SPAN>Each tile is 137 MB (TIF).<\/SPAN><\/SPAN>Scale: 1:12,000<\/SPAN><\/SPAN>SRS: NAD83 State Plane meters<\/SPAN><\/SPAN><\/P> The State of Delaware contracted with PhotoScience Inc. to develop 1-meter resolution color-infrared digital ortho-photos for the entire state. PhotoScience Inc. became Earth Data International. For more detailed information about the source data, contact EarthData (http://www.earthdata.com). Airphotos were taken in March, 1992 at a 1:12000 scale, digitized and georeferenced to Delaware State Plane coordinates (meters, North American Datum 1983).<\/SPAN><\/SPAN><\/P> Airphotos were taken in March, 1992, digitized and georeferenced to Delaware State Plane coordinates (meters, North American Datum 1983, based on GRS 1980 spheroid). The source data are 140 MB 24-bit color files for each of the 172 quarter-quads in Delaware.<\/SPAN><\/SPAN><\/P> To facilitate dissemination of these data, the Spatial Analysis Lab resampled the 172 DOQ's covering the state to UTM coordinates (meters, NAD 1983) at 5-meter resolution in 8-bit color, achieving initial file size reductions of almost 99 percent. The Spatial Analysis Lab used a nearest-neighbor (i.e. center-cell selection) resampling procedure which generates a high-contrast image with some blockiness in very small features. Each transformation used four 3.75-minute-interval reference points located near the corners of each image. Each resampled image is approximately 1210 x 1510 pixels, with a 10-pixel (50-meter) border cropped out to eliminate slight edge skewness resulting from the reprojection. Images still have at least 500 meters of edge overlap. Color palettes were brightened and adjusted for improved consistency using Adobe Photoshop. Sun glare has been masked out of water pixels in most coastal images in order to correct color palettes.<\/SPAN><\/SPAN><\/P> Cell resolution is exactly 5 x 5 meters. The original 1992 and 1997 series have differing degrees of positional error, and thus are not perfectly congruent. Earth Data used a larger set of ground control points to geo-reference the 1997 series, so these should have better positional acuracy.<\/SPAN><\/SPAN><\/P> Most images were brightened and contrast-enhanced using Adobe Photoshop. To reduce file size and eliminate sun glare, large water areas are masked to black.<\/SPAN><\/SPAN><\/P><\/DIV><\/DIV><\/DIV>",
"extent": {
"xmin": -8438849.3437,
"ymin": 4643170.965199999,
"xmax": -8353419.343699999,
"ymax": 4843285.965199999,
"spatialReference": {
"wkid": 102100,
"latestWkid": 3857
}
},
"initialExtent": {
"xmin": -8438849.3437,
"ymin": 4643170.965199999,
"xmax": -8353419.343699999,
"ymax": 4843285.965199999,
"spatialReference": {
"wkid": 102100,
"latestWkid": 3857
}
},
"fullExtent": {
"xmin": -8438849.3437,
"ymin": 4643170.965199999,
"xmax": -8353419.343699999,
"ymax": 4843285.965199999,
"spatialReference": {
"wkid": 102100,
"latestWkid": 3857
}
},
"sortableFields": "",
"bandCount": 3,
"pixelType": "U8",
"minValues": [
0,
0,
0
],
"maxValues": [
255,
255,
240
],
"meanValues": [
110.09233143670758,
81.06908282657015,
74.96520316720196
],
"stdvValues": [
53.74485539186882,
43.335681821570944,
37.54082725699155
],
"hasMultidimensions": false,
"pixelSizeX": 1,
"pixelSizeY": 1,
"datasetFormat": "AMD",
"uncompressedSize": 51287473350,
"blockWidth": 2048,
"blockHeight": 256,
"compressionType": "None",
"bandNames": [
"Band_1",
"Band_2",
"Band_3"
],
"allowCopy": true,
"allowAnalysis": true,
"itemAccess": false,
"minPixelSize": 0.2985821416476167,
"maxPixelSize": 2445.98490512499,
"copyrightText": "EarthData/PhotoScience Inc.",
"serviceDataType": "esriImageServiceDataTypeProcessed",
"serviceSourceType": "esriImageServiceSourceTypeMosaicDataset",
"objectIdField": "OBJECTID",
"fields": [
{
"name": "OBJECTID",
"type": "esriFieldTypeOID",
"alias": "OBJECTID",
"domain": null
},
{
"name": "Shape",
"type": "esriFieldTypeGeometry",
"alias": "Shape",
"domain": null
},
{
"name": "Name",
"type": "esriFieldTypeString",
"alias": "Name",
"domain": null,
"length": 50
},
{
"name": "MinPS",
"type": "esriFieldTypeDouble",
"alias": "MinPS",
"domain": null
},
{
"name": "MaxPS",
"type": "esriFieldTypeDouble",
"alias": "MaxPS",
"domain": null
},
{
"name": "LowPS",
"type": "esriFieldTypeDouble",
"alias": "LowPS",
"domain": null
},
{
"name": "HighPS",
"type": "esriFieldTypeDouble",
"alias": "HighPS",
"domain": null
},
{
"name": "Category",
"type": "esriFieldTypeInteger",
"alias": "Category",
"domain": {
"type": "codedValue",
"name": "MosaicCatalogItemCategoryDomain",
"description": "Catalog item categories.",
"codedValues": [
{
"name": "Unknown",
"code": 0
},
{
"name": "Primary",
"code": 1
},
{
"name": "Overview",
"code": 2
},
{
"name": "Unprocessed Overview",
"code": 3
},
{
"name": "Partial Overview",
"code": 4
},
{
"name": "Inactive",
"code": 5
},
{
"name": "Uploaded",
"code": 253
},
{
"name": "Incomplete",
"code": 254
},
{
"name": "Custom",
"code": 255
}
],
"mergePolicy": "esriMPTDefaultValue",
"splitPolicy": "esriSPTDefaultValue"
}
},
{
"name": "Tag",
"type": "esriFieldTypeString",
"alias": "Tag",
"domain": null,
"length": 20
},
{
"name": "GroupName",
"type": "esriFieldTypeString",
"alias": "GroupName",
"domain": null,
"length": 50
},
{
"name": "ProductName",
"type": "esriFieldTypeString",
"alias": "ProductName",
"domain": null,
"length": 50
},
{
"name": "CenterX",
"type": "esriFieldTypeDouble",
"alias": "CenterX",
"domain": null
},
{
"name": "CenterY",
"type": "esriFieldTypeDouble",
"alias": "CenterY",
"domain": null
},
{
"name": "ZOrder",
"type": "esriFieldTypeInteger",
"alias": "ZOrder",
"domain": null
},
{
"name": "Shape_Length",
"type": "esriFieldTypeDouble",
"alias": "Shape_Length",
"domain": null
},
{
"name": "Shape_Area",
"type": "esriFieldTypeDouble",
"alias": "Shape_Area",
"domain": null
}
],
"capabilities": "Image,Metadata,Catalog,Mensuration",
"defaultMosaicMethod": "ByAttribute",
"allowedMosaicMethods": "ByAttribute,NorthWest,Center,LockRaster,Nadir,Viewpoint,Seamline,None",
"sortField": "LowPS",
"sortValue": "0",
"sortAscending": true,
"mosaicOperator": "First",
"maxDownloadSizeLimit": 2048,
"defaultCompressionQuality": 75,
"defaultResamplingMethod": "Bilinear",
"maxImageHeight": 500000,
"maxImageWidth": 500000,
"maxRecordCount": 1000,
"maxDownloadImageCount": 20,
"maxMosaicImageCount": 2000,
"singleFusedMapCache": true,
"tileInfo": {
"rows": 256,
"cols": 256,
"dpi": 96,
"format": "MIXED",
"compressionQuality": 65,
"origin": {
"x": -2.0037508342787E7,
"y": 2.0037508342787E7
},
"spatialReference": {
"wkid": 102100,
"latestWkid": 3857
},
"lods": [
{
"level": 0,
"resolution": 156543.03392800014,
"scale": 5.91657527591555E8
},
{
"level": 1,
"resolution": 78271.51696399994,
"scale": 2.95828763795777E8
},
{
"level": 2,
"resolution": 39135.75848200009,
"scale": 1.47914381897889E8
},
{
"level": 3,
"resolution": 19567.87924099992,
"scale": 7.3957190948944E7
},
{
"level": 4,
"resolution": 9783.93962049996,
"scale": 3.6978595474472E7
},
{
"level": 5,
"resolution": 4891.96981024998,
"scale": 1.8489297737236E7
},
{
"level": 6,
"resolution": 2445.98490512499,
"scale": 9244648.868618
},
{
"level": 7,
"resolution": 1222.992452562495,
"scale": 4622324.434309
},
{
"level": 8,
"resolution": 611.4962262813797,
"scale": 2311162.217155
},
{
"level": 9,
"resolution": 305.74811314055756,
"scale": 1155581.108577
},
{
"level": 10,
"resolution": 152.87405657041106,
"scale": 577790.554289
},
{
"level": 11,
"resolution": 76.43702828507324,
"scale": 288895.277144
},
{
"level": 12,
"resolution": 38.21851414253662,
"scale": 144447.638572
},
{
"level": 13,
"resolution": 19.10925707126831,
"scale": 72223.819286
},
{
"level": 14,
"resolution": 9.554628535634155,
"scale": 36111.909643
},
{
"level": 15,
"resolution": 4.77731426794937,
"scale": 18055.954822
},
{
"level": 16,
"resolution": 2.388657133974685,
"scale": 9027.977411
},
{
"level": 17,
"resolution": 1.1943285668550503,
"scale": 4513.988705
},
{
"level": 18,
"resolution": 0.5971642835598172,
"scale": 2256.994353
},
{
"level": 19,
"resolution": 0.29858214164761665,
"scale": 1128.497176
}
]
},
"storageInfo": {
"storageFormat": "esriMapCacheStorageModeCompact",
"packetSize": 128
},
"cacheType": "Map",
"allowRasterFunction": true,
"rasterFunctionInfos": [
{
"name": "None",
"description": "",
"help": ""
}
],
"rasterTypeInfos": [
{
"name": "Raster Dataset",
"description": "Supports all ArcGIS Raster Datasets",
"help": ""
}
],
"mensurationCapabilities": "Basic",
"hasHistograms": true,
"hasColormap": false,
"hasRasterAttributeTable": false,
"minScale": 9244648.868618,
"maxScale": 1128.497176,
"exportTilesAllowed": false,
"supportsStatistics": true,
"supportsAdvancedQueries": true,
"editFieldsInfo": null,
"ownershipBasedAccessControlForRasters": null,
"allowComputeTiePoints": false,
"useStandardizedQueries": true,
"advancedQueryCapabilities": {
"useStandardizedQueries": true,
"supportsStatistics": true,
"supportsOrderBy": true,
"supportsDistinct": true,
"supportsPagination": true
},
"spatialReference": {
"wkid": 102100,
"latestWkid": 3857
}
}