<metadata xml:lang="en"><Esri><CreaDate>20141025</CreaDate><CreaTime>23564900</CreaTime><ArcGISFormat>1.0</ArcGISFormat><ArcGISstyle>Item Description</ArcGISstyle><SyncOnce>FALSE</SyncOnce><DataProperties><itemProps><itemName Sync="TRUE">DE_Imagery_1937_WM</itemName><nativeExtBox><westBL Sync="TRUE">-8438849.343600</westBL><eastBL Sync="TRUE">-8353418.343600</eastBL><southBL Sync="TRUE">4643171.944800</southBL><northBL Sync="TRUE">4843285.944800</northBL><exTypeCode Sync="TRUE">1</exTypeCode></nativeExtBox></itemProps><coordRef><type Sync="TRUE">Projected</type><geogcsn Sync="TRUE">GCS_WGS_1984</geogcsn><csUnits Sync="TRUE">Linear Unit: Meter (1.000000)</csUnits><projcsn Sync="TRUE">WGS_1984_Web_Mercator_Auxiliary_Sphere</projcsn><peXml Sync="TRUE">&lt;ProjectedCoordinateSystem xsi:type='typens:ProjectedCoordinateSystem' xmlns:xsi='http://www.w3.org/2001/XMLSchema-instance' xmlns:xs='http://www.w3.org/2001/XMLSchema' xmlns:typens='http://www.esri.com/schemas/ArcGIS/10.5'&gt;&lt;WKT&gt;PROJCS[&amp;quot;WGS_1984_Web_Mercator_Auxiliary_Sphere&amp;quot;,GEOGCS[&amp;quot;GCS_WGS_1984&amp;quot;,DATUM[&amp;quot;D_WGS_1984&amp;quot;,SPHEROID[&amp;quot;WGS_1984&amp;quot;,6378137.0,298.257223563]],PRIMEM[&amp;quot;Greenwich&amp;quot;,0.0],UNIT[&amp;quot;Degree&amp;quot;,0.0174532925199433]],PROJECTION[&amp;quot;Mercator_Auxiliary_Sphere&amp;quot;],PARAMETER[&amp;quot;False_Easting&amp;quot;,0.0],PARAMETER[&amp;quot;False_Northing&amp;quot;,0.0],PARAMETER[&amp;quot;Central_Meridian&amp;quot;,0.0],PARAMETER[&amp;quot;Standard_Parallel_1&amp;quot;,0.0],PARAMETER[&amp;quot;Auxiliary_Sphere_Type&amp;quot;,0.0],UNIT[&amp;quot;Meter&amp;quot;,1.0],AUTHORITY[&amp;quot;EPSG&amp;quot;,3857]]&lt;/WKT&gt;&lt;XOrigin&gt;-20037700&lt;/XOrigin&gt;&lt;YOrigin&gt;-30241100&lt;/YOrigin&gt;&lt;XYScale&gt;148923141.92838538&lt;/XYScale&gt;&lt;ZOrigin&gt;-100000&lt;/ZOrigin&gt;&lt;ZScale&gt;10000&lt;/ZScale&gt;&lt;MOrigin&gt;-100000&lt;/MOrigin&gt;&lt;MScale&gt;10000&lt;/MScale&gt;&lt;XYTolerance&gt;0.001&lt;/XYTolerance&gt;&lt;ZTolerance&gt;0.001&lt;/ZTolerance&gt;&lt;MTolerance&gt;0.001&lt;/MTolerance&gt;&lt;HighPrecision&gt;true&lt;/HighPrecision&gt;&lt;WKID&gt;102100&lt;/WKID&gt;&lt;LatestWKID&gt;3857&lt;/LatestWKID&gt;&lt;/ProjectedCoordinateSystem&gt;</peXml></coordRef><RasterProperties><General><PixelDepth Sync="TRUE">8</PixelDepth><HasColormap Sync="TRUE">FALSE</HasColormap><CompressionType Sync="TRUE">None</CompressionType><NumBands Sync="TRUE">3</NumBands><Format Sync="TRUE">AMD</Format><HasPyramids Sync="TRUE">TRUE</HasPyramids><SourceType Sync="TRUE">continuous</SourceType><PixelType Sync="TRUE">unsigned integer</PixelType><NoDataValue Sync="TRUE"/></General><Properties><MaxImageHeight Sync="TRUE">500000</MaxImageHeight><MaxImageWidth Sync="TRUE">500000</MaxImageWidth><MaxRecordCount Sync="TRUE">1000</MaxRecordCount><MaxDownloadImageCount Sync="TRUE">20</MaxDownloadImageCount><MaxDownloadSizeLimit Sync="TRUE">2048</MaxDownloadSizeLimit><MaxMosaicImageCount Sync="TRUE">2000</MaxMosaicImageCount><DefaultCompressionQuality Sync="TRUE">75</DefaultCompressionQuality><DefaultCompressionTolerance Sync="TRUE">0.01</DefaultCompressionTolerance><BlendWidth Sync="TRUE">10</BlendWidth><ViewpointSpacingX Sync="TRUE">600</ViewpointSpacingX><ViewpointSpacingY Sync="TRUE">300</ViewpointSpacingY><AllowedItemMetadata Sync="TRUE">Basic</AllowedItemMetadata><DefaultResamplingMethod Sync="TRUE">1</DefaultResamplingMethod><AllowedMosaicMethods Sync="TRUE">ByAttribute,NorthWest,Center,LockRaster,Nadir,Viewpoint,Seamline,None</AllowedMosaicMethods><AllowedCompressions Sync="TRUE">None,JPEG,LZ77,LERC</AllowedCompressions><AllowedMensurationCapabilities Sync="TRUE">Basic</AllowedMensurationCapabilities><AvailableMensurationCapabilities Sync="TRUE">None,Basic,Base-Top Height,Top-Top Shadow Height,Base-Top Shadow Height,3D</AvailableMensurationCapabilities><ClipToBoundary Sync="TRUE">-1</ClipToBoundary><FootprintMayContainNoData Sync="TRUE">-1</FootprintMayContainNoData><CellSizeTolerance Sync="TRUE">0.8</CellSizeTolerance><MinimumPixelContribution Sync="TRUE">1</MinimumPixelContribution><AvailableMosaicMethods Sync="TRUE">NorthWest,Center,LockRaster,ByAttribute,Nadir,Viewpoint,Seamline,None</AvailableMosaicMethods><AvailableCompressionMethods Sync="TRUE">None,JPEG,LZ77,LERC</AvailableCompressionMethods><AvailableItemMetadataLevels Sync="TRUE">None,Basic,Full</AvailableItemMetadataLevels><ConfigKeyword Sync="TRUE"/><BandDefinitionKeyword Sync="TRUE">NONE</BandDefinitionKeyword><AllowedFields Sync="TRUE">Name,MinPS,MaxPS,LowPS,HighPS,Tag,GroupName,ProductName,CenterX,CenterY,ZOrder,Shape_Length,Shape_Area</AllowedFields><LowCellSize Sync="TRUE">1</LowCellSize><HighCellSize Sync="TRUE">200</HighCellSize><MaxCellSize Sync="TRUE">10000</MaxCellSize><ApplyColorCorrection Sync="TRUE">0</ApplyColorCorrection><DataType Sync="TRUE">Processed</DataType><TimeValueFormat Sync="TRUE"/><EndTimeFieldName Sync="TRUE"/><StartTimeFieldName Sync="TRUE"/><MosaicOperator Sync="TRUE">1</MosaicOperator><BlendWidthUnits Sync="TRUE">1</BlendWidthUnits><UseTime Sync="TRUE">0</UseTime><SortAscending Sync="TRUE">-1</SortAscending><ClipToFootprint Sync="TRUE">0</ClipToFootprint><SortField Sync="TRUE">LowPS</SortField><SortValue Sync="TRUE">0</SortValue></Properties><Functions Sync="TRUE"><Function Description="Performs on-the-fly mosaic on a raster catalog." Name="Mosaic Function"/></Functions></RasterProperties></DataProperties><scaleRange><minScale>150000000</minScale><maxScale>5000</maxScale></scaleRange><SyncDate>20191105</SyncDate><SyncTime>14343700</SyncTime><ModDate>20191115</ModDate><ModTime>16595800</ModTime><ArcGISProfile>FGDC</ArcGISProfile></Esri><mdLang><languageCode value="eng"/><countryCode Sync="TRUE" value="USA"/></mdLang><mdChar><CharSetCd value="004"/></mdChar><mdHrLv><ScopeCd value="005"/></mdHrLv><mdStanName>ArcGIS Metadata</mdStanName><mdStanVer>1.0</mdStanVer><dataIdInfo><idCitation><resTitle Sync="FALSE">Delaware 1937 Orthophotography</resTitle><presForm><PresFormCd Sync="TRUE" value="005"/></presForm></idCitation><idPurp>Delaware 1937 Orthophotography</idPurp><idAbs>&lt;DIV STYLE="text-align:Left;"&gt;&lt;DIV&gt;&lt;DIV&gt;&lt;P STYLE="margin:0 0 0 0;"&gt;&lt;SPAN&gt;&lt;SPAN&gt;Resolution: 1.0 Meter&lt;/SPAN&gt;&lt;/SPAN&gt;&lt;/P&gt;&lt;P STYLE="margin:0 0 0 0;"&gt;&lt;SPAN&gt;&lt;SPAN&gt;Band: 1-band: Panchromatic&lt;/SPAN&gt;&lt;/SPAN&gt;&lt;/P&gt;&lt;P /&gt;&lt;P STYLE="margin:0 0 0 0;"&gt;&lt;SPAN&gt;&lt;SPAN&gt;USDA Agricultural Adjustment Administration&lt;/SPAN&gt;&lt;/SPAN&gt;&lt;SPAN /&gt;&lt;SPAN&gt;&lt;SPAN&gt;Black and White&lt;/SPAN&gt;&lt;/SPAN&gt;&lt;SPAN /&gt;&lt;SPAN&gt;&lt;SPAN&gt;Scanned and georectified using ERDAS Imagine&lt;/SPAN&gt;&lt;/SPAN&gt;&lt;SPAN /&gt;&lt;SPAN&gt;&lt;SPAN&gt;Flying height 40,000 feet, 6-inch focal length camera&lt;/SPAN&gt;&lt;/SPAN&gt;&lt;SPAN /&gt;&lt;SPAN&gt;&lt;SPAN&gt;Scale: 1:20,000&lt;/SPAN&gt;&lt;/SPAN&gt;&lt;SPAN /&gt;&lt;SPAN&gt;&lt;SPAN&gt;SRS: NAD83 HARN Delaware State Plane meters&lt;/SPAN&gt;&lt;/SPAN&gt;&lt;/P&gt;&lt;P /&gt;&lt;P STYLE="margin:0 0 0 0;"&gt;&lt;SPAN&gt;&lt;SPAN&gt;These are scanned images from aerial photography flow in 1937/38 by the Agricultural Stabilization and Conservation Service, maintained by the National Archives. These images are presented as individual tiles, county-wide and state-wide mosaics. Initial purpose was to provide base for digitizing Historic Forest Cover in Delaware. The data set could be used for other similar change analyses.&lt;/SPAN&gt;&lt;/SPAN&gt;&lt;/P&gt;&lt;P /&gt;&lt;P STYLE="margin:0 0 0 0;"&gt;&lt;SPAN&gt;1. Heads-up digitizing was used to create ground control points on the 1937 Images using the 1997 Imagery as a reference. Every attempt was made to create GCPs at a standard scale of 1:3,000, however, due to photo quality this was not always possible. The scanned images were then registered to those points. The ground control points were stored for each image tile along with the RMS error from the registration process. See the included tutorial file for more detail on the registration process. This document was used for training and reference by staff members doing the processing. 2. Registered images (1937 Corrected) were subsetted (i.e. cropped) to remove photograph borders, fiducial marks, and distorted edges. 3. Image subsets (1937 Sub) were grouped together by county and combined into image mosaics.&lt;/SPAN&gt;&lt;/P&gt;&lt;/DIV&gt;&lt;/DIV&gt;&lt;/DIV&gt;</idAbs><idCredit>USDA Agricultural Stabilization and Conservation Service</idCredit><searchKeys><keyword>aerial photography</keyword><keyword>scanned images</keyword><keyword>historic images</keyword><keyword>forest mapping</keyword><keyword>orthophotography</keyword><keyword>imageryBaseMapsEarthCover</keyword><keyword>Delaware</keyword><keyword>Sussex County</keyword><keyword>Kent County</keyword><keyword>New Castle County</keyword><keyword>Newark</keyword><keyword>Georgetown</keyword><keyword>Lewes</keyword><keyword>Rehoboth Beach</keyword><keyword>Dover</keyword><keyword>Wilmington</keyword><keyword>Smyrna</keyword><keyword>Delaware River</keyword><keyword>Delaware Bay</keyword></searchKeys><resConst><Consts><useLimit>&lt;DIV STYLE="text-align:Left;"&gt;&lt;DIV&gt;&lt;DIV&gt;&lt;P STYLE="margin:0 0 0 4;"&gt;&lt;SPAN&gt;Public Domain Information, with citation to Delaware Archives, National Archives and Agricultural Stabilization and Conservation Service for the photography&lt;/SPAN&gt;&lt;/P&gt;&lt;/DIV&gt;&lt;/DIV&gt;&lt;/DIV&gt;</useLimit></Consts></resConst><envirDesc Sync="TRUE"> Version 6.2 (Build 9200) ; Esri ArcGIS 10.5.1.7333</envirDesc><dataLang><languageCode Sync="TRUE" value="eng"/><countryCode Sync="TRUE" value="USA"/></dataLang><spatRpType><SpatRepTypCd Sync="TRUE" value="002"/></spatRpType><dataExt><geoEle xmlns=""><GeoBndBox esriExtentType="search"><exTypeCode Sync="TRUE">1</exTypeCode><westBL Sync="TRUE">-75.807473</westBL><eastBL Sync="TRUE">-75.040034</eastBL><northBL Sync="TRUE">39.843913</northBL><southBL Sync="TRUE">38.449857</southBL></GeoBndBox></geoEle></dataExt></dataIdInfo><spatRepInfo><Georect><axisDimension type="002"><dimSize Sync="TRUE">85431</dimSize><dimResol><value Sync="TRUE" uom="m">1.000000</value></dimResol></axisDimension><axisDimension type="001"><dimSize Sync="TRUE">200114</dimSize><dimResol><value Sync="TRUE" uom="m">1.000000</value></dimResol></axisDimension><cellGeo><CellGeoCd Sync="TRUE" value="002"/></cellGeo><numDims Sync="TRUE">2</numDims><tranParaAv Sync="TRUE">1</tranParaAv><chkPtAv Sync="TRUE">0</chkPtAv><cornerPts><pos Sync="TRUE">-8438849.343600 4643171.944800</pos></cornerPts><cornerPts><pos Sync="TRUE">-8438849.343600 4843285.944800</pos></cornerPts><cornerPts><pos Sync="TRUE">-8353418.343600 4843285.944800</pos></cornerPts><cornerPts><pos Sync="TRUE">-8353418.343600 4643171.944800</pos></cornerPts><centerPt><pos Sync="TRUE">-8396133.843600 4743228.944800</pos></centerPt><ptInPixel><PixOrientCd Sync="TRUE" value="001"/></ptInPixel></Georect></spatRepInfo><contInfo><ImgDesc><covDim><Band><valUnit><UOM type="length"/></valUnit><dimDescrp Sync="TRUE">Band_1</dimDescrp><maxVal Sync="TRUE">255.000000</maxVal><minVal Sync="TRUE">0.000000</minVal><bitsPerVal Sync="TRUE">8</bitsPerVal></Band><Band><valUnit><UOM type="length"/></valUnit><dimDescrp Sync="TRUE">Band_2</dimDescrp><maxVal Sync="TRUE">255.000000</maxVal><minVal Sync="TRUE">0.000000</minVal><bitsPerVal Sync="TRUE">8</bitsPerVal></Band><Band><valUnit><UOM type="length"/></valUnit><dimDescrp Sync="TRUE">Band_3</dimDescrp><maxVal Sync="TRUE">255.000000</maxVal><minVal Sync="TRUE">0.000000</minVal><bitsPerVal Sync="TRUE">8</bitsPerVal></Band></covDim><contentTyp><ContentTypCd Sync="TRUE" value="001"/></contentTyp></ImgDesc></contInfo><refSysInfo><RefSystem><refSysID><identCode Sync="TRUE" code="3857"/><idCodeSpace Sync="TRUE">EPSG</idCodeSpace><idVersion Sync="TRUE">8.8(9.3.1.2)</idVersion></refSysID></RefSystem></refSysInfo><mdDateSt Sync="TRUE">20191115</mdDateSt></metadata>
